BEGIN:VCALENDAR
VERSION:2.0
PRODID:-//Quilting Guild of The Villages - ECPv6.15.20//NONSGML v1.0//EN
CALSCALE:GREGORIAN
METHOD:PUBLISH
X-ORIGINAL-URL:https://qgotv.org
X-WR-CALDESC:Events for Quilting Guild of The Villages
REFRESH-INTERVAL;VALUE=DURATION:PT1H
X-Robots-Tag:noindex
X-PUBLISHED-TTL:PT1H
BEGIN:VTIMEZONE
TZID:America/New_York
BEGIN:DAYLIGHT
TZOFFSETFROM:-0500
TZOFFSETTO:-0400
TZNAME:EDT
DTSTART:20220313T070000
END:DAYLIGHT
BEGIN:STANDARD
TZOFFSETFROM:-0400
TZOFFSETTO:-0500
TZNAME:EST
DTSTART:20221106T060000
END:STANDARD
BEGIN:DAYLIGHT
TZOFFSETFROM:-0500
TZOFFSETTO:-0400
TZNAME:EDT
DTSTART:20230312T070000
END:DAYLIGHT
BEGIN:STANDARD
TZOFFSETFROM:-0400
TZOFFSETTO:-0500
TZNAME:EST
DTSTART:20231105T060000
END:STANDARD
BEGIN:DAYLIGHT
TZOFFSETFROM:-0500
TZOFFSETTO:-0400
TZNAME:EDT
DTSTART:20240310T070000
END:DAYLIGHT
BEGIN:STANDARD
TZOFFSETFROM:-0400
TZOFFSETTO:-0500
TZNAME:EST
DTSTART:20241103T060000
END:STANDARD
END:VTIMEZONE
BEGIN:VEVENT
DTSTART;TZID=America/New_York:20230212T110000
DTEND;TZID=America/New_York:20230212T163000
DTSTAMP:20260419T144719
CREATED:20221129T233159Z
LAST-MODIFIED:20230109T140709Z
UID:10000997-1676199600-1676219400@qgotv.org
SUMMARY:Dear Jane 2023 Group
DESCRIPTION:Craft Room
URL:https://qgotv.org/event/dear-jane-2023-group/2023-02-12/
LOCATION:Laurel Manor\, 1985 Laurel Manor Dr.\, The Villages\, FL\, 32162\, United States
CATEGORIES:Open Sews
END:VEVENT
BEGIN:VEVENT
DTSTART;TZID=America/New_York:20230212T113000
DTEND;TZID=America/New_York:20230212T153000
DTSTAMP:20260419T144719
CREATED:20221129T204209Z
LAST-MODIFIED:20230126T032926Z
UID:10000775-1676201400-1676215800@qgotv.org
SUMMARY:Sunday at Sterling Hosted by Fenney Sewcialites Chapter
DESCRIPTION:Demo on first Sunday in Feb is the Dresden Plate Block at 1 pm. \nJoin us for Sunday Sew. Enjoy the company of your fellow guild members while you work on your own project. Who knows? You might finish a UFO!
URL:https://qgotv.org/event/sunday-at-sterling-hosted-by-fenney-sewcialites-chapter/2023-02-12/
LOCATION:Sterling Heights Recreation Center\, 2508 St Charles Pl.\, The Villages\, FL\, 32162\, United States
CATEGORIES:Open Sews,Sundays at Sterling
ORGANIZER;CN="Yvonne Wecker":MAILTO:qgotvVP@gmail.com
END:VEVENT
END:VCALENDAR