BEGIN:VCALENDAR
VERSION:2.0
PRODID:-//Quilting Guild of The Villages - ECPv6.15.20//NONSGML v1.0//EN
CALSCALE:GREGORIAN
METHOD:PUBLISH
X-ORIGINAL-URL:https://qgotv.org
X-WR-CALDESC:Events for Quilting Guild of The Villages
REFRESH-INTERVAL;VALUE=DURATION:PT1H
X-Robots-Tag:noindex
X-PUBLISHED-TTL:PT1H
BEGIN:VTIMEZONE
TZID:America/New_York
BEGIN:DAYLIGHT
TZOFFSETFROM:-0500
TZOFFSETTO:-0400
TZNAME:EDT
DTSTART:20230312T070000
END:DAYLIGHT
BEGIN:STANDARD
TZOFFSETFROM:-0400
TZOFFSETTO:-0500
TZNAME:EST
DTSTART:20231105T060000
END:STANDARD
BEGIN:DAYLIGHT
TZOFFSETFROM:-0500
TZOFFSETTO:-0400
TZNAME:EDT
DTSTART:20240310T070000
END:DAYLIGHT
BEGIN:STANDARD
TZOFFSETFROM:-0400
TZOFFSETTO:-0500
TZNAME:EST
DTSTART:20241103T060000
END:STANDARD
BEGIN:DAYLIGHT
TZOFFSETFROM:-0500
TZOFFSETTO:-0400
TZNAME:EDT
DTSTART:20250309T070000
END:DAYLIGHT
BEGIN:STANDARD
TZOFFSETFROM:-0400
TZOFFSETTO:-0500
TZNAME:EST
DTSTART:20251102T060000
END:STANDARD
END:VTIMEZONE
BEGIN:VEVENT
DTSTART;TZID=America/New_York:20240424T190000
DTEND;TZID=America/New_York:20240424T205000
DTSTAMP:20260423T044719
CREATED:20231223T165916Z
LAST-MODIFIED:20240920T112941Z
UID:10001416-1713985200-1713991800@qgotv.org
SUMMARY:Long Range Planning (LRP)- Cancelled
DESCRIPTION:Clementine Room
URL:https://qgotv.org/event/long-range-planning-lrp-2/2024-04-24/
LOCATION:Moyer Recreation Center\, 3000 Moyer Loop\, The Villages\, FL\, 32163\, United States
CATEGORIES:Guild Committee Meetings
END:VEVENT
END:VCALENDAR