BEGIN:VCALENDAR
VERSION:2.0
PRODID:-//Quilting Guild of The Villages - ECPv6.15.20//NONSGML v1.0//EN
CALSCALE:GREGORIAN
METHOD:PUBLISH
X-WR-CALNAME:Quilting Guild of The Villages
X-ORIGINAL-URL:https://qgotv.org
X-WR-CALDESC:Events for Quilting Guild of The Villages
REFRESH-INTERVAL;VALUE=DURATION:PT1H
X-Robots-Tag:noindex
X-PUBLISHED-TTL:PT1H
BEGIN:VTIMEZONE
TZID:America/New_York
BEGIN:DAYLIGHT
TZOFFSETFROM:-0500
TZOFFSETTO:-0400
TZNAME:EDT
DTSTART:20220313T070000
END:DAYLIGHT
BEGIN:STANDARD
TZOFFSETFROM:-0400
TZOFFSETTO:-0500
TZNAME:EST
DTSTART:20221106T060000
END:STANDARD
BEGIN:DAYLIGHT
TZOFFSETFROM:-0500
TZOFFSETTO:-0400
TZNAME:EDT
DTSTART:20230312T070000
END:DAYLIGHT
BEGIN:STANDARD
TZOFFSETFROM:-0400
TZOFFSETTO:-0500
TZNAME:EST
DTSTART:20231105T060000
END:STANDARD
BEGIN:DAYLIGHT
TZOFFSETFROM:-0500
TZOFFSETTO:-0400
TZNAME:EDT
DTSTART:20240310T070000
END:DAYLIGHT
BEGIN:STANDARD
TZOFFSETFROM:-0400
TZOFFSETTO:-0500
TZNAME:EST
DTSTART:20241103T060000
END:STANDARD
END:VTIMEZONE
BEGIN:VEVENT
DTSTART;TZID=America/New_York:20231001T113000
DTEND;TZID=America/New_York:20231001T153000
DTSTAMP:20260422T055226
CREATED:20221225T001826Z
LAST-MODIFIED:20221225T001826Z
UID:10000944-1696159800-1696174200@qgotv.org
SUMMARY:Sunday at Sterling Hosted by Manatee Chapter
DESCRIPTION:Join us for Sunday Sew. Enjoy the company of your fellow guild members while you work on your own project. Who knows? You might finish a UFO!
URL:https://qgotv.org/event/sunday-at-sterling-hosted-by-manatee-chapter/2023-10-01/
LOCATION:Sterling Heights Recreation Center\, 2508 St Charles Pl.\, The Villages\, FL\, 32162\, United States
CATEGORIES:Open Sews,Sundays at Sterling
ORGANIZER;CN="Yvonne Wecker":MAILTO:qgotvVP@gmail.com
END:VEVENT
BEGIN:VEVENT
DTSTART;TZID=America/New_York:20231004T090000
DTEND;TZID=America/New_York:20231004T153000
DTSTAMP:20260422T055226
CREATED:20230704T164257Z
LAST-MODIFIED:20230827T192605Z
UID:10001183-1696410000-1696433400@qgotv.org
SUMMARY:Fidget Mat Workshop
DESCRIPTION:In Lake Miona and Savannah Rooms
URL:https://qgotv.org/event/visiting-artist-workshop-with-tbd/
LOCATION:Rohan Recreation Center\, 850 Kristine Way\, The Villages\, FL\, 32163\, United States
CATEGORIES:Classes,Open Sews,Special Event
END:VEVENT
BEGIN:VEVENT
DTSTART;TZID=America/New_York:20231008T110000
DTEND;TZID=America/New_York:20231008T163000
DTSTAMP:20260422T055226
CREATED:20221129T233159Z
LAST-MODIFIED:20230109T140709Z
UID:10001005-1696762800-1696782600@qgotv.org
SUMMARY:Dear Jane 2023 Group
DESCRIPTION:Craft Room
URL:https://qgotv.org/event/dear-jane-2023-group/2023-10-08/
LOCATION:Laurel Manor\, 1985 Laurel Manor Dr.\, The Villages\, FL\, 32162\, United States
CATEGORIES:Open Sews
END:VEVENT
BEGIN:VEVENT
DTSTART;TZID=America/New_York:20231008T113000
DTEND;TZID=America/New_York:20231008T153000
DTSTAMP:20260422T055226
CREATED:20221225T001826Z
LAST-MODIFIED:20221225T001826Z
UID:10000945-1696764600-1696779000@qgotv.org
SUMMARY:Sunday at Sterling Hosted by Manatee Chapter
DESCRIPTION:Join us for Sunday Sew. Enjoy the company of your fellow guild members while you work on your own project. Who knows? You might finish a UFO!
URL:https://qgotv.org/event/sunday-at-sterling-hosted-by-manatee-chapter/2023-10-08/
LOCATION:Sterling Heights Recreation Center\, 2508 St Charles Pl.\, The Villages\, FL\, 32162\, United States
CATEGORIES:Open Sews,Sundays at Sterling
ORGANIZER;CN="Yvonne Wecker":MAILTO:qgotvVP@gmail.com
END:VEVENT
BEGIN:VEVENT
DTSTART;TZID=America/New_York:20231014T090000
DTEND;TZID=America/New_York:20231014T153000
DTSTAMP:20260422T055226
CREATED:20230827T192739Z
LAST-MODIFIED:20230827T192739Z
UID:10001292-1697274000-1697297400@qgotv.org
SUMMARY:Fidget Mat Workshop II
DESCRIPTION:In Admiral Halsey (craft) room
URL:https://qgotv.org/event/fidget-mat-workshop-ii/
LOCATION:Eisenhower\, 3560 Buena Vista Blvd\, The Villages\, FL\, 32163\, United States
CATEGORIES:Classes,Open Sews,Special Event
END:VEVENT
BEGIN:VEVENT
DTSTART;TZID=America/New_York:20231015T113000
DTEND;TZID=America/New_York:20231015T153000
DTSTAMP:20260422T055226
CREATED:20221225T001826Z
LAST-MODIFIED:20221225T001826Z
UID:10000946-1697369400-1697383800@qgotv.org
SUMMARY:Sunday at Sterling Hosted by Manatee Chapter
DESCRIPTION:Join us for Sunday Sew. Enjoy the company of your fellow guild members while you work on your own project. Who knows? You might finish a UFO!
URL:https://qgotv.org/event/sunday-at-sterling-hosted-by-manatee-chapter/2023-10-15/
LOCATION:Sterling Heights Recreation Center\, 2508 St Charles Pl.\, The Villages\, FL\, 32162\, United States
CATEGORIES:Open Sews,Sundays at Sterling
ORGANIZER;CN="Yvonne Wecker":MAILTO:qgotvVP@gmail.com
END:VEVENT
BEGIN:VEVENT
DTSTART;TZID=America/New_York:20231022T113000
DTEND;TZID=America/New_York:20231022T153000
DTSTAMP:20260422T055226
CREATED:20221225T001826Z
LAST-MODIFIED:20221225T001826Z
UID:10000947-1697974200-1697988600@qgotv.org
SUMMARY:Sunday at Sterling Hosted by Manatee Chapter
DESCRIPTION:Join us for Sunday Sew. Enjoy the company of your fellow guild members while you work on your own project. Who knows? You might finish a UFO!
URL:https://qgotv.org/event/sunday-at-sterling-hosted-by-manatee-chapter/2023-10-22/
LOCATION:Sterling Heights Recreation Center\, 2508 St Charles Pl.\, The Villages\, FL\, 32162\, United States
CATEGORIES:Open Sews,Sundays at Sterling
ORGANIZER;CN="Yvonne Wecker":MAILTO:qgotvVP@gmail.com
END:VEVENT
BEGIN:VEVENT
DTSTART;TZID=America/New_York:20231029T113000
DTEND;TZID=America/New_York:20231029T153000
DTSTAMP:20260422T055226
CREATED:20221225T001826Z
LAST-MODIFIED:20221225T001826Z
UID:10000948-1698579000-1698593400@qgotv.org
SUMMARY:Sunday at Sterling Hosted by Manatee Chapter
DESCRIPTION:Join us for Sunday Sew. Enjoy the company of your fellow guild members while you work on your own project. Who knows? You might finish a UFO!
URL:https://qgotv.org/event/sunday-at-sterling-hosted-by-manatee-chapter/2023-10-29/
LOCATION:Sterling Heights Recreation Center\, 2508 St Charles Pl.\, The Villages\, FL\, 32162\, United States
CATEGORIES:Open Sews,Sundays at Sterling
ORGANIZER;CN="Yvonne Wecker":MAILTO:qgotvVP@gmail.com
END:VEVENT
END:VCALENDAR