BEGIN:VCALENDAR
VERSION:2.0
PRODID:-//Quilting Guild of The Villages - ECPv6.15.20//NONSGML v1.0//EN
CALSCALE:GREGORIAN
METHOD:PUBLISH
X-WR-CALNAME:Quilting Guild of The Villages
X-ORIGINAL-URL:https://qgotv.org
X-WR-CALDESC:Events for Quilting Guild of The Villages
REFRESH-INTERVAL;VALUE=DURATION:PT1H
X-Robots-Tag:noindex
X-PUBLISHED-TTL:PT1H
BEGIN:VTIMEZONE
TZID:America/New_York
BEGIN:DAYLIGHT
TZOFFSETFROM:-0500
TZOFFSETTO:-0400
TZNAME:EDT
DTSTART:20220313T070000
END:DAYLIGHT
BEGIN:STANDARD
TZOFFSETFROM:-0400
TZOFFSETTO:-0500
TZNAME:EST
DTSTART:20221106T060000
END:STANDARD
BEGIN:DAYLIGHT
TZOFFSETFROM:-0500
TZOFFSETTO:-0400
TZNAME:EDT
DTSTART:20230312T070000
END:DAYLIGHT
BEGIN:STANDARD
TZOFFSETFROM:-0400
TZOFFSETTO:-0500
TZNAME:EST
DTSTART:20231105T060000
END:STANDARD
BEGIN:DAYLIGHT
TZOFFSETFROM:-0500
TZOFFSETTO:-0400
TZNAME:EDT
DTSTART:20240310T070000
END:DAYLIGHT
BEGIN:STANDARD
TZOFFSETFROM:-0400
TZOFFSETTO:-0500
TZNAME:EST
DTSTART:20241103T060000
END:STANDARD
BEGIN:DAYLIGHT
TZOFFSETFROM:-0500
TZOFFSETTO:-0400
TZNAME:EDT
DTSTART:20250309T070000
END:DAYLIGHT
BEGIN:STANDARD
TZOFFSETFROM:-0400
TZOFFSETTO:-0500
TZNAME:EST
DTSTART:20251102T060000
END:STANDARD
END:VTIMEZONE
BEGIN:VEVENT
DTSTART;TZID=America/New_York:20231112T113000
DTEND;TZID=America/New_York:20231112T153000
DTSTAMP:20260424T060522
CREATED:20221225T001921Z
LAST-MODIFIED:20221225T001921Z
UID:10000955-1699788600-1699803000@qgotv.org
SUMMARY:Sunday at Sterling Hosted by Moyer Citrus Stitchers Chapter
DESCRIPTION:Join us for Sunday Sew. Enjoy the company of your fellow guild members while you work on your own project. Who knows? You might finish a UFO!
URL:https://qgotv.org/event/sunday-at-sterling-hosted-by-moyer-citrus-stitchers-chapter/2023-11-12/
LOCATION:Sterling Heights Recreation Center\, 2508 St Charles Pl.\, The Villages\, FL\, 32162\, United States
CATEGORIES:Open Sews,Sundays at Sterling
ORGANIZER;CN="Yvonne Wecker":MAILTO:qgotvVP@gmail.com
END:VEVENT
BEGIN:VEVENT
DTSTART;TZID=America/New_York:20231119T113000
DTEND;TZID=America/New_York:20231119T153000
DTSTAMP:20260424T060522
CREATED:20221225T001921Z
LAST-MODIFIED:20221225T001921Z
UID:10000956-1700393400-1700407800@qgotv.org
SUMMARY:Sunday at Sterling Hosted by Moyer Citrus Stitchers Chapter
DESCRIPTION:Join us for Sunday Sew. Enjoy the company of your fellow guild members while you work on your own project. Who knows? You might finish a UFO!
URL:https://qgotv.org/event/sunday-at-sterling-hosted-by-moyer-citrus-stitchers-chapter/2023-11-19/
LOCATION:Sterling Heights Recreation Center\, 2508 St Charles Pl.\, The Villages\, FL\, 32162\, United States
CATEGORIES:Open Sews,Sundays at Sterling
ORGANIZER;CN="Yvonne Wecker":MAILTO:qgotvVP@gmail.com
END:VEVENT
BEGIN:VEVENT
DTSTART;TZID=America/New_York:20231126T113000
DTEND;TZID=America/New_York:20231126T153000
DTSTAMP:20260424T060522
CREATED:20221225T001921Z
LAST-MODIFIED:20221225T001921Z
UID:10000957-1700998200-1701012600@qgotv.org
SUMMARY:Sunday at Sterling Hosted by Moyer Citrus Stitchers Chapter
DESCRIPTION:Join us for Sunday Sew. Enjoy the company of your fellow guild members while you work on your own project. Who knows? You might finish a UFO!
URL:https://qgotv.org/event/sunday-at-sterling-hosted-by-moyer-citrus-stitchers-chapter/2023-11-26/
LOCATION:Sterling Heights Recreation Center\, 2508 St Charles Pl.\, The Villages\, FL\, 32162\, United States
CATEGORIES:Open Sews,Sundays at Sterling
ORGANIZER;CN="Yvonne Wecker":MAILTO:qgotvVP@gmail.com
END:VEVENT
BEGIN:VEVENT
DTSTART;TZID=America/New_York:20231203T113000
DTEND;TZID=America/New_York:20231203T153000
DTSTAMP:20260424T060522
CREATED:20221225T002024Z
LAST-MODIFIED:20221225T002024Z
UID:10000962-1701603000-1701617400@qgotv.org
SUMMARY:Sunday at Sterling Hosted by Mulberry Chapter
DESCRIPTION:Join us for Sunday Sew. Enjoy the company of your fellow guild members while you work on your own project. Who knows? You might finish a UFO!
URL:https://qgotv.org/event/sunday-at-sterling-hosted-by-mulberry-chapter/
LOCATION:Sterling Heights Recreation Center\, 2508 St Charles Pl.\, The Villages\, FL\, 32162\, United States
CATEGORIES:Open Sews,Sundays at Sterling
ORGANIZER;CN="Yvonne Wecker":MAILTO:qgotvVP@gmail.com
END:VEVENT
BEGIN:VEVENT
DTSTART;TZID=America/New_York:20231210T110000
DTEND;TZID=America/New_York:20231210T163000
DTSTAMP:20260424T060522
CREATED:20221129T233159Z
LAST-MODIFIED:20230109T140709Z
UID:10001007-1702206000-1702225800@qgotv.org
SUMMARY:Dear Jane 2023 Group
DESCRIPTION:Craft Room
URL:https://qgotv.org/event/dear-jane-2023-group/2023-12-10/
LOCATION:Laurel Manor\, 1985 Laurel Manor Dr.\, The Villages\, FL\, 32162\, United States
CATEGORIES:Open Sews
END:VEVENT
BEGIN:VEVENT
DTSTART;TZID=America/New_York:20231210T113000
DTEND;TZID=America/New_York:20231210T153000
DTSTAMP:20260424T060522
CREATED:20231205T164406Z
LAST-MODIFIED:20231205T165345Z
UID:10000963-1702207800-1702222200@qgotv.org
SUMMARY:Sunday at Sterling Hosted by Mulberry Chapter
DESCRIPTION:Join us for Sunday Sew. Enjoy the company of your fellow guild members while you work on your own project. Who knows? You might finish a UFO!
URL:https://qgotv.org/event/sunday-at-sterling-hosted-by-mulberry-chapter-2/2023-12-10/
LOCATION:Sterling Heights Recreation Center\, 2508 St Charles Pl.\, The Villages\, FL\, 32162\, United States
CATEGORIES:Open Sews,Sundays at Sterling
ORGANIZER;CN="Yvonne Wecker":MAILTO:qgotvVP@gmail.com
END:VEVENT
BEGIN:VEVENT
DTSTART;TZID=America/New_York:20231217T113000
DTEND;TZID=America/New_York:20231217T153000
DTSTAMP:20260424T060522
CREATED:20231205T164406Z
LAST-MODIFIED:20231205T165345Z
UID:10001308-1702812600-1702827000@qgotv.org
SUMMARY:Sunday at Sterling Hosted by Mulberry Chapter
DESCRIPTION:Join us for Sunday Sew. Enjoy the company of your fellow guild members while you work on your own project. Who knows? You might finish a UFO!
URL:https://qgotv.org/event/sunday-at-sterling-hosted-by-mulberry-chapter-2/2023-12-17/
LOCATION:Sterling Heights Recreation Center\, 2508 St Charles Pl.\, The Villages\, FL\, 32162\, United States
CATEGORIES:Open Sews,Sundays at Sterling
ORGANIZER;CN="Yvonne Wecker":MAILTO:qgotvVP@gmail.com
END:VEVENT
BEGIN:VEVENT
DTSTART;TZID=America/New_York:20231231T070000
DTEND;TZID=America/New_York:20240101T210000
DTSTAMP:20260424T060522
CREATED:20231205T164815Z
LAST-MODIFIED:20231223T145034Z
UID:10001306-1704006000-1704142800@qgotv.org
SUMMARY:Sunday at Sterling - Facility Closed for Lifestyle Group Activities
DESCRIPTION:Facility closed due for Holiday maintenance
URL:https://qgotv.org/event/sunday-at-sterling-facility-closed/
LOCATION:Sterling Heights Recreation Center\, 2508 St Charles Pl.\, The Villages\, FL\, 32162\, United States
CATEGORIES:Open Sews,Sundays at Sterling
ORGANIZER;CN="Yvonne Wecker":MAILTO:qgotvVP@gmail.com
END:VEVENT
BEGIN:VEVENT
DTSTART;TZID=America/New_York:20240107T113000
DTEND;TZID=America/New_York:20240107T153000
DTSTAMP:20260424T060522
CREATED:20221226T192712Z
LAST-MODIFIED:20230329T215945Z
UID:10000981-1704627000-1704641400@qgotv.org
SUMMARY:Sunday at Sterling Hosted by Patchwork Garden Chapter
DESCRIPTION:Join us for Sunday Sew. Enjoy the company of your fellow guild members while you work on your own project. Who knows? You might finish a UFO! \nPlanned Demo at 1 pm is:
URL:https://qgotv.org/event/sunday-at-sterling-hosted-by-patchwork-garden-chapter-2/2024-01-07/
LOCATION:Sterling Heights Recreation Center\, 2508 St Charles Pl.\, The Villages\, FL\, 32162\, United States
CATEGORIES:Open Sews,Sundays at Sterling
ORGANIZER;CN="Yvonne Wecker":MAILTO:qgotvVP@gmail.com
END:VEVENT
BEGIN:VEVENT
DTSTART;TZID=America/New_York:20240114T110000
DTEND;TZID=America/New_York:20240114T163000
DTSTAMP:20260424T060522
CREATED:20231223T145303Z
LAST-MODIFIED:20231223T145303Z
UID:10001008-1705230000-1705249800@qgotv.org
SUMMARY:Dear Jane 2024 Group
DESCRIPTION:Craft Room
URL:https://qgotv.org/event/dear-jane-2023-group-2/2024-01-14/
LOCATION:Laurel Manor\, 1985 Laurel Manor Dr.\, The Villages\, FL\, 32162\, United States
CATEGORIES:Open Sews
END:VEVENT
BEGIN:VEVENT
DTSTART;TZID=America/New_York:20240114T113000
DTEND;TZID=America/New_York:20240114T153000
DTSTAMP:20260424T060522
CREATED:20221226T192712Z
LAST-MODIFIED:20230329T215945Z
UID:10000982-1705231800-1705246200@qgotv.org
SUMMARY:Sunday at Sterling Hosted by Patchwork Garden Chapter
DESCRIPTION:Join us for Sunday Sew. Enjoy the company of your fellow guild members while you work on your own project. Who knows? You might finish a UFO! \nPlanned Demo at 1 pm is:
URL:https://qgotv.org/event/sunday-at-sterling-hosted-by-patchwork-garden-chapter-2/2024-01-14/
LOCATION:Sterling Heights Recreation Center\, 2508 St Charles Pl.\, The Villages\, FL\, 32162\, United States
CATEGORIES:Open Sews,Sundays at Sterling
ORGANIZER;CN="Yvonne Wecker":MAILTO:qgotvVP@gmail.com
END:VEVENT
BEGIN:VEVENT
DTSTART;TZID=America/New_York:20240121T113000
DTEND;TZID=America/New_York:20240121T153000
DTSTAMP:20260424T060522
CREATED:20221226T192712Z
LAST-MODIFIED:20230329T215945Z
UID:10000983-1705836600-1705851000@qgotv.org
SUMMARY:Sunday at Sterling Hosted by Patchwork Garden Chapter
DESCRIPTION:Join us for Sunday Sew. Enjoy the company of your fellow guild members while you work on your own project. Who knows? You might finish a UFO! \nPlanned Demo at 1 pm is:
URL:https://qgotv.org/event/sunday-at-sterling-hosted-by-patchwork-garden-chapter-2/2024-01-21/
LOCATION:Sterling Heights Recreation Center\, 2508 St Charles Pl.\, The Villages\, FL\, 32162\, United States
CATEGORIES:Open Sews,Sundays at Sterling
ORGANIZER;CN="Yvonne Wecker":MAILTO:qgotvVP@gmail.com
END:VEVENT
BEGIN:VEVENT
DTSTART;TZID=America/New_York:20240128T113000
DTEND;TZID=America/New_York:20240128T153000
DTSTAMP:20260424T060522
CREATED:20221226T192712Z
LAST-MODIFIED:20230329T215945Z
UID:10000984-1706441400-1706455800@qgotv.org
SUMMARY:Sunday at Sterling Hosted by Patchwork Garden Chapter
DESCRIPTION:Join us for Sunday Sew. Enjoy the company of your fellow guild members while you work on your own project. Who knows? You might finish a UFO! \nPlanned Demo at 1 pm is:
URL:https://qgotv.org/event/sunday-at-sterling-hosted-by-patchwork-garden-chapter-2/2024-01-28/
LOCATION:Sterling Heights Recreation Center\, 2508 St Charles Pl.\, The Villages\, FL\, 32162\, United States
CATEGORIES:Open Sews,Sundays at Sterling
ORGANIZER;CN="Yvonne Wecker":MAILTO:qgotvVP@gmail.com
END:VEVENT
BEGIN:VEVENT
DTSTART;TZID=America/New_York:20240204T113000
DTEND;TZID=America/New_York:20240204T153000
DTSTAMP:20260424T060522
CREATED:20221226T203112Z
LAST-MODIFIED:20230329T220120Z
UID:10000989-1707046200-1707060600@qgotv.org
SUMMARY:Sunday at Sterling Hosted by Piecemakers Chapter
DESCRIPTION:Join us for Sunday Sew. Enjoy the company of your fellow guild members while you work on your own project. Who knows? You might finish a UFO!
URL:https://qgotv.org/event/sunday-at-sterling-hosted-by-piecemakers-chapter/2024-02-04/
LOCATION:Sterling Heights Recreation Center\, 2508 St Charles Pl.\, The Villages\, FL\, 32162\, United States
CATEGORIES:Open Sews,Sundays at Sterling
ORGANIZER;CN="Yvonne Wecker":MAILTO:qgotvVP@gmail.com
END:VEVENT
BEGIN:VEVENT
DTSTART;TZID=America/New_York:20240211T110000
DTEND;TZID=America/New_York:20240211T163000
DTSTAMP:20260424T060522
CREATED:20231223T145303Z
LAST-MODIFIED:20231223T145303Z
UID:10001009-1707649200-1707669000@qgotv.org
SUMMARY:Dear Jane 2024 Group
DESCRIPTION:Craft Room
URL:https://qgotv.org/event/dear-jane-2023-group-2/2024-02-11/
LOCATION:Laurel Manor\, 1985 Laurel Manor Dr.\, The Villages\, FL\, 32162\, United States
CATEGORIES:Open Sews
END:VEVENT
BEGIN:VEVENT
DTSTART;TZID=America/New_York:20240211T113000
DTEND;TZID=America/New_York:20240211T153000
DTSTAMP:20260424T060522
CREATED:20221226T203112Z
LAST-MODIFIED:20230329T220120Z
UID:10000990-1707651000-1707665400@qgotv.org
SUMMARY:Sunday at Sterling Hosted by Piecemakers Chapter
DESCRIPTION:Join us for Sunday Sew. Enjoy the company of your fellow guild members while you work on your own project. Who knows? You might finish a UFO!
URL:https://qgotv.org/event/sunday-at-sterling-hosted-by-piecemakers-chapter/2024-02-11/
LOCATION:Sterling Heights Recreation Center\, 2508 St Charles Pl.\, The Villages\, FL\, 32162\, United States
CATEGORIES:Open Sews,Sundays at Sterling
ORGANIZER;CN="Yvonne Wecker":MAILTO:qgotvVP@gmail.com
END:VEVENT
BEGIN:VEVENT
DTSTART;TZID=America/New_York:20240218T113000
DTEND;TZID=America/New_York:20240218T153000
DTSTAMP:20260424T060522
CREATED:20221226T203112Z
LAST-MODIFIED:20230329T220120Z
UID:10000991-1708255800-1708270200@qgotv.org
SUMMARY:Sunday at Sterling Hosted by Piecemakers Chapter
DESCRIPTION:Join us for Sunday Sew. Enjoy the company of your fellow guild members while you work on your own project. Who knows? You might finish a UFO!
URL:https://qgotv.org/event/sunday-at-sterling-hosted-by-piecemakers-chapter/2024-02-18/
LOCATION:Sterling Heights Recreation Center\, 2508 St Charles Pl.\, The Villages\, FL\, 32162\, United States
CATEGORIES:Open Sews,Sundays at Sterling
ORGANIZER;CN="Yvonne Wecker":MAILTO:qgotvVP@gmail.com
END:VEVENT
BEGIN:VEVENT
DTSTART;TZID=America/New_York:20240225T113000
DTEND;TZID=America/New_York:20240225T153000
DTSTAMP:20260424T060522
CREATED:20221226T203112Z
LAST-MODIFIED:20230329T220120Z
UID:10000992-1708860600-1708875000@qgotv.org
SUMMARY:Sunday at Sterling Hosted by Piecemakers Chapter
DESCRIPTION:Join us for Sunday Sew. Enjoy the company of your fellow guild members while you work on your own project. Who knows? You might finish a UFO!
URL:https://qgotv.org/event/sunday-at-sterling-hosted-by-piecemakers-chapter/2024-02-25/
LOCATION:Sterling Heights Recreation Center\, 2508 St Charles Pl.\, The Villages\, FL\, 32162\, United States
CATEGORIES:Open Sews,Sundays at Sterling
ORGANIZER;CN="Yvonne Wecker":MAILTO:qgotvVP@gmail.com
END:VEVENT
BEGIN:VEVENT
DTSTART;TZID=America/New_York:20240303T113000
DTEND;TZID=America/New_York:20240303T153000
DTSTAMP:20260424T060522
CREATED:20240113T180931Z
LAST-MODIFIED:20240213T141916Z
UID:10001472-1709465400-1709479800@qgotv.org
SUMMARY:Sunday at Sterling Hosted by Quilting B's Chapter
DESCRIPTION:Join us for Sunday Sew. Enjoy the company of your fellow guild members while you work on your own project. Who knows? You might finish a UFO!
URL:https://qgotv.org/event/sunday-at-sterling-hosted-by-quilting-bs-chapter/2024-03-03/
LOCATION:Sterling Heights Recreation Center\, 2508 St Charles Pl.\, The Villages\, FL\, 32162\, United States
CATEGORIES:Open Sews,Sundays at Sterling
ORGANIZER;CN="Yvonne Wecker":MAILTO:qgotvVP@gmail.com
END:VEVENT
BEGIN:VEVENT
DTSTART;TZID=America/New_York:20240310T110000
DTEND;TZID=America/New_York:20240310T163000
DTSTAMP:20260424T060522
CREATED:20231223T145303Z
LAST-MODIFIED:20231223T145303Z
UID:10001010-1710068400-1710088200@qgotv.org
SUMMARY:Dear Jane 2024 Group
DESCRIPTION:Craft Room
URL:https://qgotv.org/event/dear-jane-2023-group-2/2024-03-10/
LOCATION:Laurel Manor\, 1985 Laurel Manor Dr.\, The Villages\, FL\, 32162\, United States
CATEGORIES:Open Sews
END:VEVENT
BEGIN:VEVENT
DTSTART;TZID=America/New_York:20240310T113000
DTEND;TZID=America/New_York:20240310T153000
DTSTAMP:20260424T060522
CREATED:20240113T180931Z
LAST-MODIFIED:20240213T141916Z
UID:10001473-1710070200-1710084600@qgotv.org
SUMMARY:Sunday at Sterling Hosted by Quilting B's Chapter
DESCRIPTION:Join us for Sunday Sew. Enjoy the company of your fellow guild members while you work on your own project. Who knows? You might finish a UFO!
URL:https://qgotv.org/event/sunday-at-sterling-hosted-by-quilting-bs-chapter/2024-03-10/
LOCATION:Sterling Heights Recreation Center\, 2508 St Charles Pl.\, The Villages\, FL\, 32162\, United States
CATEGORIES:Open Sews,Sundays at Sterling
ORGANIZER;CN="Yvonne Wecker":MAILTO:qgotvVP@gmail.com
END:VEVENT
BEGIN:VEVENT
DTSTART;TZID=America/New_York:20240317T113000
DTEND;TZID=America/New_York:20240317T153000
DTSTAMP:20260424T060522
CREATED:20240312T183801Z
LAST-MODIFIED:20240312T183801Z
UID:10001645-1710675000-1710689400@qgotv.org
SUMMARY:Sunday ay Sterling - Canceled
DESCRIPTION:Recreation department needs to set up voting equipment \, Sunday at Sterling is cancelled for Sunday\, March 17th.
URL:https://qgotv.org/event/sunday-at-sterling-canceled/
LOCATION:Sterling Heights Recreation Center\, 2508 St Charles Pl.\, The Villages\, FL\, 32162\, United States
CATEGORIES:Open Sews,Sundays at Sterling
END:VEVENT
BEGIN:VEVENT
DTSTART;TZID=America/New_York:20240324T113000
DTEND;TZID=America/New_York:20240324T153000
DTSTAMP:20260424T060522
CREATED:20240312T183409Z
LAST-MODIFIED:20240312T183409Z
UID:10001474-1711279800-1711294200@qgotv.org
SUMMARY:Sunday at Sterling Hosted by Quilting B's Chapter
DESCRIPTION:Join us for Sunday Sew. Enjoy the company of your fellow guild members while you work on your own project. Who knows? You might finish a UFO!
URL:https://qgotv.org/event/sunday-at-sterling-hosted-by-quilting-bs-chapter-2-2/
LOCATION:Sterling Heights Recreation Center\, 2508 St Charles Pl.\, The Villages\, FL\, 32162\, United States
CATEGORIES:Open Sews,Sundays at Sterling
ORGANIZER;CN="Yvonne Wecker":MAILTO:qgotvVP@gmail.com
END:VEVENT
BEGIN:VEVENT
DTSTART;TZID=America/New_York:20240331T113000
DTEND;TZID=America/New_York:20240331T153000
DTSTAMP:20260424T060522
CREATED:20240213T142143Z
LAST-MODIFIED:20240213T142221Z
UID:10001636-1711884600-1711899000@qgotv.org
SUMMARY:Sunday at Sterling - No Host
DESCRIPTION:Easter Sunday – Recreation Center is open; however there will be no Hosting Chapter.
URL:https://qgotv.org/event/sunday-at-sterling-no-host/
LOCATION:Sterling Heights Recreation Center\, 2508 St Charles Pl.\, The Villages\, FL\, 32162\, United States
CATEGORIES:Open Sews,Sundays at Sterling
END:VEVENT
BEGIN:VEVENT
DTSTART;TZID=America/New_York:20240407T113000
DTEND;TZID=America/New_York:20240407T153000
DTSTAMP:20260424T060522
CREATED:20240113T181216Z
LAST-MODIFIED:20240113T181427Z
UID:10001521-1712489400-1712503800@qgotv.org
SUMMARY:Sunday at Sterling Hosted by  Rohan Quilters Chapter
DESCRIPTION:Join us for Sunday Sew. Enjoy the company of your fellow guild members while you work on your own project. Who knows? You might finish a UFO!
URL:https://qgotv.org/event/sunday-at-sterling-hosted-by-chapter/2024-04-07/
LOCATION:Sterling Heights Recreation Center\, 2508 St Charles Pl.\, The Villages\, FL\, 32162\, United States
CATEGORIES:Open Sews,Sundays at Sterling
ORGANIZER;CN="Yvonne Wecker":MAILTO:qgotvVP@gmail.com
END:VEVENT
BEGIN:VEVENT
DTSTART;TZID=America/New_York:20240414T110000
DTEND;TZID=America/New_York:20240414T163000
DTSTAMP:20260424T060522
CREATED:20231223T145303Z
LAST-MODIFIED:20231223T145303Z
UID:10001011-1713092400-1713112200@qgotv.org
SUMMARY:Dear Jane 2024 Group
DESCRIPTION:Craft Room
URL:https://qgotv.org/event/dear-jane-2023-group-2/2024-04-14/
LOCATION:Laurel Manor\, 1985 Laurel Manor Dr.\, The Villages\, FL\, 32162\, United States
CATEGORIES:Open Sews
END:VEVENT
BEGIN:VEVENT
DTSTART;TZID=America/New_York:20240414T113000
DTEND;TZID=America/New_York:20240414T153000
DTSTAMP:20260424T060522
CREATED:20240113T181216Z
LAST-MODIFIED:20240113T181427Z
UID:10001522-1713094200-1713108600@qgotv.org
SUMMARY:Sunday at Sterling Hosted by  Rohan Quilters Chapter
DESCRIPTION:Join us for Sunday Sew. Enjoy the company of your fellow guild members while you work on your own project. Who knows? You might finish a UFO!
URL:https://qgotv.org/event/sunday-at-sterling-hosted-by-chapter/2024-04-14/
LOCATION:Sterling Heights Recreation Center\, 2508 St Charles Pl.\, The Villages\, FL\, 32162\, United States
CATEGORIES:Open Sews,Sundays at Sterling
ORGANIZER;CN="Yvonne Wecker":MAILTO:qgotvVP@gmail.com
END:VEVENT
BEGIN:VEVENT
DTSTART;TZID=America/New_York:20240421T113000
DTEND;TZID=America/New_York:20240421T153000
DTSTAMP:20260424T060522
CREATED:20240113T181216Z
LAST-MODIFIED:20240113T181427Z
UID:10001523-1713699000-1713713400@qgotv.org
SUMMARY:Sunday at Sterling Hosted by  Rohan Quilters Chapter
DESCRIPTION:Join us for Sunday Sew. Enjoy the company of your fellow guild members while you work on your own project. Who knows? You might finish a UFO!
URL:https://qgotv.org/event/sunday-at-sterling-hosted-by-chapter/2024-04-21/
LOCATION:Sterling Heights Recreation Center\, 2508 St Charles Pl.\, The Villages\, FL\, 32162\, United States
CATEGORIES:Open Sews,Sundays at Sterling
ORGANIZER;CN="Yvonne Wecker":MAILTO:qgotvVP@gmail.com
END:VEVENT
BEGIN:VEVENT
DTSTART;TZID=America/New_York:20240428T113000
DTEND;TZID=America/New_York:20240428T153000
DTSTAMP:20260424T060522
CREATED:20240113T181216Z
LAST-MODIFIED:20240113T181427Z
UID:10001524-1714303800-1714318200@qgotv.org
SUMMARY:Sunday at Sterling Hosted by  Rohan Quilters Chapter
DESCRIPTION:Join us for Sunday Sew. Enjoy the company of your fellow guild members while you work on your own project. Who knows? You might finish a UFO!
URL:https://qgotv.org/event/sunday-at-sterling-hosted-by-chapter/2024-04-28/
LOCATION:Sterling Heights Recreation Center\, 2508 St Charles Pl.\, The Villages\, FL\, 32162\, United States
CATEGORIES:Open Sews,Sundays at Sterling
ORGANIZER;CN="Yvonne Wecker":MAILTO:qgotvVP@gmail.com
END:VEVENT
BEGIN:VEVENT
DTSTART;TZID=America/New_York:20240505T113000
DTEND;TZID=America/New_York:20240505T153000
DTSTAMP:20260424T060522
CREATED:20240113T181822Z
LAST-MODIFIED:20240113T181822Z
UID:10001564-1714908600-1714923000@qgotv.org
SUMMARY:Sunday at Sterling Hosted by  Sea Breeze Quilters Chapter
DESCRIPTION:Join us for Sunday Sew. Enjoy the company of your fellow guild members while you work on your own project. Who knows? You might finish a UFO!
URL:https://qgotv.org/event/sunday-at-sterling-hosted-by-sea-breeze-quilters-chapter/2024-05-05/
LOCATION:Sterling Heights Recreation Center\, 2508 St Charles Pl.\, The Villages\, FL\, 32162\, United States
CATEGORIES:Open Sews,Sundays at Sterling
ORGANIZER;CN="Yvonne Wecker":MAILTO:qgotvVP@gmail.com
END:VEVENT
END:VCALENDAR