BEGIN:VCALENDAR
VERSION:2.0
PRODID:-//Quilting Guild of The Villages - ECPv6.15.20//NONSGML v1.0//EN
CALSCALE:GREGORIAN
METHOD:PUBLISH
X-WR-CALNAME:Quilting Guild of The Villages
X-ORIGINAL-URL:https://qgotv.org
X-WR-CALDESC:Events for Quilting Guild of The Villages
REFRESH-INTERVAL;VALUE=DURATION:PT1H
X-Robots-Tag:noindex
X-PUBLISHED-TTL:PT1H
BEGIN:VTIMEZONE
TZID:America/New_York
BEGIN:DAYLIGHT
TZOFFSETFROM:-0500
TZOFFSETTO:-0400
TZNAME:EDT
DTSTART:20210314T070000
END:DAYLIGHT
BEGIN:STANDARD
TZOFFSETFROM:-0400
TZOFFSETTO:-0500
TZNAME:EST
DTSTART:20211107T060000
END:STANDARD
BEGIN:DAYLIGHT
TZOFFSETFROM:-0500
TZOFFSETTO:-0400
TZNAME:EDT
DTSTART:20220313T070000
END:DAYLIGHT
BEGIN:STANDARD
TZOFFSETFROM:-0400
TZOFFSETTO:-0500
TZNAME:EST
DTSTART:20221106T060000
END:STANDARD
BEGIN:DAYLIGHT
TZOFFSETFROM:-0500
TZOFFSETTO:-0400
TZNAME:EDT
DTSTART:20230312T070000
END:DAYLIGHT
BEGIN:STANDARD
TZOFFSETFROM:-0400
TZOFFSETTO:-0500
TZNAME:EST
DTSTART:20231105T060000
END:STANDARD
END:VTIMEZONE
BEGIN:VEVENT
DTSTART;TZID=America/New_York:20220731T113000
DTEND;TZID=America/New_York:20220731T153000
DTSTAMP:20260419T193312
CREATED:20210526T231435Z
LAST-MODIFIED:20220921T125932Z
UID:10000467-1659267000-1659281400@qgotv.org
SUMMARY:Sunday at Sterling - Water Lily Quilters Chapter Hosting
DESCRIPTION:Sorry\, but you do not have permission to view this content.
URL:https://qgotv.org/event/sunday-at-sterling-2-2022-07-31/
LOCATION:Sterling Heights Recreation Center\, 2508 St Charles Pl.\, The Villages\, FL\, 32162\, United States
CATEGORIES:Open Sews
END:VEVENT
BEGIN:VEVENT
DTSTART;TZID=America/New_York:20220727T190000
DTEND;TZID=America/New_York:20220727T205000
DTSTAMP:20260419T193312
CREATED:20220328T171458Z
LAST-MODIFIED:20220922T091454Z
UID:10000610-1658948400-1658955000@qgotv.org
SUMMARY:Long Range Planning (LRP)
DESCRIPTION:Sorry\, but you do not have permission to view this content.
URL:https://qgotv.org/event/long-range-planning-lrp/2022-07-27/
LOCATION:Moyer Recreation Center\, 3000 Moyer Loop\, The Villages\, FL\, 32163\, United States
CATEGORIES:Guild Committee Meetings
END:VEVENT
BEGIN:VEVENT
DTSTART;TZID=America/New_York:20220726T110000
DTEND;TZID=America/New_York:20220726T123000
DTSTAMP:20260419T193312
CREATED:20220304T222622Z
LAST-MODIFIED:20220304T230804Z
UID:10000608-1658833200-1658838600@qgotv.org
SUMMARY:Program Committee Meeting
DESCRIPTION:Sorry\, but you do not have permission to view this content.
URL:https://qgotv.org/event/program-committee-meeting-9/
LOCATION:Laurel Manor\, 1985 Laurel Manor Dr.\, The Villages\, FL\, 32162\, United States
CATEGORIES:Guild Committee Meetings
END:VEVENT
BEGIN:VEVENT
DTSTART;TZID=America/New_York:20220724T113000
DTEND;TZID=America/New_York:20220724T153000
DTSTAMP:20260419T193312
CREATED:20210526T231435Z
LAST-MODIFIED:20220921T130141Z
UID:10000466-1658662200-1658676600@qgotv.org
SUMMARY:Sunday at Sterling - Water Lily Quilters Chapter Hosting
DESCRIPTION:Sorry\, but you do not have permission to view this content.
URL:https://qgotv.org/event/sunday-at-sterling-2-2022-07-24/
LOCATION:Sterling Heights Recreation Center\, 2508 St Charles Pl.\, The Villages\, FL\, 32162\, United States
CATEGORIES:Open Sews
END:VEVENT
BEGIN:VEVENT
DTSTART;VALUE=DATE:20220720
DTEND;VALUE=DATE:20220721
DTSTAMP:20260419T193312
CREATED:20220526T132326Z
LAST-MODIFIED:20220921T125959Z
UID:10000661-1658275200-1658361599@qgotv.org
SUMMARY:Sea Breeze Rec Center closed
DESCRIPTION:Sorry\, but you do not have permission to view this content.
URL:https://qgotv.org/event/sea-breeze-rec-center-closed/
LOCATION:Sea Breeze\, 2384 Buena Vista Blvd\, The Villages\, FL\, 32162\, United States
CATEGORIES:M2M
END:VEVENT
BEGIN:VEVENT
DTSTART;TZID=America/New_York:20220719T140000
DTEND;TZID=America/New_York:20220719T150000
DTSTAMP:20260419T193312
CREATED:20220112T234624Z
LAST-MODIFIED:20220921T125114Z
UID:10000578-1658239200-1658242800@qgotv.org
SUMMARY:QTR 2 Membership Chapter/Guild Payment Deadline
DESCRIPTION:Sorry\, but you do not have permission to view this content.
URL:https://qgotv.org/event/qtr-2-membership-payment-chapter-guild-deadline/
LOCATION:FL
CATEGORIES:Deadline
END:VEVENT
BEGIN:VEVENT
DTSTART;TZID=America/New_York:20220718T110000
DTEND;TZID=America/New_York:20220718T150000
DTSTAMP:20260419T193312
CREATED:20220304T222230Z
LAST-MODIFIED:20220304T222230Z
UID:10000606-1658142000-1658156400@qgotv.org
SUMMARY:Showcase 2023 Steering Committee Meeting
DESCRIPTION:Sorry\, but you do not have permission to view this content.
URL:https://qgotv.org/event/showcase-2023-steering-committee-meeting-7/
LOCATION:Trilium Rec Center @ Brownwood Lofts\, 2660 Trillium Ridge\, The Villages\,\, FL\, 32163\, United States
CATEGORIES:Guild Committee Meetings
END:VEVENT
BEGIN:VEVENT
DTSTART;TZID=America/New_York:20220717T113000
DTEND;TZID=America/New_York:20220717T153000
DTSTAMP:20260419T193312
CREATED:20210526T231435Z
LAST-MODIFIED:20220921T125442Z
UID:10000465-1658057400-1658071800@qgotv.org
SUMMARY:Sunday at Sterling - Water Lily Quilters Chapter Hosting
DESCRIPTION:Sorry\, but you do not have permission to view this content.
URL:https://qgotv.org/event/sunday-at-sterling-2-2022-07-17/
LOCATION:Sterling Heights Recreation Center\, 2508 St Charles Pl.\, The Villages\, FL\, 32162\, United States
CATEGORIES:Open Sews
ORGANIZER;CN="Yvonne Wecker":MAILTO:qgotvVP@gmail.com
END:VEVENT
BEGIN:VEVENT
DTSTART;TZID=America/New_York:20220712T090000
DTEND;TZID=America/New_York:20220712T145000
DTSTAMP:20260419T193312
CREATED:20220424T130746Z
LAST-MODIFIED:20220921T124927Z
UID:10000616-1657616400-1657637400@qgotv.org
SUMMARY:Blood Drive
DESCRIPTION:Sorry\, but you do not have permission to view this content.
URL:https://qgotv.org/event/blood-drive/
LOCATION:Sea Breeze\, 2384 Buena Vista Blvd\, The Villages\, FL\, 32162\, United States
CATEGORIES:Special Event
END:VEVENT
BEGIN:VEVENT
DTSTART;TZID=America/New_York:20220710T113000
DTEND;TZID=America/New_York:20220710T153000
DTSTAMP:20260419T193312
CREATED:20210526T231435Z
LAST-MODIFIED:20220921T125451Z
UID:10000464-1657452600-1657467000@qgotv.org
SUMMARY:Sunday at Sterling - Water Lily Quilters Chapter Hosting
DESCRIPTION:Sorry\, but you do not have permission to view this content.
URL:https://qgotv.org/event/sunday-at-sterling-2-2022-07-10/
LOCATION:Sterling Heights Recreation Center\, 2508 St Charles Pl.\, The Villages\, FL\, 32162\, United States
CATEGORIES:Open Sews
ORGANIZER;CN="Yvonne Wecker":MAILTO:qgotvVP@gmail.com
END:VEVENT
BEGIN:VEVENT
DTSTART;TZID=America/New_York:20220709T090000
DTEND;TZID=America/New_York:20220709T153000
DTSTAMP:20260419T193312
CREATED:20220518T145339Z
LAST-MODIFIED:20220518T145339Z
UID:10000644-1657357200-1657380600@qgotv.org
SUMMARY:M2M - Dec la Table Runner Workshop
DESCRIPTION:Sorry\, but you do not have permission to view this content.
URL:https://qgotv.org/event/m2m-dec-la-table-runner-workshop/
LOCATION:Eisenhower\, 3560 Buena Vista Blvd\, The Villages\, FL\, 32163\, United States
CATEGORIES:Classes
END:VEVENT
BEGIN:VEVENT
DTSTART;TZID=America/New_York:20220706T090000
DTEND;TZID=America/New_York:20220706T153000
DTSTAMP:20260419T193312
CREATED:20220518T153121Z
LAST-MODIFIED:20220518T153717Z
UID:10000647-1657098000-1657121400@qgotv.org
SUMMARY:Visiting Artist - How Far Can a Jelly Roll? Workshop
DESCRIPTION:Sorry\, but you do not have permission to view this content.
URL:https://qgotv.org/event/visiting-artist-how-far-can-a-jelly-roll-workshop/
LOCATION:Rohan Recreation Center\, 850 Kristine Way\, The Villages\, FL\, 32163\, United States
CATEGORIES:Classes,Visiting Artist
END:VEVENT
BEGIN:VEVENT
DTSTART;TZID=America/New_York:20220705T190000
DTEND;TZID=America/New_York:20220705T205000
DTSTAMP:20260419T193313
CREATED:20220518T150340Z
LAST-MODIFIED:20220921T125509Z
UID:10000645-1657047600-1657054200@qgotv.org
SUMMARY:Evening Guild Meeting featuring Carol Wilhoit
DESCRIPTION:Sorry\, but you do not have permission to view this content.
URL:https://qgotv.org/event/evening-guild-meeting-featuring-carol-wilhoit/
LOCATION:Laurel Manor\, 1985 Laurel Manor Dr.\, The Villages\, FL\, 32162\, United States
CATEGORIES:Monthly Guild Meetings
ORGANIZER;CN="Yvonne Wecker":MAILTO:qgotvVP@gmail.com
END:VEVENT
BEGIN:VEVENT
DTSTART;TZID=America/New_York:20220705T173000
DTEND;TZID=America/New_York:20220705T183000
DTSTAMP:20260419T193313
CREATED:20220609T224846Z
LAST-MODIFIED:20220609T224846Z
UID:10000663-1657042200-1657045800@qgotv.org
SUMMARY:Canceled - Showcase 2023 Coordinators Meeting
DESCRIPTION:Sorry\, but you do not have permission to view this content.
URL:https://qgotv.org/event/canceled-showcase-2023-coordinators-meeting/
LOCATION:Laurel Manor\, 1985 Laurel Manor Dr.\, The Villages\, FL\, 32162\, United States
CATEGORIES:Guild Committee Meetings
END:VEVENT
BEGIN:VEVENT
DTSTART;TZID=America/New_York:20220703T113000
DTEND;TZID=America/New_York:20220703T153000
DTSTAMP:20260419T193313
CREATED:20210526T231435Z
LAST-MODIFIED:20220921T125144Z
UID:10000463-1656847800-1656862200@qgotv.org
SUMMARY:Sunday at Sterling - Water Lily Quilters Chapter Hosting
DESCRIPTION:Sorry\, but you do not have permission to view this content.
URL:https://qgotv.org/event/sunday-at-sterling-2-2022-07-03/
LOCATION:Sterling Heights Recreation Center\, 2508 St Charles Pl.\, The Villages\, FL\, 32162\, United States
CATEGORIES:Open Sews
ORGANIZER;CN="Yvonne Wecker":MAILTO:qgotvVP@gmail.com
END:VEVENT
BEGIN:VEVENT
DTSTART;TZID=America/New_York:20220628T110000
DTEND;TZID=America/New_York:20220628T123000
DTSTAMP:20260419T193313
CREATED:20220304T221825Z
LAST-MODIFIED:20220304T221914Z
UID:10000604-1656414000-1656419400@qgotv.org
SUMMARY:Program Committee Meeting
DESCRIPTION:Sorry\, but you do not have permission to view this content.
URL:https://qgotv.org/event/program-committee-meeting-8/
LOCATION:Laurel Manor\, 1985 Laurel Manor Dr.\, The Villages\, FL\, 32162\, United States
CATEGORIES:Guild Committee Meetings
END:VEVENT
BEGIN:VEVENT
DTSTART;TZID=America/New_York:20220626T113000
DTEND;TZID=America/New_York:20220626T153000
DTSTAMP:20260419T193313
CREATED:20210526T231435Z
LAST-MODIFIED:20220921T125156Z
UID:10000462-1656243000-1656257400@qgotv.org
SUMMARY:Sunday at Sterling - Southern Belles Chapter Hosting
DESCRIPTION:Sorry\, but you do not have permission to view this content.
URL:https://qgotv.org/event/sunday-at-sterling-2-2022-06-26/
LOCATION:Sterling Heights Recreation Center\, 2508 St Charles Pl.\, The Villages\, FL\, 32162\, United States
CATEGORIES:Open Sews
ORGANIZER;CN="Yvonne Wecker":MAILTO:qgotvVP@gmail.com
END:VEVENT
BEGIN:VEVENT
DTSTART;TZID=America/New_York:20220620T110000
DTEND;TZID=America/New_York:20220620T150000
DTSTAMP:20260419T193313
CREATED:20220304T222132Z
LAST-MODIFIED:20220609T223952Z
UID:10000605-1655722800-1655737200@qgotv.org
SUMMARY:CANCELED-Showcase 2023 Steering Committee Meeting
DESCRIPTION:Sorry\, but you do not have permission to view this content.
URL:https://qgotv.org/event/showcase-2023-steering-committee-meeting-6/
LOCATION:Trilium Rec Center @ Brownwood Lofts\, 2660 Trillium Ridge\, The Villages\,\, FL\, 32163\, United States
CATEGORIES:Guild Committee Meetings
END:VEVENT
END:VCALENDAR