BEGIN:VCALENDAR
VERSION:2.0
PRODID:-//Quilting Guild of The Villages - ECPv6.15.20//NONSGML v1.0//EN
CALSCALE:GREGORIAN
METHOD:PUBLISH
X-WR-CALNAME:Quilting Guild of The Villages
X-ORIGINAL-URL:https://qgotv.org
X-WR-CALDESC:Events for Quilting Guild of The Villages
REFRESH-INTERVAL;VALUE=DURATION:PT1H
X-Robots-Tag:noindex
X-PUBLISHED-TTL:PT1H
BEGIN:VTIMEZONE
TZID:America/New_York
BEGIN:DAYLIGHT
TZOFFSETFROM:-0500
TZOFFSETTO:-0400
TZNAME:EDT
DTSTART:20230312T070000
END:DAYLIGHT
BEGIN:STANDARD
TZOFFSETFROM:-0400
TZOFFSETTO:-0500
TZNAME:EST
DTSTART:20231105T060000
END:STANDARD
BEGIN:DAYLIGHT
TZOFFSETFROM:-0500
TZOFFSETTO:-0400
TZNAME:EDT
DTSTART:20240310T070000
END:DAYLIGHT
BEGIN:STANDARD
TZOFFSETFROM:-0400
TZOFFSETTO:-0500
TZNAME:EST
DTSTART:20241103T060000
END:STANDARD
BEGIN:DAYLIGHT
TZOFFSETFROM:-0500
TZOFFSETTO:-0400
TZNAME:EDT
DTSTART:20250309T070000
END:DAYLIGHT
BEGIN:STANDARD
TZOFFSETFROM:-0400
TZOFFSETTO:-0500
TZNAME:EST
DTSTART:20251102T060000
END:STANDARD
END:VTIMEZONE
BEGIN:VEVENT
DTSTART;TZID=America/New_York:20241119T140000
DTEND;TZID=America/New_York:20241119T153000
DTSTAMP:20260420T212252
CREATED:20240930T225547Z
LAST-MODIFIED:20240930T225607Z
UID:10002142-1732024800-1732030200@qgotv.org
SUMMARY:Annual Holiday Stocking Entry Deadline
DESCRIPTION:Sorry\, but you do not have permission to view this content.
URL:https://qgotv.org/event/annual-holiday-stocking-entry-deadline/
LOCATION:Laurel Manor\, 1985 Laurel Manor Dr.\, The Villages\, FL\, 32162\, United States
CATEGORIES:Monthly Guild Meetings,Special Event
END:VEVENT
BEGIN:VEVENT
DTSTART;TZID=America/New_York:20241118T110000
DTEND;TZID=America/New_York:20241118T150000
DTSTAMP:20260420T212252
CREATED:20240111T194339Z
LAST-MODIFIED:20241012T154553Z
UID:10001440-1731927600-1731942000@qgotv.org
SUMMARY:Showcase 2025 Steering Committee Meeting
DESCRIPTION:Sorry\, but you do not have permission to view this content.
URL:https://qgotv.org/event/showcase-2025-steering-committee-meeting-2/2024-11-18/
LOCATION:Trilium Rec Center @ Brownwood Lofts\, 2660 Trillium Ridge\, The Villages\,\, FL\, 32163\, United States
CATEGORIES:Special Event
END:VEVENT
BEGIN:VEVENT
DTSTART;TZID=America/New_York:20241117T113000
DTEND;TZID=America/New_York:20241117T153000
DTSTAMP:20260420T212252
CREATED:20240113T182128Z
LAST-MODIFIED:20240523T172439Z
UID:10001815-1731843000-1731857400@qgotv.org
SUMMARY:No Host Sunday at Sterling - Open Sew for QGOTV Members
DESCRIPTION:Sorry\, but you do not have permission to view this content.
URL:https://qgotv.org/event/no-host-sunday-at-sterling-open-sew-for-qgtov-members/2024-11-17/
LOCATION:Sterling Heights Recreation Center\, 2508 St Charles Pl.\, The Villages\, FL\, 32162\, United States
CATEGORIES:Open Sews,Sundays at Sterling
ORGANIZER;CN="Yvonne Wecker":MAILTO:qgotvVP@gmail.com
END:VEVENT
BEGIN:VEVENT
DTSTART;TZID=America/New_York:20241115T090000
DTEND;TZID=America/New_York:20241115T105000
DTSTAMP:20260420T212252
CREATED:20241014T220217Z
LAST-MODIFIED:20241019T172357Z
UID:10002211-1731661200-1731667800@qgotv.org
SUMMARY:Membership Managers Meeting
DESCRIPTION:Sorry\, but you do not have permission to view this content.
URL:https://qgotv.org/event/membership-manager-meeting-8/
LOCATION:Laurel Manor\, 1985 Laurel Manor Dr.\, The Villages\, FL\, 32162\, United States
CATEGORIES:Guild Committee Meetings
END:VEVENT
BEGIN:VEVENT
DTSTART;TZID=America/New_York:20241110T113000
DTEND;TZID=America/New_York:20241110T153000
DTSTAMP:20260420T212252
CREATED:20240113T182128Z
LAST-MODIFIED:20240523T172439Z
UID:10001814-1731238200-1731252600@qgotv.org
SUMMARY:No Host Sunday at Sterling - Open Sew for QGOTV Members
DESCRIPTION:Sorry\, but you do not have permission to view this content.
URL:https://qgotv.org/event/no-host-sunday-at-sterling-open-sew-for-qgtov-members/2024-11-10/
LOCATION:Sterling Heights Recreation Center\, 2508 St Charles Pl.\, The Villages\, FL\, 32162\, United States
CATEGORIES:Open Sews,Sundays at Sterling
ORGANIZER;CN="Yvonne Wecker":MAILTO:qgotvVP@gmail.com
END:VEVENT
BEGIN:VEVENT
DTSTART;TZID=America/New_York:20241110T110000
DTEND;TZID=America/New_York:20241110T163000
DTSTAMP:20260420T212252
CREATED:20231223T145303Z
LAST-MODIFIED:20231223T145303Z
UID:10001018-1731236400-1731256200@qgotv.org
SUMMARY:Dear Jane 2024 Group
DESCRIPTION:Sorry\, but you do not have permission to view this content.
URL:https://qgotv.org/event/dear-jane-2023-group-2/2024-11-10/
LOCATION:Laurel Manor\, 1985 Laurel Manor Dr.\, The Villages\, FL\, 32162\, United States
CATEGORIES:Open Sews
END:VEVENT
BEGIN:VEVENT
DTSTART;TZID=America/New_York:20241109T130000
DTEND;TZID=America/New_York:20241109T160000
DTSTAMP:20260420T212252
CREATED:20240930T230520Z
LAST-MODIFIED:20241019T172224Z
UID:10002145-1731157200-1731168000@qgotv.org
SUMMARY:M2M  - Open Sew
DESCRIPTION:Sorry\, but you do not have permission to view this content.
URL:https://qgotv.org/event/m2m-open-sew/
LOCATION:Eisenhower\, 3560 Buena Vista Blvd\, The Villages\, FL\, 32163\, United States
CATEGORIES:M2M
END:VEVENT
BEGIN:VEVENT
DTSTART;TZID=America/New_York:20241109T090000
DTEND;TZID=America/New_York:20241109T120000
DTSTAMP:20260420T212252
CREATED:20240710T232232Z
LAST-MODIFIED:20240930T230345Z
UID:10001942-1731142800-1731153600@qgotv.org
SUMMARY:M2M  Dress Up Your Binding Workshop @ Eisenhower  (morning)
DESCRIPTION:Sorry\, but you do not have permission to view this content.
URL:https://qgotv.org/event/m2m-dress-up-your-binding-workshop-eisenhower-am/
LOCATION:Eisenhower\, 3560 Buena Vista Blvd\, The Villages\, FL\, 32163\, United States
CATEGORIES:M2M
END:VEVENT
BEGIN:VEVENT
DTSTART;TZID=America/New_York:20241105T190000
DTEND;TZID=America/New_York:20241105T205000
DTSTAMP:20260420T212252
CREATED:20240710T230107Z
LAST-MODIFIED:20240830T210015Z
UID:10001938-1730833200-1730839800@qgotv.org
SUMMARY:Evening Guild Meeting featuring Parade of Quilts - Part 1
DESCRIPTION:Sorry\, but you do not have permission to view this content.
URL:https://qgotv.org/event/evening-guild-meeting-featuring-parade-of-quilts/
LOCATION:Laurel Manor\, 1985 Laurel Manor Dr.\, The Villages\, FL\, 32162\, United States
CATEGORIES:Monthly Guild Meetings
END:VEVENT
BEGIN:VEVENT
DTSTART;TZID=America/New_York:20241105T173000
DTEND;TZID=America/New_York:20241105T183000
DTSTAMP:20260420T212252
CREATED:20240420T214532Z
LAST-MODIFIED:20250115T234454Z
UID:10001716-1730827800-1730831400@qgotv.org
SUMMARY:Showcase 2025 Chapter Coordinators Meeting
DESCRIPTION:Sorry\, but you do not have permission to view this content.
URL:https://qgotv.org/event/showcase-2025-chapter-coordinators-meeting/2024-11-05/
LOCATION:Laurel Manor\, 1985 Laurel Manor Dr.\, The Villages\, FL\, 32162\, United States
CATEGORIES:Guild Committee Meetings
END:VEVENT
BEGIN:VEVENT
DTSTART;TZID=America/New_York:20241103T110000
DTEND;TZID=America/New_York:20241103T162000
DTSTAMP:20260420T212252
CREATED:20240523T173113Z
LAST-MODIFIED:20240523T173113Z
UID:10001822-1730631600-1730650800@qgotv.org
SUMMARY:Cancelled - No Host Sunday at Sterling (Elections)
DESCRIPTION:Sorry\, but you do not have permission to view this content.
URL:https://qgotv.org/event/cancelled-no-host-sunday-at-sterling-elections/
LOCATION:Sterling Heights Recreation Center\, 2508 St Charles Pl.\, The Villages\, FL\, 32162\, United States
END:VEVENT
BEGIN:VEVENT
DTSTART;TZID=America/New_York:20241027T113000
DTEND;TZID=America/New_York:20241027T153000
DTSTAMP:20260420T212252
CREATED:20240113T182128Z
LAST-MODIFIED:20240523T172439Z
UID:10001813-1730028600-1730043000@qgotv.org
SUMMARY:No Host Sunday at Sterling - Open Sew for QGOTV Members
DESCRIPTION:Sorry\, but you do not have permission to view this content.
URL:https://qgotv.org/event/no-host-sunday-at-sterling-open-sew-for-qgtov-members/2024-10-27/
LOCATION:Sterling Heights Recreation Center\, 2508 St Charles Pl.\, The Villages\, FL\, 32162\, United States
CATEGORIES:Open Sews,Sundays at Sterling
ORGANIZER;CN="Yvonne Wecker":MAILTO:qgotvVP@gmail.com
END:VEVENT
BEGIN:VEVENT
DTSTART;TZID=America/New_York:20241026T120000
DTEND;TZID=America/New_York:20241026T173000
DTSTAMP:20260420T212252
CREATED:20240925T184146Z
LAST-MODIFIED:20241017T025134Z
UID:10002143-1729944000-1729963800@qgotv.org
SUMMARY:Ist Annual QGOTV Charity Golf Outing-Cancelled
DESCRIPTION:Sorry\, but you do not have permission to view this content.
URL:https://qgotv.org/event/ist-annual-qgotv-charity-golf-outing-2/
LOCATION:Bonifay Country Club\, 1033 Pinellas Place\, The Villages\, FL\, 32163\, United States
CATEGORIES:Special Event
END:VEVENT
BEGIN:VEVENT
DTSTART;TZID=America/New_York:20241023T190000
DTEND;TZID=America/New_York:20241023T205000
DTSTAMP:20260420T212252
CREATED:20240920T113219Z
LAST-MODIFIED:20240920T184229Z
UID:10001422-1729710000-1729716600@qgotv.org
SUMMARY:Long Range Planning (LRP)- Cancelled
DESCRIPTION:Sorry\, but you do not have permission to view this content.
URL:https://qgotv.org/event/long-range-planning-lrp-2-4/
LOCATION:Moyer Recreation Center\, 3000 Moyer Loop\, The Villages\, FL\, 32163\, United States
CATEGORIES:Guild Committee Meetings
END:VEVENT
BEGIN:VEVENT
DTSTART;TZID=America/New_York:20241023T090000
DTEND;TZID=America/New_York:20241023T153000
DTSTAMP:20260420T212252
CREATED:20240710T232025Z
LAST-MODIFIED:20240710T232025Z
UID:10001941-1729674000-1729697400@qgotv.org
SUMMARY:M2M - How to Crumb Quilt Workshop  at Sea Breeze
DESCRIPTION:Sorry\, but you do not have permission to view this content.
URL:https://qgotv.org/event/m2m-how-to-crumb-quilt-workshop-at-sea-breeze/
LOCATION:Sea Breeze\, 2384 Buena Vista Blvd\, The Villages\, FL\, 32162\, United States
CATEGORIES:M2M
END:VEVENT
BEGIN:VEVENT
DTSTART;TZID=America/New_York:20241022T110000
DTEND;TZID=America/New_York:20241022T123000
DTSTAMP:20260420T212252
CREATED:20240710T232917Z
LAST-MODIFIED:20240710T232918Z
UID:10000708-1729594800-1729600200@qgotv.org
SUMMARY:Program Committee Meeting
DESCRIPTION:Sorry\, but you do not have permission to view this content.
URL:https://qgotv.org/event/program-committee-meeting-10-2-2-3/2024-10-22/
LOCATION:Lake Miona Rec Center\, 1526 Buena Vista Boulevard\, The Villages\, FL\, 32162\, United States
CATEGORIES:Guild Committee Meetings
END:VEVENT
BEGIN:VEVENT
DTSTART;TZID=America/New_York:20241021T110000
DTEND;TZID=America/New_York:20241021T150000
DTSTAMP:20260420T212253
CREATED:20240111T194339Z
LAST-MODIFIED:20241012T154553Z
UID:10001439-1729508400-1729522800@qgotv.org
SUMMARY:Showcase 2025 Steering Committee Meeting
DESCRIPTION:Sorry\, but you do not have permission to view this content.
URL:https://qgotv.org/event/showcase-2025-steering-committee-meeting-2/2024-10-21/
LOCATION:Trilium Rec Center @ Brownwood Lofts\, 2660 Trillium Ridge\, The Villages\,\, FL\, 32163\, United States
CATEGORIES:Special Event
END:VEVENT
BEGIN:VEVENT
DTSTART;TZID=America/New_York:20241020T113000
DTEND;TZID=America/New_York:20241020T153000
DTSTAMP:20260420T212253
CREATED:20240113T182128Z
LAST-MODIFIED:20240523T172439Z
UID:10001812-1729423800-1729438200@qgotv.org
SUMMARY:No Host Sunday at Sterling - Open Sew for QGOTV Members
DESCRIPTION:Sorry\, but you do not have permission to view this content.
URL:https://qgotv.org/event/no-host-sunday-at-sterling-open-sew-for-qgtov-members/2024-10-20/
LOCATION:Sterling Heights Recreation Center\, 2508 St Charles Pl.\, The Villages\, FL\, 32162\, United States
CATEGORIES:Open Sews,Sundays at Sterling
ORGANIZER;CN="Yvonne Wecker":MAILTO:qgotvVP@gmail.com
END:VEVENT
BEGIN:VEVENT
DTSTART;TZID=America/New_York:20241019T090000
DTEND;TZID=America/New_York:20241019T140000
DTSTAMP:20260420T212253
CREATED:20240802T161342Z
LAST-MODIFIED:20240802T161342Z
UID:10002137-1729328400-1729346400@qgotv.org
SUMMARY:Fall Craft Sale
DESCRIPTION:Sorry\, but you do not have permission to view this content.
URL:https://qgotv.org/event/fall-craft-sale/
LOCATION:Savannah Center\, 1545 North Buena Vista Blvd.\, The Villages\, FL\, 32162\, United States
CATEGORIES:Special Event
END:VEVENT
BEGIN:VEVENT
DTSTART;TZID=America/New_York:20241018T090000
DTEND;TZID=America/New_York:20241018T105000
DTSTAMP:20260420T212253
CREATED:20241014T220016Z
LAST-MODIFIED:20241019T172652Z
UID:10002210-1729242000-1729248600@qgotv.org
SUMMARY:Membership Managers Meeting
DESCRIPTION:Sorry\, but you do not have permission to view this content.
URL:https://qgotv.org/event/membership-managers-meeting-7/
LOCATION:Laurel Manor\, 1985 Laurel Manor Dr.\, The Villages\, FL\, 32162\, United States
CATEGORIES:Guild Committee Meetings
END:VEVENT
BEGIN:VEVENT
DTSTART;TZID=America/New_York:20241013T113000
DTEND;TZID=America/New_York:20241013T153000
DTSTAMP:20260420T212253
CREATED:20240113T182128Z
LAST-MODIFIED:20240523T172439Z
UID:10001811-1728819000-1728833400@qgotv.org
SUMMARY:No Host Sunday at Sterling - Open Sew for QGOTV Members
DESCRIPTION:Sorry\, but you do not have permission to view this content.
URL:https://qgotv.org/event/no-host-sunday-at-sterling-open-sew-for-qgtov-members/2024-10-13/
LOCATION:Sterling Heights Recreation Center\, 2508 St Charles Pl.\, The Villages\, FL\, 32162\, United States
CATEGORIES:Open Sews,Sundays at Sterling
ORGANIZER;CN="Yvonne Wecker":MAILTO:qgotvVP@gmail.com
END:VEVENT
BEGIN:VEVENT
DTSTART;TZID=America/New_York:20241013T110000
DTEND;TZID=America/New_York:20241013T163000
DTSTAMP:20260420T212253
CREATED:20231223T145303Z
LAST-MODIFIED:20231223T145303Z
UID:10001017-1728817200-1728837000@qgotv.org
SUMMARY:Dear Jane 2024 Group
DESCRIPTION:Sorry\, but you do not have permission to view this content.
URL:https://qgotv.org/event/dear-jane-2023-group-2/2024-10-13/
LOCATION:Laurel Manor\, 1985 Laurel Manor Dr.\, The Villages\, FL\, 32162\, United States
CATEGORIES:Open Sews
END:VEVENT
BEGIN:VEVENT
DTSTART;TZID=America/New_York:20241012T090000
DTEND;TZID=America/New_York:20241012T153000
DTSTAMP:20260420T212253
CREATED:20240710T231855Z
LAST-MODIFIED:20240710T231855Z
UID:10001940-1728723600-1728747000@qgotv.org
SUMMARY:M2M  Fearless Paper Piecing Workshop @ Eisenhower
DESCRIPTION:Sorry\, but you do not have permission to view this content.
URL:https://qgotv.org/event/m2m-fearless-paper-piecing-workshop-eisenhower/
LOCATION:Eisenhower\, 3560 Buena Vista Blvd\, The Villages\, FL\, 32163\, United States
CATEGORIES:M2M
END:VEVENT
BEGIN:VEVENT
DTSTART;TZID=America/New_York:20241008T090000
DTEND;TZID=America/New_York:20241008T145000
DTSTAMP:20260420T212253
CREATED:20240917T160500Z
LAST-MODIFIED:20240917T160500Z
UID:10002141-1728378000-1728399000@qgotv.org
SUMMARY:Blood Drive
DESCRIPTION:Sorry\, but you do not have permission to view this content.
URL:https://qgotv.org/event/blood-drive-3/
LOCATION:Sea Breeze\, 2384 Buena Vista Blvd\, The Villages\, FL\, 32162\, United States
CATEGORIES:Special Event
END:VEVENT
BEGIN:VEVENT
DTSTART;TZID=America/New_York:20241006T113000
DTEND;TZID=America/New_York:20241006T153000
DTSTAMP:20260420T212253
CREATED:20240113T182128Z
LAST-MODIFIED:20240523T172439Z
UID:10001810-1728214200-1728228600@qgotv.org
SUMMARY:No Host Sunday at Sterling - Open Sew for QGOTV Members
DESCRIPTION:Sorry\, but you do not have permission to view this content.
URL:https://qgotv.org/event/no-host-sunday-at-sterling-open-sew-for-qgtov-members/2024-10-06/
LOCATION:Sterling Heights Recreation Center\, 2508 St Charles Pl.\, The Villages\, FL\, 32162\, United States
CATEGORIES:Open Sews,Sundays at Sterling
ORGANIZER;CN="Yvonne Wecker":MAILTO:qgotvVP@gmail.com
END:VEVENT
BEGIN:VEVENT
DTSTART;TZID=America/New_York:20241002T080000
DTEND;TZID=America/New_York:20241002T183000
DTSTAMP:20260420T212253
CREATED:20240710T224933Z
LAST-MODIFIED:20240830T205747Z
UID:10001935-1727856000-1727893800@qgotv.org
SUMMARY:Visiting Artist Workshop with Cathleen Tokish
DESCRIPTION:Sorry\, but you do not have permission to view this content.
URL:https://qgotv.org/event/visiting-artist-workshop-with-cathleen-tokish/
LOCATION:Rohan Recreation Center\, 850 Kristine Way\, The Villages\, FL\, 32163\, United States
CATEGORIES:Classes,Visiting Artist
END:VEVENT
BEGIN:VEVENT
DTSTART;TZID=America/New_York:20241001T190000
DTEND;TZID=America/New_York:20241001T205000
DTSTAMP:20260420T212253
CREATED:20240710T225913Z
LAST-MODIFIED:20240827T114110Z
UID:10001937-1727809200-1727815800@qgotv.org
SUMMARY:Evening Guild Meeting featuring Cathleen Tokish
DESCRIPTION:Sorry\, but you do not have permission to view this content.
URL:https://qgotv.org/event/evening-guild-meeting-featuring-cyndi-mcchesney/
LOCATION:Laurel Manor\, 1985 Laurel Manor Dr.\, The Villages\, FL\, 32162\, United States
CATEGORIES:Monthly Guild Meetings
END:VEVENT
BEGIN:VEVENT
DTSTART;TZID=America/New_York:20241001T173000
DTEND;TZID=America/New_York:20241001T183000
DTSTAMP:20260420T212253
CREATED:20240420T214532Z
LAST-MODIFIED:20250115T234454Z
UID:10001715-1727803800-1727807400@qgotv.org
SUMMARY:Showcase 2025 Chapter Coordinators Meeting
DESCRIPTION:Sorry\, but you do not have permission to view this content.
URL:https://qgotv.org/event/showcase-2025-chapter-coordinators-meeting/2024-10-01/
LOCATION:Laurel Manor\, 1985 Laurel Manor Dr.\, The Villages\, FL\, 32162\, United States
CATEGORIES:Guild Committee Meetings
END:VEVENT
BEGIN:VEVENT
DTSTART;TZID=America/New_York:20240929T113000
DTEND;TZID=America/New_York:20240929T153000
DTSTAMP:20260420T212253
CREATED:20240113T182128Z
LAST-MODIFIED:20240523T172439Z
UID:10001809-1727609400-1727623800@qgotv.org
SUMMARY:No Host Sunday at Sterling - Open Sew for QGOTV Members
DESCRIPTION:Sorry\, but you do not have permission to view this content.
URL:https://qgotv.org/event/no-host-sunday-at-sterling-open-sew-for-qgtov-members/2024-09-29/
LOCATION:Sterling Heights Recreation Center\, 2508 St Charles Pl.\, The Villages\, FL\, 32162\, United States
CATEGORIES:Open Sews,Sundays at Sterling
ORGANIZER;CN="Yvonne Wecker":MAILTO:qgotvVP@gmail.com
END:VEVENT
BEGIN:VEVENT
DTSTART;TZID=America/New_York:20240925T190000
DTEND;TZID=America/New_York:20240925T205000
DTSTAMP:20260420T212253
CREATED:20240920T113013Z
LAST-MODIFIED:20240920T113051Z
UID:10001421-1727290800-1727297400@qgotv.org
SUMMARY:Long Range Planning (LRP)- Cancelled
DESCRIPTION:Sorry\, but you do not have permission to view this content.
URL:https://qgotv.org/event/long-range-planning-lrp-2-3/
LOCATION:Moyer Recreation Center\, 3000 Moyer Loop\, The Villages\, FL\, 32163\, United States
CATEGORIES:Guild Committee Meetings
END:VEVENT
END:VCALENDAR