BEGIN:VCALENDAR
VERSION:2.0
PRODID:-//Quilting Guild of The Villages - ECPv6.15.20//NONSGML v1.0//EN
CALSCALE:GREGORIAN
METHOD:PUBLISH
X-ORIGINAL-URL:https://qgotv.org
X-WR-CALDESC:Events for Quilting Guild of The Villages
REFRESH-INTERVAL;VALUE=DURATION:PT1H
X-Robots-Tag:noindex
X-PUBLISHED-TTL:PT1H
BEGIN:VTIMEZONE
TZID:America/New_York
BEGIN:DAYLIGHT
TZOFFSETFROM:-0500
TZOFFSETTO:-0400
TZNAME:EDT
DTSTART:20230312T070000
END:DAYLIGHT
BEGIN:STANDARD
TZOFFSETFROM:-0400
TZOFFSETTO:-0500
TZNAME:EST
DTSTART:20231105T060000
END:STANDARD
BEGIN:DAYLIGHT
TZOFFSETFROM:-0500
TZOFFSETTO:-0400
TZNAME:EDT
DTSTART:20240310T070000
END:DAYLIGHT
BEGIN:STANDARD
TZOFFSETFROM:-0400
TZOFFSETTO:-0500
TZNAME:EST
DTSTART:20241103T060000
END:STANDARD
BEGIN:DAYLIGHT
TZOFFSETFROM:-0500
TZOFFSETTO:-0400
TZNAME:EDT
DTSTART:20250309T070000
END:DAYLIGHT
BEGIN:STANDARD
TZOFFSETFROM:-0400
TZOFFSETTO:-0500
TZNAME:EST
DTSTART:20251102T060000
END:STANDARD
END:VTIMEZONE
BEGIN:VEVENT
DTSTART;TZID=America/New_York:20240715T110000
DTEND;TZID=America/New_York:20240715T150000
DTSTAMP:20260421T054931
CREATED:20240111T194339Z
LAST-MODIFIED:20241012T154553Z
UID:10001436-1721041200-1721055600@qgotv.org
SUMMARY:Showcase 2025 Steering Committee Meeting
DESCRIPTION:Sorry\, but you do not have permission to view this content.
URL:https://qgotv.org/event/showcase-2025-steering-committee-meeting-2/2024-07-15/
LOCATION:Trilium Rec Center @ Brownwood Lofts\, 2660 Trillium Ridge\, The Villages\,\, FL\, 32163\, United States
CATEGORIES:Special Event
END:VEVENT
BEGIN:VEVENT
DTSTART;TZID=America/New_York:20240719T090000
DTEND;TZID=America/New_York:20240719T105000
DTSTAMP:20260421T054931
CREATED:20240624T164104Z
LAST-MODIFIED:20240624T164744Z
UID:10001652-1721379600-1721386200@qgotv.org
SUMMARY:Membership Manager Meeting-Cancelled
DESCRIPTION:Sorry\, but you do not have permission to view this content.
URL:https://qgotv.org/event/membership-manager-meeting-cancelled3/
LOCATION:Laurel Manor\, 1985 Laurel Manor Dr.\, The Villages\, FL\, 32162\, United States
CATEGORIES:Guild Committee Meetings
END:VEVENT
BEGIN:VEVENT
DTSTART;TZID=America/New_York:20240721T113000
DTEND;TZID=America/New_York:20240721T153000
DTSTAMP:20260421T054931
CREATED:20240113T182128Z
LAST-MODIFIED:20240523T172439Z
UID:10001584-1721561400-1721575800@qgotv.org
SUMMARY:No Host Sunday at Sterling - Open Sew for QGOTV Members
DESCRIPTION:Sorry\, but you do not have permission to view this content.
URL:https://qgotv.org/event/no-host-sunday-at-sterling-open-sew-for-qgtov-members/2024-07-21/
LOCATION:Sterling Heights Recreation Center\, 2508 St Charles Pl.\, The Villages\, FL\, 32162\, United States
CATEGORIES:Open Sews,Sundays at Sterling
ORGANIZER;CN="Yvonne Wecker":MAILTO:qgotvVP@gmail.com
END:VEVENT
BEGIN:VEVENT
DTSTART;TZID=America/New_York:20240723T110000
DTEND;TZID=America/New_York:20240723T123000
DTSTAMP:20260421T054931
CREATED:20240710T232917Z
LAST-MODIFIED:20240710T232918Z
UID:10000705-1721732400-1721737800@qgotv.org
SUMMARY:Program Committee Meeting
DESCRIPTION:Sorry\, but you do not have permission to view this content.
URL:https://qgotv.org/event/program-committee-meeting-10-2-2-3/2024-07-23/
LOCATION:Lake Miona Rec Center\, 1526 Buena Vista Boulevard\, The Villages\, FL\, 32162\, United States
CATEGORIES:Guild Committee Meetings
END:VEVENT
BEGIN:VEVENT
DTSTART;TZID=America/New_York:20240724T090000
DTEND;TZID=America/New_York:20240724T153000
DTSTAMP:20260421T054931
CREATED:20240624T170435Z
LAST-MODIFIED:20240624T170435Z
UID:10001328-1721811600-1721835000@qgotv.org
SUMMARY:M2M -Enhanced Piecekeeper Project Bag at Sea Breeze
DESCRIPTION:Sorry\, but you do not have permission to view this content.
URL:https://qgotv.org/event/m2m-title-at-seabreeze-3/
LOCATION:Sea Breeze\, 2384 Buena Vista Blvd\, The Villages\, FL\, 32162\, United States
CATEGORIES:M2M
END:VEVENT
BEGIN:VEVENT
DTSTART;TZID=America/New_York:20240724T190000
DTEND;TZID=America/New_York:20240724T205000
DTSTAMP:20260421T054931
CREATED:20231223T165916Z
LAST-MODIFIED:20240920T112941Z
UID:10001419-1721847600-1721854200@qgotv.org
SUMMARY:Long Range Planning (LRP)- Cancelled
DESCRIPTION:Sorry\, but you do not have permission to view this content.
URL:https://qgotv.org/event/long-range-planning-lrp-2/2024-07-24/
LOCATION:Moyer Recreation Center\, 3000 Moyer Loop\, The Villages\, FL\, 32163\, United States
CATEGORIES:Guild Committee Meetings
END:VEVENT
BEGIN:VEVENT
DTSTART;TZID=America/New_York:20240728T113000
DTEND;TZID=America/New_York:20240728T153000
DTSTAMP:20260421T054931
CREATED:20240113T182128Z
LAST-MODIFIED:20240523T172439Z
UID:10001585-1722166200-1722180600@qgotv.org
SUMMARY:No Host Sunday at Sterling - Open Sew for QGOTV Members
DESCRIPTION:Sorry\, but you do not have permission to view this content.
URL:https://qgotv.org/event/no-host-sunday-at-sterling-open-sew-for-qgtov-members/2024-07-28/
LOCATION:Sterling Heights Recreation Center\, 2508 St Charles Pl.\, The Villages\, FL\, 32162\, United States
CATEGORIES:Open Sews,Sundays at Sterling
ORGANIZER;CN="Yvonne Wecker":MAILTO:qgotvVP@gmail.com
END:VEVENT
BEGIN:VEVENT
DTSTART;TZID=America/New_York:20240802T090000
DTEND;TZID=America/New_York:20240802T105000
DTSTAMP:20260421T054931
CREATED:20240213T155315Z
LAST-MODIFIED:20240710T210845Z
UID:10001642-1722589200-1722595800@qgotv.org
SUMMARY:How's It Going with Regional Liaisons -Cancelled
DESCRIPTION:Sorry\, but you do not have permission to view this content.
URL:https://qgotv.org/event/hows-it-going-with-regional-liaisons-august/
LOCATION:Rohan Recreation Center\, 850 Kristine Way\, The Villages\, FL\, 32163\, United States
CATEGORIES:Special Event
END:VEVENT
BEGIN:VEVENT
DTSTART;TZID=America/New_York:20240804T113000
DTEND;TZID=America/New_York:20240804T153000
DTSTAMP:20260421T054931
CREATED:20240113T182128Z
LAST-MODIFIED:20240523T172439Z
UID:10001801-1722771000-1722785400@qgotv.org
SUMMARY:No Host Sunday at Sterling - Open Sew for QGOTV Members
DESCRIPTION:Sorry\, but you do not have permission to view this content.
URL:https://qgotv.org/event/no-host-sunday-at-sterling-open-sew-for-qgtov-members/2024-08-04/
LOCATION:Sterling Heights Recreation Center\, 2508 St Charles Pl.\, The Villages\, FL\, 32162\, United States
CATEGORIES:Open Sews,Sundays at Sterling
ORGANIZER;CN="Yvonne Wecker":MAILTO:qgotvVP@gmail.com
END:VEVENT
BEGIN:VEVENT
DTSTART;TZID=America/New_York:20240806T173000
DTEND;TZID=America/New_York:20240806T183000
DTSTAMP:20260421T054931
CREATED:20240420T220303Z
LAST-MODIFIED:20240805T130240Z
UID:10001740-1722965400-1722969000@qgotv.org
SUMMARY:Cancelled-Showcase 2025 Chapter Coordinators Meeting-Only for -Khakis-Riverbend-SeaBreeze- Sunset Pointe
DESCRIPTION:Sorry\, but you do not have permission to view this content.
URL:https://qgotv.org/event/showcase-2025-chapter-coordinators-meeting-5/
LOCATION:Rohan Recreation Center\, 850 Kristine Way\, The Villages\, FL\, 32163\, United States
CATEGORIES:Guild Committee Meetings
END:VEVENT
BEGIN:VEVENT
DTSTART;TZID=America/New_York:20240806T190000
DTEND;TZID=America/New_York:20240806T205000
DTSTAMP:20260421T054931
CREATED:20240710T223632Z
LAST-MODIFIED:20240805T130115Z
UID:10001764-1722970800-1722977400@qgotv.org
SUMMARY:Cancelled-Evening Guild Meeting featuring- Diane Knott Vandiver
DESCRIPTION:Sorry\, but you do not have permission to view this content.
URL:https://qgotv.org/event/evening-guild-meeting-featuring-3/
LOCATION:Rohan Recreation Center\, 850 Kristine Way\, The Villages\, FL\, 32163\, United States
CATEGORIES:Monthly Guild Meetings
END:VEVENT
BEGIN:VEVENT
DTSTART;TZID=America/New_York:20240807T090000
DTEND;TZID=America/New_York:20240807T153000
DTSTAMP:20260421T054931
CREATED:20240710T223803Z
LAST-MODIFIED:20240805T130403Z
UID:10001194-1723021200-1723044600@qgotv.org
SUMMARY:Cancelled-Visiting Artist Workshop with Diane Knott Vandiver
DESCRIPTION:Sorry\, but you do not have permission to view this content.
URL:https://qgotv.org/event/visiting-artist-workshop-with-7/
LOCATION:Colony Cottage Recreation Center\, 510 Colony Boulevard\, The Villages\, 32162\, United States
CATEGORIES:Classes,Visiting Artist
END:VEVENT
BEGIN:VEVENT
DTSTART;TZID=America/New_York:20240810T090000
DTEND;TZID=America/New_York:20240810T153000
DTSTAMP:20260421T054931
CREATED:20240710T230543Z
LAST-MODIFIED:20240710T230543Z
UID:10001837-1723280400-1723303800@qgotv.org
SUMMARY:M2M  Zippered Candy Bag Workshop @ Eisenhower
DESCRIPTION:Sorry\, but you do not have permission to view this content.
URL:https://qgotv.org/event/m2m-title-workshop-eisenhower-2/
LOCATION:Eisenhower\, 3560 Buena Vista Blvd\, The Villages\, FL\, 32163\, United States
CATEGORIES:M2M
END:VEVENT
BEGIN:VEVENT
DTSTART;TZID=America/New_York:20240811T110000
DTEND;TZID=America/New_York:20240811T163000
DTSTAMP:20260421T054931
CREATED:20231223T145303Z
LAST-MODIFIED:20231223T145303Z
UID:10001015-1723374000-1723393800@qgotv.org
SUMMARY:Dear Jane 2024 Group
DESCRIPTION:Sorry\, but you do not have permission to view this content.
URL:https://qgotv.org/event/dear-jane-2023-group-2/2024-08-11/
LOCATION:Laurel Manor\, 1985 Laurel Manor Dr.\, The Villages\, FL\, 32162\, United States
CATEGORIES:Open Sews
END:VEVENT
BEGIN:VEVENT
DTSTART;TZID=America/New_York:20240811T113000
DTEND;TZID=America/New_York:20240811T153000
DTSTAMP:20260421T054931
CREATED:20240113T182128Z
LAST-MODIFIED:20240523T172439Z
UID:10001802-1723375800-1723390200@qgotv.org
SUMMARY:No Host Sunday at Sterling - Open Sew for QGOTV Members
DESCRIPTION:Sorry\, but you do not have permission to view this content.
URL:https://qgotv.org/event/no-host-sunday-at-sterling-open-sew-for-qgtov-members/2024-08-11/
LOCATION:Sterling Heights Recreation Center\, 2508 St Charles Pl.\, The Villages\, FL\, 32162\, United States
CATEGORIES:Open Sews,Sundays at Sterling
ORGANIZER;CN="Yvonne Wecker":MAILTO:qgotvVP@gmail.com
END:VEVENT
BEGIN:VEVENT
DTSTART;TZID=America/New_York:20240816T090000
DTEND;TZID=America/New_York:20240816T105000
DTSTAMP:20260421T054931
CREATED:20240624T164643Z
LAST-MODIFIED:20240624T164654Z
UID:10001653-1723798800-1723805400@qgotv.org
SUMMARY:Membership Manager Meeting - Cancelled
DESCRIPTION:Sorry\, but you do not have permission to view this content.
URL:https://qgotv.org/event/membership-manager-meeting-3-3/
LOCATION:Laurel Manor\, 1985 Laurel Manor Dr.\, The Villages\, FL\, 32162\, United States
CATEGORIES:Guild Committee Meetings
END:VEVENT
BEGIN:VEVENT
DTSTART;TZID=America/New_York:20240818T113000
DTEND;TZID=America/New_York:20240818T153000
DTSTAMP:20260421T054931
CREATED:20240113T182128Z
LAST-MODIFIED:20240523T172439Z
UID:10001803-1723980600-1723995000@qgotv.org
SUMMARY:No Host Sunday at Sterling - Open Sew for QGOTV Members
DESCRIPTION:Sorry\, but you do not have permission to view this content.
URL:https://qgotv.org/event/no-host-sunday-at-sterling-open-sew-for-qgtov-members/2024-08-18/
LOCATION:Sterling Heights Recreation Center\, 2508 St Charles Pl.\, The Villages\, FL\, 32162\, United States
CATEGORIES:Open Sews,Sundays at Sterling
ORGANIZER;CN="Yvonne Wecker":MAILTO:qgotvVP@gmail.com
END:VEVENT
BEGIN:VEVENT
DTSTART;TZID=America/New_York:20240819T110000
DTEND;TZID=America/New_York:20240819T150000
DTSTAMP:20260421T054931
CREATED:20240111T194339Z
LAST-MODIFIED:20241012T154553Z
UID:10001437-1724065200-1724079600@qgotv.org
SUMMARY:Showcase 2025 Steering Committee Meeting
DESCRIPTION:Sorry\, but you do not have permission to view this content.
URL:https://qgotv.org/event/showcase-2025-steering-committee-meeting-2/2024-08-19/
LOCATION:Trilium Rec Center @ Brownwood Lofts\, 2660 Trillium Ridge\, The Villages\,\, FL\, 32163\, United States
CATEGORIES:Special Event
END:VEVENT
BEGIN:VEVENT
DTSTART;TZID=America/New_York:20240825T113000
DTEND;TZID=America/New_York:20240825T153000
DTSTAMP:20260421T054931
CREATED:20240113T182128Z
LAST-MODIFIED:20240523T172439Z
UID:10001804-1724585400-1724599800@qgotv.org
SUMMARY:No Host Sunday at Sterling - Open Sew for QGOTV Members
DESCRIPTION:Sorry\, but you do not have permission to view this content.
URL:https://qgotv.org/event/no-host-sunday-at-sterling-open-sew-for-qgtov-members/2024-08-25/
LOCATION:Sterling Heights Recreation Center\, 2508 St Charles Pl.\, The Villages\, FL\, 32162\, United States
CATEGORIES:Open Sews,Sundays at Sterling
ORGANIZER;CN="Yvonne Wecker":MAILTO:qgotvVP@gmail.com
END:VEVENT
BEGIN:VEVENT
DTSTART;TZID=America/New_York:20240827T110000
DTEND;TZID=America/New_York:20240827T123000
DTSTAMP:20260421T054931
CREATED:20240710T232917Z
LAST-MODIFIED:20240710T232918Z
UID:10000706-1724756400-1724761800@qgotv.org
SUMMARY:Program Committee Meeting
DESCRIPTION:Sorry\, but you do not have permission to view this content.
URL:https://qgotv.org/event/program-committee-meeting-10-2-2-3/2024-08-27/
LOCATION:Lake Miona Rec Center\, 1526 Buena Vista Boulevard\, The Villages\, FL\, 32162\, United States
CATEGORIES:Guild Committee Meetings
END:VEVENT
BEGIN:VEVENT
DTSTART;TZID=America/New_York:20240828T090000
DTEND;TZID=America/New_York:20240828T153000
DTSTAMP:20260421T054931
CREATED:20240624T170959Z
LAST-MODIFIED:20240710T231442Z
UID:10001844-1724835600-1724859000@qgotv.org
SUMMARY:M2M - Large Sturdy Totebag Workshop  at Sea Breeze
DESCRIPTION:Sorry\, but you do not have permission to view this content.
URL:https://qgotv.org/event/m2m-title-workshop-at-sea-breeze/
LOCATION:Sea Breeze\, 2384 Buena Vista Blvd\, The Villages\, FL\, 32162\, United States
CATEGORIES:M2M
END:VEVENT
BEGIN:VEVENT
DTSTART;TZID=America/New_York:20240828T190000
DTEND;TZID=America/New_York:20240828T205000
DTSTAMP:20260421T054931
CREATED:20231223T165916Z
LAST-MODIFIED:20240920T112941Z
UID:10001420-1724871600-1724878200@qgotv.org
SUMMARY:Long Range Planning (LRP)- Cancelled
DESCRIPTION:Sorry\, but you do not have permission to view this content.
URL:https://qgotv.org/event/long-range-planning-lrp-2/2024-08-28/
LOCATION:Moyer Recreation Center\, 3000 Moyer Loop\, The Villages\, FL\, 32163\, United States
CATEGORIES:Guild Committee Meetings
END:VEVENT
BEGIN:VEVENT
DTSTART;VALUE=DATE:20240831
DTEND;VALUE=DATE:20240901
DTSTAMP:20260421T054931
CREATED:20240527T144215Z
LAST-MODIFIED:20240527T144215Z
UID:10001825-1725062400-1725148799@qgotv.org
SUMMARY:Budget Requests for 2025 Due - August 31st
DESCRIPTION:Sorry\, but you do not have permission to view this content.
URL:https://qgotv.org/event/budget-requests-for-2025-due-august-31st-2/
LOCATION:FL
CATEGORIES:Deadline
END:VEVENT
BEGIN:VEVENT
DTSTART;TZID=America/New_York:20240901T113000
DTEND;TZID=America/New_York:20240901T153000
DTSTAMP:20260421T054931
CREATED:20240113T182128Z
LAST-MODIFIED:20240523T172439Z
UID:10001805-1725190200-1725204600@qgotv.org
SUMMARY:No Host Sunday at Sterling - Open Sew for QGOTV Members
DESCRIPTION:Sorry\, but you do not have permission to view this content.
URL:https://qgotv.org/event/no-host-sunday-at-sterling-open-sew-for-qgtov-members/2024-09-01/
LOCATION:Sterling Heights Recreation Center\, 2508 St Charles Pl.\, The Villages\, FL\, 32162\, United States
CATEGORIES:Open Sews,Sundays at Sterling
ORGANIZER;CN="Yvonne Wecker":MAILTO:qgotvVP@gmail.com
END:VEVENT
BEGIN:VEVENT
DTSTART;TZID=America/New_York:20240903T173000
DTEND;TZID=America/New_York:20240903T183000
DTSTAMP:20260421T054931
CREATED:20240420T214532Z
LAST-MODIFIED:20250115T234454Z
UID:10001714-1725384600-1725388200@qgotv.org
SUMMARY:Showcase 2025 Chapter Coordinators Meeting
DESCRIPTION:Sorry\, but you do not have permission to view this content.
URL:https://qgotv.org/event/showcase-2025-chapter-coordinators-meeting/2024-09-03/
LOCATION:Laurel Manor\, 1985 Laurel Manor Dr.\, The Villages\, FL\, 32162\, United States
CATEGORIES:Guild Committee Meetings
END:VEVENT
BEGIN:VEVENT
DTSTART;TZID=America/New_York:20240903T190000
DTEND;TZID=America/New_York:20240903T205000
DTSTAMP:20260421T054931
CREATED:20240426T210236Z
LAST-MODIFIED:20240710T225307Z
UID:10001778-1725390000-1725396600@qgotv.org
SUMMARY:Evening Guild Meeting featuring Diane Harris
DESCRIPTION:Sorry\, but you do not have permission to view this content.
URL:https://qgotv.org/event/evening-guild-meeting-featuring-2/
LOCATION:Laurel Manor\, 1985 Laurel Manor Dr.\, The Villages\, FL\, 32162\, United States
CATEGORIES:Monthly Guild Meetings
END:VEVENT
BEGIN:VEVENT
DTSTART;TZID=America/New_York:20240904T090000
DTEND;TZID=America/New_York:20240904T153000
DTSTAMP:20260421T054931
CREATED:20230704T165018Z
LAST-MODIFIED:20240710T224758Z
UID:10001192-1725440400-1725463800@qgotv.org
SUMMARY:Visiting Artist Workshop with Diane Harris
DESCRIPTION:Sorry\, but you do not have permission to view this content.
URL:https://qgotv.org/event/visiting-artist-workshop-with/
LOCATION:Rohan Recreation Center\, 850 Kristine Way\, The Villages\, FL\, 32163\, United States
CATEGORIES:Classes,Visiting Artist
END:VEVENT
BEGIN:VEVENT
DTSTART;TZID=America/New_York:20240905T090000
DTEND;TZID=America/New_York:20240905T153000
DTSTAMP:20260421T054931
CREATED:20240731T200302Z
LAST-MODIFIED:20240731T200553Z
UID:10002059-1725526800-1725550200@qgotv.org
SUMMARY:Visiting Artist Workshop 2 with Diane Harris
DESCRIPTION:Sorry\, but you do not have permission to view this content.
URL:https://qgotv.org/event/visiting-artist-workshop-2-with-diane-harris/
LOCATION:Eisenhower\, 3560 Buena Vista Blvd\, The Villages\, FL\, 32163\, United States
CATEGORIES:Classes,Visiting Artist
END:VEVENT
BEGIN:VEVENT
DTSTART;TZID=America/New_York:20240905T140000
DTEND;TZID=America/New_York:20240905T155000
DTSTAMP:20260421T054931
CREATED:20240617T190147Z
LAST-MODIFIED:20240904T202807Z
UID:10001827-1725544800-1725551400@qgotv.org
SUMMARY:Officers Planning Meeting - September
DESCRIPTION:Sorry\, but you do not have permission to view this content.
URL:https://qgotv.org/event/officers-planning-meeting-septemberaisons-december-2/
LOCATION:Rohan Recreation Center\, 850 Kristine Way\, The Villages\, FL\, 32163\, United States
CATEGORIES:Special Event
END:VEVENT
BEGIN:VEVENT
DTSTART;TZID=America/New_York:20240906T090000
DTEND;TZID=America/New_York:20240906T105000
DTSTAMP:20260421T054931
CREATED:20240527T142427Z
LAST-MODIFIED:20240527T142427Z
UID:10001823-1725613200-1725619800@qgotv.org
SUMMARY:Budget Committee Meeting-2025
DESCRIPTION:Sorry\, but you do not have permission to view this content.
URL:https://qgotv.org/event/budget-committee-meeting-2025/
LOCATION:Rohan Recreation Center\, 850 Kristine Way\, The Villages\, FL\, 32163\, United States
CATEGORIES:Guild Committee Meetings
END:VEVENT
END:VCALENDAR