BEGIN:VCALENDAR
VERSION:2.0
PRODID:-//Quilting Guild of The Villages - ECPv6.15.20//NONSGML v1.0//EN
CALSCALE:GREGORIAN
METHOD:PUBLISH
X-WR-CALNAME:Quilting Guild of The Villages
X-ORIGINAL-URL:https://qgotv.org
X-WR-CALDESC:Events for Quilting Guild of The Villages
REFRESH-INTERVAL;VALUE=DURATION:PT1H
X-Robots-Tag:noindex
X-PUBLISHED-TTL:PT1H
BEGIN:VTIMEZONE
TZID:America/New_York
BEGIN:DAYLIGHT
TZOFFSETFROM:-0500
TZOFFSETTO:-0400
TZNAME:EDT
DTSTART:20230312T070000
END:DAYLIGHT
BEGIN:STANDARD
TZOFFSETFROM:-0400
TZOFFSETTO:-0500
TZNAME:EST
DTSTART:20231105T060000
END:STANDARD
BEGIN:DAYLIGHT
TZOFFSETFROM:-0500
TZOFFSETTO:-0400
TZNAME:EDT
DTSTART:20240310T070000
END:DAYLIGHT
BEGIN:STANDARD
TZOFFSETFROM:-0400
TZOFFSETTO:-0500
TZNAME:EST
DTSTART:20241103T060000
END:STANDARD
BEGIN:DAYLIGHT
TZOFFSETFROM:-0500
TZOFFSETTO:-0400
TZNAME:EDT
DTSTART:20250309T070000
END:DAYLIGHT
BEGIN:STANDARD
TZOFFSETFROM:-0400
TZOFFSETTO:-0500
TZNAME:EST
DTSTART:20251102T060000
END:STANDARD
END:VTIMEZONE
BEGIN:VEVENT
DTSTART;TZID=America/New_York:20240604T190000
DTEND;TZID=America/New_York:20240604T205000
DTSTAMP:20260424T213402
CREATED:20240710T225417Z
LAST-MODIFIED:20240710T225418Z
UID:10001763-1717527600-1717534200@qgotv.org
SUMMARY:Evening Guild Meeting featuring Ann Troutman
DESCRIPTION:Sorry\, but you do not have permission to view this content.
URL:https://qgotv.org/event/evening-guild-meeting-featuring-4/
LOCATION:Rohan Recreation Center\, 850 Kristine Way\, The Villages\, FL\, 32163\, United States
CATEGORIES:Monthly Guild Meetings
END:VEVENT
BEGIN:VEVENT
DTSTART;TZID=America/New_York:20240604T173000
DTEND;TZID=America/New_York:20240604T183000
DTSTAMP:20260424T213402
CREATED:20240420T220031Z
LAST-MODIFIED:20240420T220031Z
UID:10001731-1717522200-1717525800@qgotv.org
SUMMARY:Showcase 2025 Chapter Coordinators Meeting
DESCRIPTION:Sorry\, but you do not have permission to view this content.
URL:https://qgotv.org/event/showcase-2025-chapter-coordinators-meeting-3/
LOCATION:Rohan Recreation Center\, 850 Kristine Way\, The Villages\, FL\, 32163\, United States
CATEGORIES:Guild Committee Meetings
END:VEVENT
BEGIN:VEVENT
DTSTART;TZID=America/New_York:20240602T113000
DTEND;TZID=America/New_York:20240602T153000
DTSTAMP:20260424T213402
CREATED:20240113T181915Z
LAST-MODIFIED:20240113T181940Z
UID:10001572-1717327800-1717342200@qgotv.org
SUMMARY:Sunday at Sterling Hosted by  Whiporwills Chapter
DESCRIPTION:Sorry\, but you do not have permission to view this content.
URL:https://qgotv.org/event/sunday-at-sterling-hosted-by-whiporwills-chapter/2024-06-02/
LOCATION:Sterling Heights Recreation Center\, 2508 St Charles Pl.\, The Villages\, FL\, 32162\, United States
CATEGORIES:Open Sews,Sundays at Sterling
ORGANIZER;CN="Yvonne Wecker":MAILTO:qgotvVP@gmail.com
END:VEVENT
BEGIN:VEVENT
DTSTART;TZID=America/New_York:20240528T110000
DTEND;TZID=America/New_York:20240528T123000
DTSTAMP:20260424T213402
CREATED:20231205T165754Z
LAST-MODIFIED:20231205T165754Z
UID:10000703-1716894000-1716899400@qgotv.org
SUMMARY:Program Committee Meeting
DESCRIPTION:Sorry\, but you do not have permission to view this content.
URL:https://qgotv.org/event/program-committee-meeting-10-2-2/2024-05-28/
LOCATION:Lake Miona Rec Center\, 1526 Buena Vista Boulevard\, The Villages\, FL\, 32162\, United States
CATEGORIES:Guild Committee Meetings
END:VEVENT
BEGIN:VEVENT
DTSTART;TZID=America/New_York:20240526T113000
DTEND;TZID=America/New_York:20240526T153000
DTSTAMP:20260424T213402
CREATED:20240113T181822Z
LAST-MODIFIED:20240113T181822Z
UID:10001567-1716723000-1716737400@qgotv.org
SUMMARY:Sunday at Sterling Hosted by  Sea Breeze Quilters Chapter
DESCRIPTION:Sorry\, but you do not have permission to view this content.
URL:https://qgotv.org/event/sunday-at-sterling-hosted-by-sea-breeze-quilters-chapter/2024-05-26/
LOCATION:Sterling Heights Recreation Center\, 2508 St Charles Pl.\, The Villages\, FL\, 32162\, United States
CATEGORIES:Open Sews,Sundays at Sterling
ORGANIZER;CN="Yvonne Wecker":MAILTO:qgotvVP@gmail.com
END:VEVENT
BEGIN:VEVENT
DTSTART;TZID=America/New_York:20240522T190000
DTEND;TZID=America/New_York:20240522T205000
DTSTAMP:20260424T213402
CREATED:20240430T174940Z
LAST-MODIFIED:20240430T174940Z
UID:10001417-1716404400-1716411000@qgotv.org
SUMMARY:Long Range Planning (LRP)-Cancelled
DESCRIPTION:Sorry\, but you do not have permission to view this content.
URL:https://qgotv.org/event/long-range-planning-lrp-2-2/
LOCATION:Moyer Recreation Center\, 3000 Moyer Loop\, The Villages\, FL\, 32163\, United States
CATEGORIES:Guild Committee Meetings
END:VEVENT
BEGIN:VEVENT
DTSTART;TZID=America/New_York:20240522T190000
DTEND;TZID=America/New_York:20240522T205000
DTSTAMP:20260424T213402
CREATED:20240430T174631Z
LAST-MODIFIED:20240502T201303Z
UID:10001796-1716404400-1716411000@qgotv.org
SUMMARY:Nominating Committee Meeting - 2025
DESCRIPTION:Sorry\, but you do not have permission to view this content.
URL:https://qgotv.org/event/nominating-committee-meeting-2025/
LOCATION:Moyer Recreation Center\, 3000 Moyer Loop\, The Villages\, FL\, 32163\, United States
CATEGORIES:Guild Committee Meetings
END:VEVENT
BEGIN:VEVENT
DTSTART;TZID=America/New_York:20240520T110000
DTEND;TZID=America/New_York:20240520T150000
DTSTAMP:20260424T213402
CREATED:20240111T194339Z
LAST-MODIFIED:20241012T154553Z
UID:10001434-1716202800-1716217200@qgotv.org
SUMMARY:Showcase 2025 Steering Committee Meeting
DESCRIPTION:Sorry\, but you do not have permission to view this content.
URL:https://qgotv.org/event/showcase-2025-steering-committee-meeting-2/2024-05-20/
LOCATION:Trilium Rec Center @ Brownwood Lofts\, 2660 Trillium Ridge\, The Villages\,\, FL\, 32163\, United States
CATEGORIES:Special Event
END:VEVENT
BEGIN:VEVENT
DTSTART;TZID=America/New_York:20240519T113000
DTEND;TZID=America/New_York:20240519T153000
DTSTAMP:20260424T213402
CREATED:20240113T181822Z
LAST-MODIFIED:20240113T181822Z
UID:10001566-1716118200-1716132600@qgotv.org
SUMMARY:Sunday at Sterling Hosted by  Sea Breeze Quilters Chapter
DESCRIPTION:Sorry\, but you do not have permission to view this content.
URL:https://qgotv.org/event/sunday-at-sterling-hosted-by-sea-breeze-quilters-chapter/2024-05-19/
LOCATION:Sterling Heights Recreation Center\, 2508 St Charles Pl.\, The Villages\, FL\, 32162\, United States
CATEGORIES:Open Sews,Sundays at Sterling
ORGANIZER;CN="Yvonne Wecker":MAILTO:qgotvVP@gmail.com
END:VEVENT
BEGIN:VEVENT
DTSTART;TZID=America/New_York:20240517T090000
DTEND;TZID=America/New_York:20240517T090000
DTSTAMP:20260424T213402
CREATED:20240430T184613Z
LAST-MODIFIED:20240430T184740Z
UID:10001650-1715936400-1715936400@qgotv.org
SUMMARY:Membership Manager Meeting - Cancelled
DESCRIPTION:Sorry\, but you do not have permission to view this content.
URL:https://qgotv.org/event/membership-manager-meeting-3-2/
LOCATION:Laurel Manor\, 1985 Laurel Manor Dr.\, The Villages\, FL\, 32162\, United States
CATEGORIES:Guild Committee Meetings
END:VEVENT
BEGIN:VEVENT
DTSTART;TZID=America/New_York:20240512T113000
DTEND;TZID=America/New_York:20240512T153000
DTSTAMP:20260424T213402
CREATED:20240113T181822Z
LAST-MODIFIED:20240113T181822Z
UID:10001565-1715513400-1715527800@qgotv.org
SUMMARY:Sunday at Sterling Hosted by  Sea Breeze Quilters Chapter
DESCRIPTION:Sorry\, but you do not have permission to view this content.
URL:https://qgotv.org/event/sunday-at-sterling-hosted-by-sea-breeze-quilters-chapter/2024-05-12/
LOCATION:Sterling Heights Recreation Center\, 2508 St Charles Pl.\, The Villages\, FL\, 32162\, United States
CATEGORIES:Open Sews,Sundays at Sterling
ORGANIZER;CN="Yvonne Wecker":MAILTO:qgotvVP@gmail.com
END:VEVENT
BEGIN:VEVENT
DTSTART;TZID=America/New_York:20240512T110000
DTEND;TZID=America/New_York:20240512T163000
DTSTAMP:20260424T213402
CREATED:20231223T145303Z
LAST-MODIFIED:20231223T145303Z
UID:10001012-1715511600-1715531400@qgotv.org
SUMMARY:Dear Jane 2024 Group
DESCRIPTION:Sorry\, but you do not have permission to view this content.
URL:https://qgotv.org/event/dear-jane-2023-group-2/2024-05-12/
LOCATION:Laurel Manor\, 1985 Laurel Manor Dr.\, The Villages\, FL\, 32162\, United States
CATEGORIES:Open Sews
END:VEVENT
BEGIN:VEVENT
DTSTART;TZID=America/New_York:20240511T123000
DTEND;TZID=America/New_York:20240511T153000
DTSTAMP:20260424T213402
CREATED:20240408T162802Z
LAST-MODIFIED:20240408T162802Z
UID:10001647-1715430600-1715441400@qgotv.org
SUMMARY:M2M Workshop -  Walking Foot Quilting PM
DESCRIPTION:Sorry\, but you do not have permission to view this content.
URL:https://qgotv.org/event/m2m-workshop-walking-foot-quilting-pm/
LOCATION:Eisenhower\, 3560 Buena Vista Blvd\, The Villages\, FL\, 32163\, United States
CATEGORIES:M2M
END:VEVENT
BEGIN:VEVENT
DTSTART;TZID=America/New_York:20240511T090000
DTEND;TZID=America/New_York:20240511T120000
DTSTAMP:20260424T213402
CREATED:20240408T162652Z
LAST-MODIFIED:20240408T162652Z
UID:10001038-1715418000-1715428800@qgotv.org
SUMMARY:M2M Workshop -  Walking Foot Quilting AM
DESCRIPTION:Sorry\, but you do not have permission to view this content.
URL:https://qgotv.org/event/m2m-workshop-walking-f00t-quilting-am/
LOCATION:Eisenhower\, 3560 Buena Vista Blvd\, The Villages\, FL\, 32163\, United States
CATEGORIES:M2M
END:VEVENT
BEGIN:VEVENT
DTSTART;TZID=America/New_York:20240508T090000
DTEND;TZID=America/New_York:20240508T153000
DTSTAMP:20260424T213402
CREATED:20240213T144424Z
LAST-MODIFIED:20240213T144503Z
UID:10001191-1715158800-1715182200@qgotv.org
SUMMARY:Visiting Artist Workshop with Kyra Reps  Mandala Madness
DESCRIPTION:Sorry\, but you do not have permission to view this content.
URL:https://qgotv.org/event/visiting-artist-workshop-with-5/
LOCATION:Rohan Recreation Center\, 850 Kristine Way\, The Villages\, FL\, 32163\, United States
CATEGORIES:Classes,Visiting Artist
END:VEVENT
BEGIN:VEVENT
DTSTART;TZID=America/New_York:20240507T190000
DTEND;TZID=America/New_York:20240507T205000
DTSTAMP:20260424T213402
CREATED:20240213T143335Z
LAST-MODIFIED:20240213T143335Z
UID:10001639-1715108400-1715115000@qgotv.org
SUMMARY:Evening Guild Meeting featuring Kyra Reps
DESCRIPTION:Sorry\, but you do not have permission to view this content.
URL:https://qgotv.org/event/evening-guild-meeting-featuring-kyra-reps/
LOCATION:Laurel Manor\, 1985 Laurel Manor Dr.\, The Villages\, FL\, 32162\, United States
CATEGORIES:Monthly Guild Meetings
END:VEVENT
BEGIN:VEVENT
DTSTART;TZID=America/New_York:20240507T173000
DTEND;TZID=America/New_York:20240507T183000
DTSTAMP:20260424T213402
CREATED:20240420T215757Z
LAST-MODIFIED:20240420T215757Z
UID:10001741-1715103000-1715106600@qgotv.org
SUMMARY:Showcase 2025 Chapter Coordinators Meeting
DESCRIPTION:Sorry\, but you do not have permission to view this content.
URL:https://qgotv.org/event/showcase-2025-chapter-coordinators-meeting-2/
LOCATION:Laurel Manor\, 1985 Laurel Manor Dr.\, The Villages\, FL\, 32162\, United States
CATEGORIES:Guild Committee Meetings
END:VEVENT
BEGIN:VEVENT
DTSTART;TZID=America/New_York:20240505T113000
DTEND;TZID=America/New_York:20240505T153000
DTSTAMP:20260424T213402
CREATED:20240113T181822Z
LAST-MODIFIED:20240113T181822Z
UID:10001564-1714908600-1714923000@qgotv.org
SUMMARY:Sunday at Sterling Hosted by  Sea Breeze Quilters Chapter
DESCRIPTION:Sorry\, but you do not have permission to view this content.
URL:https://qgotv.org/event/sunday-at-sterling-hosted-by-sea-breeze-quilters-chapter/2024-05-05/
LOCATION:Sterling Heights Recreation Center\, 2508 St Charles Pl.\, The Villages\, FL\, 32162\, United States
CATEGORIES:Open Sews,Sundays at Sterling
ORGANIZER;CN="Yvonne Wecker":MAILTO:qgotvVP@gmail.com
END:VEVENT
BEGIN:VEVENT
DTSTART;TZID=America/New_York:20240503T090000
DTEND;TZID=America/New_York:20240503T105000
DTSTAMP:20260424T213402
CREATED:20240408T161828Z
LAST-MODIFIED:20240408T161828Z
UID:10001646-1714726800-1714733400@qgotv.org
SUMMARY:Charity Coordinators Meeting
DESCRIPTION:Sorry\, but you do not have permission to view this content.
URL:https://qgotv.org/event/charity-coordinators-meeting/
LOCATION:Rohan Recreation Center\, 850 Kristine Way\, The Villages\, FL\, 32163\, United States
CATEGORIES:Guild Committee Meetings
ORGANIZER;CN="Alice Totsch":MAILTO:qgotvcharities@gmail.com
END:VEVENT
BEGIN:VEVENT
DTSTART;TZID=America/New_York:20240428T113000
DTEND;TZID=America/New_York:20240428T153000
DTSTAMP:20260424T213402
CREATED:20240113T181216Z
LAST-MODIFIED:20240113T181427Z
UID:10001524-1714303800-1714318200@qgotv.org
SUMMARY:Sunday at Sterling Hosted by  Rohan Quilters Chapter
DESCRIPTION:Sorry\, but you do not have permission to view this content.
URL:https://qgotv.org/event/sunday-at-sterling-hosted-by-chapter/2024-04-28/
LOCATION:Sterling Heights Recreation Center\, 2508 St Charles Pl.\, The Villages\, FL\, 32162\, United States
CATEGORIES:Open Sews,Sundays at Sterling
ORGANIZER;CN="Yvonne Wecker":MAILTO:qgotvVP@gmail.com
END:VEVENT
BEGIN:VEVENT
DTSTART;TZID=America/New_York:20240424T190000
DTEND;TZID=America/New_York:20240424T205000
DTSTAMP:20260424T213402
CREATED:20231223T165916Z
LAST-MODIFIED:20240920T112941Z
UID:10001416-1713985200-1713991800@qgotv.org
SUMMARY:Long Range Planning (LRP)- Cancelled
DESCRIPTION:Sorry\, but you do not have permission to view this content.
URL:https://qgotv.org/event/long-range-planning-lrp-2/2024-04-24/
LOCATION:Moyer Recreation Center\, 3000 Moyer Loop\, The Villages\, FL\, 32163\, United States
CATEGORIES:Guild Committee Meetings
END:VEVENT
BEGIN:VEVENT
DTSTART;TZID=America/New_York:20240423T110000
DTEND;TZID=America/New_York:20240423T123000
DTSTAMP:20260424T213402
CREATED:20231205T165754Z
LAST-MODIFIED:20231205T165754Z
UID:10000702-1713870000-1713875400@qgotv.org
SUMMARY:Program Committee Meeting
DESCRIPTION:Sorry\, but you do not have permission to view this content.
URL:https://qgotv.org/event/program-committee-meeting-10-2-2/2024-04-23/
LOCATION:Lake Miona Rec Center\, 1526 Buena Vista Boulevard\, The Villages\, FL\, 32162\, United States
CATEGORIES:Guild Committee Meetings
END:VEVENT
BEGIN:VEVENT
DTSTART;TZID=America/New_York:20240421T113000
DTEND;TZID=America/New_York:20240421T153000
DTSTAMP:20260424T213402
CREATED:20240113T181216Z
LAST-MODIFIED:20240113T181427Z
UID:10001523-1713699000-1713713400@qgotv.org
SUMMARY:Sunday at Sterling Hosted by  Rohan Quilters Chapter
DESCRIPTION:Sorry\, but you do not have permission to view this content.
URL:https://qgotv.org/event/sunday-at-sterling-hosted-by-chapter/2024-04-21/
LOCATION:Sterling Heights Recreation Center\, 2508 St Charles Pl.\, The Villages\, FL\, 32162\, United States
CATEGORIES:Open Sews,Sundays at Sterling
ORGANIZER;CN="Yvonne Wecker":MAILTO:qgotvVP@gmail.com
END:VEVENT
BEGIN:VEVENT
DTSTART;TZID=America/New_York:20240419T090000
DTEND;TZID=America/New_York:20240419T090000
DTSTAMP:20260424T213402
CREATED:20240410T115743Z
LAST-MODIFIED:20240410T115743Z
UID:10001648-1713517200-1713517200@qgotv.org
SUMMARY:Membership Manager Meeting
DESCRIPTION:Sorry\, but you do not have permission to view this content.
URL:https://qgotv.org/event/membership-manager-meeting-2/
LOCATION:Laurel Manor\, 1985 Laurel Manor Dr.\, The Villages\, FL\, 32162\, United States
CATEGORIES:Guild Committee Meetings
END:VEVENT
BEGIN:VEVENT
DTSTART;TZID=America/New_York:20240415T110000
DTEND;TZID=America/New_York:20240415T150000
DTSTAMP:20260424T213402
CREATED:20240111T194339Z
LAST-MODIFIED:20241012T154553Z
UID:10001433-1713178800-1713193200@qgotv.org
SUMMARY:Showcase 2025 Steering Committee Meeting
DESCRIPTION:Sorry\, but you do not have permission to view this content.
URL:https://qgotv.org/event/showcase-2025-steering-committee-meeting-2/2024-04-15/
LOCATION:Trilium Rec Center @ Brownwood Lofts\, 2660 Trillium Ridge\, The Villages\,\, FL\, 32163\, United States
CATEGORIES:Special Event
END:VEVENT
BEGIN:VEVENT
DTSTART;TZID=America/New_York:20240414T113000
DTEND;TZID=America/New_York:20240414T153000
DTSTAMP:20260424T213402
CREATED:20240113T181216Z
LAST-MODIFIED:20240113T181427Z
UID:10001522-1713094200-1713108600@qgotv.org
SUMMARY:Sunday at Sterling Hosted by  Rohan Quilters Chapter
DESCRIPTION:Sorry\, but you do not have permission to view this content.
URL:https://qgotv.org/event/sunday-at-sterling-hosted-by-chapter/2024-04-14/
LOCATION:Sterling Heights Recreation Center\, 2508 St Charles Pl.\, The Villages\, FL\, 32162\, United States
CATEGORIES:Open Sews,Sundays at Sterling
ORGANIZER;CN="Yvonne Wecker":MAILTO:qgotvVP@gmail.com
END:VEVENT
BEGIN:VEVENT
DTSTART;TZID=America/New_York:20240414T110000
DTEND;TZID=America/New_York:20240414T163000
DTSTAMP:20260424T213402
CREATED:20231223T145303Z
LAST-MODIFIED:20231223T145303Z
UID:10001011-1713092400-1713112200@qgotv.org
SUMMARY:Dear Jane 2024 Group
DESCRIPTION:Sorry\, but you do not have permission to view this content.
URL:https://qgotv.org/event/dear-jane-2023-group-2/2024-04-14/
LOCATION:Laurel Manor\, 1985 Laurel Manor Dr.\, The Villages\, FL\, 32162\, United States
CATEGORIES:Open Sews
END:VEVENT
BEGIN:VEVENT
DTSTART;TZID=America/New_York:20240413T090000
DTEND;TZID=America/New_York:20240413T153000
DTSTAMP:20260424T213402
CREATED:20240408T162115Z
LAST-MODIFIED:20240408T162115Z
UID:10001037-1712998800-1713022200@qgotv.org
SUMMARY:M2M Workshop -  Lola Crossbody Bag
DESCRIPTION:Sorry\, but you do not have permission to view this content.
URL:https://qgotv.org/event/m2m-workshop-lola-crossbody-bag/
LOCATION:Eisenhower\, 3560 Buena Vista Blvd\, The Villages\, FL\, 32163\, United States
CATEGORIES:M2M
END:VEVENT
BEGIN:VEVENT
DTSTART;TZID=America/New_York:20240407T113000
DTEND;TZID=America/New_York:20240407T153000
DTSTAMP:20260424T213402
CREATED:20240113T181216Z
LAST-MODIFIED:20240113T181427Z
UID:10001521-1712489400-1712503800@qgotv.org
SUMMARY:Sunday at Sterling Hosted by  Rohan Quilters Chapter
DESCRIPTION:Sorry\, but you do not have permission to view this content.
URL:https://qgotv.org/event/sunday-at-sterling-hosted-by-chapter/2024-04-07/
LOCATION:Sterling Heights Recreation Center\, 2508 St Charles Pl.\, The Villages\, FL\, 32162\, United States
CATEGORIES:Open Sews,Sundays at Sterling
ORGANIZER;CN="Yvonne Wecker":MAILTO:qgotvVP@gmail.com
END:VEVENT
BEGIN:VEVENT
DTSTART;TZID=America/New_York:20240405T090000
DTEND;TZID=America/New_York:20240405T105000
DTSTAMP:20260424T213402
CREATED:20240213T155210Z
LAST-MODIFIED:20240213T155210Z
UID:10001641-1712307600-1712314200@qgotv.org
SUMMARY:How's It Going with Regional Liaisons -April
DESCRIPTION:Sorry\, but you do not have permission to view this content.
URL:https://qgotv.org/event/hows-it-going-with-regional-liaisons-april/
LOCATION:Rohan Recreation Center\, 850 Kristine Way\, The Villages\, FL\, 32163\, United States
CATEGORIES:Special Event
END:VEVENT
END:VCALENDAR