BEGIN:VCALENDAR
VERSION:2.0
PRODID:-//Quilting Guild of The Villages - ECPv6.15.20//NONSGML v1.0//EN
CALSCALE:GREGORIAN
METHOD:PUBLISH
X-ORIGINAL-URL:https://qgotv.org
X-WR-CALDESC:Events for Quilting Guild of The Villages
REFRESH-INTERVAL;VALUE=DURATION:PT1H
X-Robots-Tag:noindex
X-PUBLISHED-TTL:PT1H
BEGIN:VTIMEZONE
TZID:America/New_York
BEGIN:DAYLIGHT
TZOFFSETFROM:-0500
TZOFFSETTO:-0400
TZNAME:EDT
DTSTART:20230312T070000
END:DAYLIGHT
BEGIN:STANDARD
TZOFFSETFROM:-0400
TZOFFSETTO:-0500
TZNAME:EST
DTSTART:20231105T060000
END:STANDARD
BEGIN:DAYLIGHT
TZOFFSETFROM:-0500
TZOFFSETTO:-0400
TZNAME:EDT
DTSTART:20240310T070000
END:DAYLIGHT
BEGIN:STANDARD
TZOFFSETFROM:-0400
TZOFFSETTO:-0500
TZNAME:EST
DTSTART:20241103T060000
END:STANDARD
BEGIN:DAYLIGHT
TZOFFSETFROM:-0500
TZOFFSETTO:-0400
TZNAME:EDT
DTSTART:20250309T070000
END:DAYLIGHT
BEGIN:STANDARD
TZOFFSETFROM:-0400
TZOFFSETTO:-0500
TZNAME:EST
DTSTART:20251102T060000
END:STANDARD
BEGIN:DAYLIGHT
TZOFFSETFROM:-0500
TZOFFSETTO:-0400
TZNAME:EDT
DTSTART:20260308T070000
END:DAYLIGHT
BEGIN:STANDARD
TZOFFSETFROM:-0400
TZOFFSETTO:-0500
TZNAME:EST
DTSTART:20261101T060000
END:STANDARD
END:VTIMEZONE
BEGIN:VEVENT
DTSTART;TZID=America/New_York:20241026T120000
DTEND;TZID=America/New_York:20241026T173000
DTSTAMP:20260423T164915
CREATED:20240925T184146Z
LAST-MODIFIED:20241017T025134Z
UID:10002143-1729944000-1729963800@qgotv.org
SUMMARY:Ist Annual QGOTV Charity Golf Outing-Cancelled
DESCRIPTION:Sorry\, but you do not have permission to view this content.
URL:https://qgotv.org/event/ist-annual-qgotv-charity-golf-outing-2/
LOCATION:Bonifay Country Club\, 1033 Pinellas Place\, The Villages\, FL\, 32163\, United States
CATEGORIES:Special Event
END:VEVENT
BEGIN:VEVENT
DTSTART;TZID=America/New_York:20241027T113000
DTEND;TZID=America/New_York:20241027T153000
DTSTAMP:20260423T164915
CREATED:20240113T182128Z
LAST-MODIFIED:20240523T172439Z
UID:10001813-1730028600-1730043000@qgotv.org
SUMMARY:No Host Sunday at Sterling - Open Sew for QGOTV Members
DESCRIPTION:Sorry\, but you do not have permission to view this content.
URL:https://qgotv.org/event/no-host-sunday-at-sterling-open-sew-for-qgtov-members/2024-10-27/
LOCATION:Sterling Heights Recreation Center\, 2508 St Charles Pl.\, The Villages\, FL\, 32162\, United States
CATEGORIES:Open Sews,Sundays at Sterling
ORGANIZER;CN="Yvonne Wecker":MAILTO:qgotvVP@gmail.com
END:VEVENT
BEGIN:VEVENT
DTSTART;TZID=America/New_York:20241103T110000
DTEND;TZID=America/New_York:20241103T162000
DTSTAMP:20260423T164915
CREATED:20240523T173113Z
LAST-MODIFIED:20240523T173113Z
UID:10001822-1730631600-1730650800@qgotv.org
SUMMARY:Cancelled - No Host Sunday at Sterling (Elections)
DESCRIPTION:Sorry\, but you do not have permission to view this content.
URL:https://qgotv.org/event/cancelled-no-host-sunday-at-sterling-elections/
LOCATION:Sterling Heights Recreation Center\, 2508 St Charles Pl.\, The Villages\, FL\, 32162\, United States
END:VEVENT
BEGIN:VEVENT
DTSTART;TZID=America/New_York:20241105T173000
DTEND;TZID=America/New_York:20241105T183000
DTSTAMP:20260423T164915
CREATED:20240420T214532Z
LAST-MODIFIED:20250115T234454Z
UID:10001716-1730827800-1730831400@qgotv.org
SUMMARY:Showcase 2025 Chapter Coordinators Meeting
DESCRIPTION:Sorry\, but you do not have permission to view this content.
URL:https://qgotv.org/event/showcase-2025-chapter-coordinators-meeting/2024-11-05/
LOCATION:Laurel Manor\, 1985 Laurel Manor Dr.\, The Villages\, FL\, 32162\, United States
CATEGORIES:Guild Committee Meetings
END:VEVENT
BEGIN:VEVENT
DTSTART;TZID=America/New_York:20241105T190000
DTEND;TZID=America/New_York:20241105T205000
DTSTAMP:20260423T164915
CREATED:20240710T230107Z
LAST-MODIFIED:20240830T210015Z
UID:10001938-1730833200-1730839800@qgotv.org
SUMMARY:Evening Guild Meeting featuring Parade of Quilts - Part 1
DESCRIPTION:Sorry\, but you do not have permission to view this content.
URL:https://qgotv.org/event/evening-guild-meeting-featuring-parade-of-quilts/
LOCATION:Laurel Manor\, 1985 Laurel Manor Dr.\, The Villages\, FL\, 32162\, United States
CATEGORIES:Monthly Guild Meetings
END:VEVENT
BEGIN:VEVENT
DTSTART;TZID=America/New_York:20241109T090000
DTEND;TZID=America/New_York:20241109T120000
DTSTAMP:20260423T164915
CREATED:20240710T232232Z
LAST-MODIFIED:20240930T230345Z
UID:10001942-1731142800-1731153600@qgotv.org
SUMMARY:M2M  Dress Up Your Binding Workshop @ Eisenhower  (morning)
DESCRIPTION:Sorry\, but you do not have permission to view this content.
URL:https://qgotv.org/event/m2m-dress-up-your-binding-workshop-eisenhower-am/
LOCATION:Eisenhower\, 3560 Buena Vista Blvd\, The Villages\, FL\, 32163\, United States
CATEGORIES:M2M
END:VEVENT
BEGIN:VEVENT
DTSTART;TZID=America/New_York:20241109T130000
DTEND;TZID=America/New_York:20241109T160000
DTSTAMP:20260423T164915
CREATED:20240930T230520Z
LAST-MODIFIED:20241019T172224Z
UID:10002145-1731157200-1731168000@qgotv.org
SUMMARY:M2M  - Open Sew
DESCRIPTION:Sorry\, but you do not have permission to view this content.
URL:https://qgotv.org/event/m2m-open-sew/
LOCATION:Eisenhower\, 3560 Buena Vista Blvd\, The Villages\, FL\, 32163\, United States
CATEGORIES:M2M
END:VEVENT
BEGIN:VEVENT
DTSTART;TZID=America/New_York:20241110T110000
DTEND;TZID=America/New_York:20241110T163000
DTSTAMP:20260423T164915
CREATED:20231223T145303Z
LAST-MODIFIED:20231223T145303Z
UID:10001018-1731236400-1731256200@qgotv.org
SUMMARY:Dear Jane 2024 Group
DESCRIPTION:Sorry\, but you do not have permission to view this content.
URL:https://qgotv.org/event/dear-jane-2023-group-2/2024-11-10/
LOCATION:Laurel Manor\, 1985 Laurel Manor Dr.\, The Villages\, FL\, 32162\, United States
CATEGORIES:Open Sews
END:VEVENT
BEGIN:VEVENT
DTSTART;TZID=America/New_York:20241110T113000
DTEND;TZID=America/New_York:20241110T153000
DTSTAMP:20260423T164915
CREATED:20240113T182128Z
LAST-MODIFIED:20240523T172439Z
UID:10001814-1731238200-1731252600@qgotv.org
SUMMARY:No Host Sunday at Sterling - Open Sew for QGOTV Members
DESCRIPTION:Sorry\, but you do not have permission to view this content.
URL:https://qgotv.org/event/no-host-sunday-at-sterling-open-sew-for-qgtov-members/2024-11-10/
LOCATION:Sterling Heights Recreation Center\, 2508 St Charles Pl.\, The Villages\, FL\, 32162\, United States
CATEGORIES:Open Sews,Sundays at Sterling
ORGANIZER;CN="Yvonne Wecker":MAILTO:qgotvVP@gmail.com
END:VEVENT
BEGIN:VEVENT
DTSTART;TZID=America/New_York:20241115T090000
DTEND;TZID=America/New_York:20241115T105000
DTSTAMP:20260423T164915
CREATED:20241014T220217Z
LAST-MODIFIED:20241019T172357Z
UID:10002211-1731661200-1731667800@qgotv.org
SUMMARY:Membership Managers Meeting
DESCRIPTION:Sorry\, but you do not have permission to view this content.
URL:https://qgotv.org/event/membership-manager-meeting-8/
LOCATION:Laurel Manor\, 1985 Laurel Manor Dr.\, The Villages\, FL\, 32162\, United States
CATEGORIES:Guild Committee Meetings
END:VEVENT
BEGIN:VEVENT
DTSTART;TZID=America/New_York:20241117T113000
DTEND;TZID=America/New_York:20241117T153000
DTSTAMP:20260423T164915
CREATED:20240113T182128Z
LAST-MODIFIED:20240523T172439Z
UID:10001815-1731843000-1731857400@qgotv.org
SUMMARY:No Host Sunday at Sterling - Open Sew for QGOTV Members
DESCRIPTION:Sorry\, but you do not have permission to view this content.
URL:https://qgotv.org/event/no-host-sunday-at-sterling-open-sew-for-qgtov-members/2024-11-17/
LOCATION:Sterling Heights Recreation Center\, 2508 St Charles Pl.\, The Villages\, FL\, 32162\, United States
CATEGORIES:Open Sews,Sundays at Sterling
ORGANIZER;CN="Yvonne Wecker":MAILTO:qgotvVP@gmail.com
END:VEVENT
BEGIN:VEVENT
DTSTART;TZID=America/New_York:20241118T110000
DTEND;TZID=America/New_York:20241118T150000
DTSTAMP:20260423T164915
CREATED:20240111T194339Z
LAST-MODIFIED:20241012T154553Z
UID:10001440-1731927600-1731942000@qgotv.org
SUMMARY:Showcase 2025 Steering Committee Meeting
DESCRIPTION:Sorry\, but you do not have permission to view this content.
URL:https://qgotv.org/event/showcase-2025-steering-committee-meeting-2/2024-11-18/
LOCATION:Trilium Rec Center @ Brownwood Lofts\, 2660 Trillium Ridge\, The Villages\,\, FL\, 32163\, United States
CATEGORIES:Special Event
END:VEVENT
BEGIN:VEVENT
DTSTART;TZID=America/New_York:20241119T140000
DTEND;TZID=America/New_York:20241119T153000
DTSTAMP:20260423T164915
CREATED:20240930T225547Z
LAST-MODIFIED:20240930T225607Z
UID:10002142-1732024800-1732030200@qgotv.org
SUMMARY:Annual Holiday Stocking Entry Deadline
DESCRIPTION:Sorry\, but you do not have permission to view this content.
URL:https://qgotv.org/event/annual-holiday-stocking-entry-deadline/
LOCATION:Laurel Manor\, 1985 Laurel Manor Dr.\, The Villages\, FL\, 32162\, United States
CATEGORIES:Monthly Guild Meetings,Special Event
END:VEVENT
BEGIN:VEVENT
DTSTART;VALUE=DATE:20241123
DTEND;VALUE=DATE:20250105
DTSTAMP:20260423T164915
CREATED:20241016T202704Z
LAST-MODIFIED:20241016T202704Z
UID:10002212-1732320000-1736035199@qgotv.org
SUMMARY:2025 Membership Renewals
DESCRIPTION:Sorry\, but you do not have permission to view this content.
URL:https://qgotv.org/event/2025-membership-renewals/
LOCATION:FL
END:VEVENT
BEGIN:VEVENT
DTSTART;TZID=America/New_York:20241124T113000
DTEND;TZID=America/New_York:20241124T153000
DTSTAMP:20260423T164915
CREATED:20240113T182128Z
LAST-MODIFIED:20240523T172439Z
UID:10001816-1732447800-1732462200@qgotv.org
SUMMARY:No Host Sunday at Sterling - Open Sew for QGOTV Members
DESCRIPTION:Sorry\, but you do not have permission to view this content.
URL:https://qgotv.org/event/no-host-sunday-at-sterling-open-sew-for-qgtov-members/2024-11-24/
LOCATION:Sterling Heights Recreation Center\, 2508 St Charles Pl.\, The Villages\, FL\, 32162\, United States
CATEGORIES:Open Sews,Sundays at Sterling
ORGANIZER;CN="Yvonne Wecker":MAILTO:qgotvVP@gmail.com
END:VEVENT
BEGIN:VEVENT
DTSTART;TZID=America/New_York:20241126T110000
DTEND;TZID=America/New_York:20241126T123000
DTSTAMP:20260423T164915
CREATED:20240710T232917Z
LAST-MODIFIED:20240710T232918Z
UID:10000709-1732618800-1732624200@qgotv.org
SUMMARY:Program Committee Meeting
DESCRIPTION:Sorry\, but you do not have permission to view this content.
URL:https://qgotv.org/event/program-committee-meeting-10-2-2-3/2024-11-26/
LOCATION:Lake Miona Rec Center\, 1526 Buena Vista Boulevard\, The Villages\, FL\, 32162\, United States
CATEGORIES:Guild Committee Meetings
END:VEVENT
BEGIN:VEVENT
DTSTART;TZID=America/New_York:20241127T090000
DTEND;TZID=America/New_York:20241127T153000
DTSTAMP:20260423T164915
CREATED:20240710T232411Z
LAST-MODIFIED:20240710T232411Z
UID:10001943-1732698000-1732721400@qgotv.org
SUMMARY:M2M - Notions Travel Box Workshop  at Sea Breeze
DESCRIPTION:Sorry\, but you do not have permission to view this content.
URL:https://qgotv.org/event/m2m-notions-travel-box-workshop-at-sea-breeze-2/
LOCATION:Sea Breeze\, 2384 Buena Vista Blvd\, The Villages\, FL\, 32162\, United States
CATEGORIES:M2M
END:VEVENT
BEGIN:VEVENT
DTSTART;TZID=America/New_York:20241201T113000
DTEND;TZID=America/New_York:20241201T153000
DTSTAMP:20260423T164915
CREATED:20240113T182128Z
LAST-MODIFIED:20240523T172439Z
UID:10001817-1733052600-1733067000@qgotv.org
SUMMARY:No Host Sunday at Sterling - Open Sew for QGOTV Members
DESCRIPTION:Sorry\, but you do not have permission to view this content.
URL:https://qgotv.org/event/no-host-sunday-at-sterling-open-sew-for-qgtov-members/2024-12-01/
LOCATION:Sterling Heights Recreation Center\, 2508 St Charles Pl.\, The Villages\, FL\, 32162\, United States
CATEGORIES:Open Sews,Sundays at Sterling
ORGANIZER;CN="Yvonne Wecker":MAILTO:qgotvVP@gmail.com
END:VEVENT
BEGIN:VEVENT
DTSTART;TZID=America/New_York:20241203T173000
DTEND;TZID=America/New_York:20241203T183000
DTSTAMP:20260423T164915
CREATED:20240420T214532Z
LAST-MODIFIED:20250115T234454Z
UID:10001717-1733247000-1733250600@qgotv.org
SUMMARY:Showcase 2025 Chapter Coordinators Meeting
DESCRIPTION:Sorry\, but you do not have permission to view this content.
URL:https://qgotv.org/event/showcase-2025-chapter-coordinators-meeting/2024-12-03/
LOCATION:Laurel Manor\, 1985 Laurel Manor Dr.\, The Villages\, FL\, 32162\, United States
CATEGORIES:Guild Committee Meetings
END:VEVENT
BEGIN:VEVENT
DTSTART;TZID=America/New_York:20241203T183000
DTEND;TZID=America/New_York:20241203T200000
DTSTAMP:20260423T164916
CREATED:20240807T140828Z
LAST-MODIFIED:20241201T145149Z
UID:10002138-1733250600-1733256000@qgotv.org
SUMMARY:Annual Holiday Stocking Challenge Voting
DESCRIPTION:Sorry\, but you do not have permission to view this content.
URL:https://qgotv.org/event/annual-holiday-stocking-challenge-voting/
LOCATION:Laurel Manor\, 1985 Laurel Manor Dr.\, The Villages\, FL\, 32162\, United States
CATEGORIES:Monthly Guild Meetings,Special Event
END:VEVENT
BEGIN:VEVENT
DTSTART;TZID=America/New_York:20241203T190000
DTEND;TZID=America/New_York:20241203T205000
DTSTAMP:20260423T164916
CREATED:20240827T114457Z
LAST-MODIFIED:20240827T114507Z
UID:10002140-1733252400-1733259000@qgotv.org
SUMMARY:Evening Guild Meeting featuring Diane Murtha
DESCRIPTION:Sorry\, but you do not have permission to view this content.
URL:https://qgotv.org/event/evening-guild-meeting-featuring-duane-murtha/
LOCATION:Laurel Manor\, 1985 Laurel Manor Dr.\, The Villages\, FL\, 32162\, United States
CATEGORIES:Monthly Guild Meetings
END:VEVENT
BEGIN:VEVENT
DTSTART;TZID=America/New_York:20241204T090000
DTEND;TZID=America/New_York:20241204T153000
DTSTAMP:20260423T164916
CREATED:20240710T224500Z
LAST-MODIFIED:20240710T224625Z
UID:10001932-1733302800-1733326200@qgotv.org
SUMMARY:Visiting Artist Workshop with  Diane Murtha
DESCRIPTION:Sorry\, but you do not have permission to view this content.
URL:https://qgotv.org/event/visiting-artist-workshop-with-name/
LOCATION:Rohan Recreation Center\, 850 Kristine Way\, The Villages\, FL\, 32163\, United States
CATEGORIES:Classes,Visiting Artist
END:VEVENT
BEGIN:VEVENT
DTSTART;TZID=America/New_York:20241206T090000
DTEND;TZID=America/New_York:20241206T105000
DTSTAMP:20260423T164916
CREATED:20240213T155430Z
LAST-MODIFIED:20241012T153815Z
UID:10001643-1733475600-1733482200@qgotv.org
SUMMARY:ALL Regional Liaisons Meeting-December
DESCRIPTION:Sorry\, but you do not have permission to view this content.
URL:https://qgotv.org/event/hows-it-going-with-regional-liaisons-december/
LOCATION:Rohan Recreation Center\, 850 Kristine Way\, The Villages\, FL\, 32163\, United States
CATEGORIES:Special Event
END:VEVENT
BEGIN:VEVENT
DTSTART;TZID=America/New_York:20241208T110000
DTEND;TZID=America/New_York:20241208T163000
DTSTAMP:20260423T164916
CREATED:20231223T145303Z
LAST-MODIFIED:20231223T145303Z
UID:10001019-1733655600-1733675400@qgotv.org
SUMMARY:Dear Jane 2024 Group
DESCRIPTION:Sorry\, but you do not have permission to view this content.
URL:https://qgotv.org/event/dear-jane-2023-group-2/2024-12-08/
LOCATION:Laurel Manor\, 1985 Laurel Manor Dr.\, The Villages\, FL\, 32162\, United States
CATEGORIES:Open Sews
END:VEVENT
BEGIN:VEVENT
DTSTART;TZID=America/New_York:20241208T113000
DTEND;TZID=America/New_York:20241208T153000
DTSTAMP:20260423T164916
CREATED:20240113T182128Z
LAST-MODIFIED:20240523T172439Z
UID:10001818-1733657400-1733671800@qgotv.org
SUMMARY:No Host Sunday at Sterling - Open Sew for QGOTV Members
DESCRIPTION:Sorry\, but you do not have permission to view this content.
URL:https://qgotv.org/event/no-host-sunday-at-sterling-open-sew-for-qgtov-members/2024-12-08/
LOCATION:Sterling Heights Recreation Center\, 2508 St Charles Pl.\, The Villages\, FL\, 32162\, United States
CATEGORIES:Open Sews,Sundays at Sterling
ORGANIZER;CN="Yvonne Wecker":MAILTO:qgotvVP@gmail.com
END:VEVENT
BEGIN:VEVENT
DTSTART;TZID=America/New_York:20241214T090000
DTEND;TZID=America/New_York:20241214T120000
DTSTAMP:20260423T164916
CREATED:20240710T232529Z
LAST-MODIFIED:20241007T155306Z
UID:10001944-1734166800-1734177600@qgotv.org
SUMMARY:M2M  Rope Trivet Bowl Workshop @ Eisenhower AM
DESCRIPTION:Sorry\, but you do not have permission to view this content.
URL:https://qgotv.org/event/m2m-rope-trivet-bowl-workshop-eisenhower/
LOCATION:Eisenhower\, 3560 Buena Vista Blvd\, The Villages\, FL\, 32163\, United States
CATEGORIES:M2M
END:VEVENT
BEGIN:VEVENT
DTSTART;TZID=America/New_York:20241214T130000
DTEND;TZID=America/New_York:20241214T160000
DTSTAMP:20260423T164916
CREATED:20241031T051304Z
LAST-MODIFIED:20241031T051304Z
UID:10002213-1734181200-1734192000@qgotv.org
SUMMARY:M2M  - Open Sew
DESCRIPTION:Sorry\, but you do not have permission to view this content.
URL:https://qgotv.org/event/m2m-open-sew-2/
LOCATION:Eisenhower\, 3560 Buena Vista Blvd\, The Villages\, FL\, 32163\, United States
CATEGORIES:M2M
END:VEVENT
BEGIN:VEVENT
DTSTART;TZID=America/New_York:20241215T113000
DTEND;TZID=America/New_York:20241215T153000
DTSTAMP:20260423T164916
CREATED:20240113T182128Z
LAST-MODIFIED:20240523T172439Z
UID:10001819-1734262200-1734276600@qgotv.org
SUMMARY:No Host Sunday at Sterling - Open Sew for QGOTV Members
DESCRIPTION:Sorry\, but you do not have permission to view this content.
URL:https://qgotv.org/event/no-host-sunday-at-sterling-open-sew-for-qgtov-members/2024-12-15/
LOCATION:Sterling Heights Recreation Center\, 2508 St Charles Pl.\, The Villages\, FL\, 32162\, United States
CATEGORIES:Open Sews,Sundays at Sterling
ORGANIZER;CN="Yvonne Wecker":MAILTO:qgotvVP@gmail.com
END:VEVENT
BEGIN:VEVENT
DTSTART;TZID=America/New_York:20241216T110000
DTEND;TZID=America/New_York:20241216T150000
DTSTAMP:20260423T164916
CREATED:20240111T194339Z
LAST-MODIFIED:20241012T154553Z
UID:10001441-1734346800-1734361200@qgotv.org
SUMMARY:Showcase 2025 Steering Committee Meeting
DESCRIPTION:Sorry\, but you do not have permission to view this content.
URL:https://qgotv.org/event/showcase-2025-steering-committee-meeting-2/2024-12-16/
LOCATION:Trilium Rec Center @ Brownwood Lofts\, 2660 Trillium Ridge\, The Villages\,\, FL\, 32163\, United States
CATEGORIES:Special Event
END:VEVENT
BEGIN:VEVENT
DTSTART;TZID=America/New_York:20241220T090000
DTEND;TZID=America/New_York:20241220T105000
DTSTAMP:20260423T164916
CREATED:20240624T165931Z
LAST-MODIFIED:20241019T172900Z
UID:10001655-1734685200-1734691800@qgotv.org
SUMMARY:Membership Managers Meeting - Cancelled
DESCRIPTION:Sorry\, but you do not have permission to view this content.
URL:https://qgotv.org/event/membership-managers-meeting-cancelled-3-4/
LOCATION:Laurel Manor\, 1985 Laurel Manor Dr.\, The Villages\, FL\, 32162\, United States
CATEGORIES:Guild Committee Meetings
END:VEVENT
END:VCALENDAR