BEGIN:VCALENDAR
VERSION:2.0
PRODID:-//Quilting Guild of The Villages - ECPv6.15.20//NONSGML v1.0//EN
CALSCALE:GREGORIAN
METHOD:PUBLISH
X-WR-CALNAME:Quilting Guild of The Villages
X-ORIGINAL-URL:https://qgotv.org
X-WR-CALDESC:Events for Quilting Guild of The Villages
REFRESH-INTERVAL;VALUE=DURATION:PT1H
X-Robots-Tag:noindex
X-PUBLISHED-TTL:PT1H
BEGIN:VTIMEZONE
TZID:America/New_York
BEGIN:DAYLIGHT
TZOFFSETFROM:-0500
TZOFFSETTO:-0400
TZNAME:EDT
DTSTART:20240310T070000
END:DAYLIGHT
BEGIN:STANDARD
TZOFFSETFROM:-0400
TZOFFSETTO:-0500
TZNAME:EST
DTSTART:20241103T060000
END:STANDARD
BEGIN:DAYLIGHT
TZOFFSETFROM:-0500
TZOFFSETTO:-0400
TZNAME:EDT
DTSTART:20250309T070000
END:DAYLIGHT
BEGIN:STANDARD
TZOFFSETFROM:-0400
TZOFFSETTO:-0500
TZNAME:EST
DTSTART:20251102T060000
END:STANDARD
BEGIN:DAYLIGHT
TZOFFSETFROM:-0500
TZOFFSETTO:-0400
TZNAME:EDT
DTSTART:20260308T070000
END:DAYLIGHT
BEGIN:STANDARD
TZOFFSETFROM:-0400
TZOFFSETTO:-0500
TZNAME:EST
DTSTART:20261101T060000
END:STANDARD
END:VTIMEZONE
BEGIN:VEVENT
DTSTART;TZID=America/New_York:20250603T183000
DTEND;TZID=America/New_York:20250603T205000
DTSTAMP:20260423T164441
CREATED:20250209T172036Z
LAST-MODIFIED:20250428T143237Z
UID:10002021-1748975400-1748983800@qgotv.org
SUMMARY:Evening Guild Meeting featuring Stephanie Baker and Ann Troutman
DESCRIPTION:Sorry\, but you do not have permission to view this content.
URL:https://qgotv.org/event/evening-guild-meeting-featuring-6-2/
LOCATION:Rohan Recreation Center\, 850 Kristine Way\, The Villages\, FL\, 32163\, United States
CATEGORIES:Monthly Guild Meetings
END:VEVENT
BEGIN:VEVENT
DTSTART;TZID=America/New_York:20250604T090000
DTEND;TZID=America/New_York:20250604T153000
DTSTAMP:20260423T164441
CREATED:20250209T170218Z
LAST-MODIFIED:20250224T161520Z
UID:10002218-1749027600-1749051000@qgotv.org
SUMMARY:Visiting Artist -Desert Sky workshop with Ann Troutman
DESCRIPTION:Sorry\, but you do not have permission to view this content.
URL:https://qgotv.org/event/visiting-artist-workshop-with-tbd-2-6/
LOCATION:Rohan Recreation Center\, 850 Kristine Way\, The Villages\, FL\, 32163\, United States
CATEGORIES:Classes,Visiting Artist
END:VEVENT
BEGIN:VEVENT
DTSTART;TZID=America/New_York:20250606T090000
DTEND;TZID=America/New_York:20250606T105000
DTSTAMP:20260423T164441
CREATED:20241012T154023Z
LAST-MODIFIED:20241012T154023Z
UID:10002168-1749200400-1749207000@qgotv.org
SUMMARY:ALL Regional Liaisons Meeting-June
DESCRIPTION:Sorry\, but you do not have permission to view this content.
URL:https://qgotv.org/event/all-regional-liaisons-meeting-june/
LOCATION:Rohan Recreation Center\, 850 Kristine Way\, The Villages\, FL\, 32163\, United States
CATEGORIES:Special Event
END:VEVENT
BEGIN:VEVENT
DTSTART;TZID=America/New_York:20250608T110000
DTEND;TZID=America/New_York:20250608T163000
DTSTAMP:20260423T164441
CREATED:20250115T233922Z
LAST-MODIFIED:20250115T234140Z
UID:10002266-1749380400-1749400200@qgotv.org
SUMMARY:Dear Jane 2025 Group
DESCRIPTION:Sorry\, but you do not have permission to view this content.
URL:https://qgotv.org/event/dear-jane-2025-group-2/2025-06-08/
LOCATION:Laurel Manor\, 1985 Laurel Manor Dr.\, The Villages\, FL\, 32162\, United States
CATEGORIES:Open Sews
END:VEVENT
BEGIN:VEVENT
DTSTART;TZID=America/New_York:20250608T113000
DTEND;TZID=America/New_York:20250608T153000
DTSTAMP:20260423T164441
CREATED:20240731T200806Z
LAST-MODIFIED:20251203T210220Z
UID:10002107-1749382200-1749396600@qgotv.org
SUMMARY:No Host Sunday at Sterling - Open Sew for QGOTV Members
DESCRIPTION:Sorry\, but you do not have permission to view this content.
URL:https://qgotv.org/event/no-host-sunday-at-sterling-open-sew-for-qgotv-members/2025-06-08/
LOCATION:Sterling Heights Recreation Center\, 2508 St Charles Pl.\, The Villages\, FL\, 32162\, United States
CATEGORIES:Open Sews,Sundays at Sterling
END:VEVENT
BEGIN:VEVENT
DTSTART;TZID=America/New_York:20250614T090000
DTEND;TZID=America/New_York:20250614T153000
DTSTAMP:20260423T164441
CREATED:20241128T144847Z
LAST-MODIFIED:20241128T144848Z
UID:10002179-1749891600-1749915000@qgotv.org
SUMMARY:M2M  Pelican Tote Workshop @ Eisenhower
DESCRIPTION:Sorry\, but you do not have permission to view this content.
URL:https://qgotv.org/event/m2m-workshop-eisenhower-7/
LOCATION:Eisenhower\, 3560 Buena Vista Blvd\, The Villages\, FL\, 32163\, United States
CATEGORIES:M2M
END:VEVENT
BEGIN:VEVENT
DTSTART;TZID=America/New_York:20250615T113000
DTEND;TZID=America/New_York:20250615T153000
DTSTAMP:20260423T164441
CREATED:20240731T200806Z
LAST-MODIFIED:20251203T210220Z
UID:10002108-1749987000-1750001400@qgotv.org
SUMMARY:No Host Sunday at Sterling - Open Sew for QGOTV Members
DESCRIPTION:Sorry\, but you do not have permission to view this content.
URL:https://qgotv.org/event/no-host-sunday-at-sterling-open-sew-for-qgotv-members/2025-06-15/
LOCATION:Sterling Heights Recreation Center\, 2508 St Charles Pl.\, The Villages\, FL\, 32162\, United States
CATEGORIES:Open Sews,Sundays at Sterling
END:VEVENT
BEGIN:VEVENT
DTSTART;TZID=America/New_York:20250616T110000
DTEND;TZID=America/New_York:20250616T143000
DTSTAMP:20260423T164441
CREATED:20250503T235926Z
LAST-MODIFIED:20250503T235926Z
UID:10002473-1750071600-1750084200@qgotv.org
SUMMARY:Marketplace 2026 Steering Committee Meeting
DESCRIPTION:Sorry\, but you do not have permission to view this content.
URL:https://qgotv.org/event/marketplace-2026-steering-committee-meeting-2/2025-06-16/
LOCATION:Trilium Rec Center @ Brownwood Lofts\, 2660 Trillium Ridge\, The Villages\,\, FL\, 32163\, United States
CATEGORIES:Guild Committee Meetings,Special Event
ORGANIZER;CN="Yvonne Wecker":MAILTO:qgotvVP@gmail.com
END:VEVENT
BEGIN:VEVENT
DTSTART;TZID=America/New_York:20250620T090000
DTEND;TZID=America/New_York:20250620T105000
DTSTAMP:20260423T164441
CREATED:20241012T153601Z
LAST-MODIFIED:20250416T135626Z
UID:10002165-1750410000-1750416600@qgotv.org
SUMMARY:Membership Manager/Chapter Treasurer Meeting
DESCRIPTION:Sorry\, but you do not have permission to view this content.
URL:https://qgotv.org/event/membership-managers-meeting-3/
LOCATION:Laurel Manor\, 1985 Laurel Manor Dr.\, The Villages\, FL\, 32162\, United States
CATEGORIES:Guild Committee Meetings
END:VEVENT
BEGIN:VEVENT
DTSTART;TZID=America/New_York:20250622T113000
DTEND;TZID=America/New_York:20250622T153000
DTSTAMP:20260423T164441
CREATED:20240731T200806Z
LAST-MODIFIED:20251203T210220Z
UID:10002109-1750591800-1750606200@qgotv.org
SUMMARY:No Host Sunday at Sterling - Open Sew for QGOTV Members
DESCRIPTION:Sorry\, but you do not have permission to view this content.
URL:https://qgotv.org/event/no-host-sunday-at-sterling-open-sew-for-qgotv-members/2025-06-22/
LOCATION:Sterling Heights Recreation Center\, 2508 St Charles Pl.\, The Villages\, FL\, 32162\, United States
CATEGORIES:Open Sews,Sundays at Sterling
END:VEVENT
BEGIN:VEVENT
DTSTART;TZID=America/New_York:20250624T110000
DTEND;TZID=America/New_York:20250624T123000
DTSTAMP:20260423T164441
CREATED:20240710T234026Z
LAST-MODIFIED:20240710T234026Z
UID:10001957-1750762800-1750768200@qgotv.org
SUMMARY:Program Committee Meeting
DESCRIPTION:Sorry\, but you do not have permission to view this content.
URL:https://qgotv.org/event/program-committee-meeting/2025-06-24/
LOCATION:Lake Miona Rec Center\, 1526 Buena Vista Boulevard\, The Villages\, FL\, 32162\, United States
CATEGORIES:Guild Committee Meetings
END:VEVENT
BEGIN:VEVENT
DTSTART;TZID=America/New_York:20250625T090000
DTEND;TZID=America/New_York:20250625T153000
DTSTAMP:20260423T164441
CREATED:20241128T145018Z
LAST-MODIFIED:20241128T145018Z
UID:10002204-1750842000-1750865400@qgotv.org
SUMMARY:M2M Convergence Quilt Workshop @ Sea Breeze
DESCRIPTION:Sorry\, but you do not have permission to view this content.
URL:https://qgotv.org/event/m2m-workshop-at-sea-breeze-4/
LOCATION:Sea Breeze\, 2384 Buena Vista Blvd\, The Villages\, FL\, 32162\, United States
CATEGORIES:M2M
END:VEVENT
BEGIN:VEVENT
DTSTART;TZID=America/New_York:20250629T113000
DTEND;TZID=America/New_York:20250629T153000
DTSTAMP:20260423T164441
CREATED:20240731T200806Z
LAST-MODIFIED:20251203T210220Z
UID:10002110-1751196600-1751211000@qgotv.org
SUMMARY:No Host Sunday at Sterling - Open Sew for QGOTV Members
DESCRIPTION:Sorry\, but you do not have permission to view this content.
URL:https://qgotv.org/event/no-host-sunday-at-sterling-open-sew-for-qgotv-members/2025-06-29/
LOCATION:Sterling Heights Recreation Center\, 2508 St Charles Pl.\, The Villages\, FL\, 32162\, United States
CATEGORIES:Open Sews,Sundays at Sterling
END:VEVENT
BEGIN:VEVENT
DTSTART;TZID=America/New_York:20250701T173000
DTEND;TZID=America/New_York:20250701T180000
DTSTAMP:20260423T164441
CREATED:20250629T173903Z
LAST-MODIFIED:20250629T173904Z
UID:10002459-1751391000-1751392800@qgotv.org
SUMMARY:Marketplace 2026 Coordinators Meeting
DESCRIPTION:Sorry\, but you do not have permission to view this content.
URL:https://qgotv.org/event/marketplace-2026-coordinators-meeting-2/
LOCATION:Rohan Recreation Center\, 850 Kristine Way\, The Villages\, FL\, 32163\, United States
CATEGORIES:Guild Committee Meetings,Special Event
ORGANIZER;CN="Yvonne Wecker":MAILTO:qgotvVP@gmail.com
END:VEVENT
BEGIN:VEVENT
DTSTART;TZID=America/New_York:20250701T183000
DTEND;TZID=America/New_York:20250701T205000
DTSTAMP:20260423T164441
CREATED:20250209T172144Z
LAST-MODIFIED:20250428T143635Z
UID:10002022-1751394600-1751403000@qgotv.org
SUMMARY:Evening Guild Meeting featuring Jennifer Wagner
DESCRIPTION:Sorry\, but you do not have permission to view this content.
URL:https://qgotv.org/event/evening-guild-meeting-featuring-6-3/
LOCATION:Rohan Recreation Center\, 850 Kristine Way\, The Villages\, FL\, 32163\, United States
CATEGORIES:Monthly Guild Meetings
END:VEVENT
BEGIN:VEVENT
DTSTART;TZID=America/New_York:20250702T090000
DTEND;TZID=America/New_York:20250702T153000
DTSTAMP:20260423T164441
CREATED:20250209T170312Z
LAST-MODIFIED:20250209T170313Z
UID:10002219-1751446800-1751470200@qgotv.org
SUMMARY:Visiting Artist - Many Moons Workshop with Jennifer Wagner
DESCRIPTION:Sorry\, but you do not have permission to view this content.
URL:https://qgotv.org/event/visiting-artist-workshop-with-tbd-2-7/
LOCATION:Rohan Recreation Center\, 850 Kristine Way\, The Villages\, FL\, 32163\, United States
CATEGORIES:Classes,Visiting Artist
END:VEVENT
BEGIN:VEVENT
DTSTART;TZID=America/New_York:20250706T113000
DTEND;TZID=America/New_York:20250706T153000
DTSTAMP:20260423T164441
CREATED:20240731T200806Z
LAST-MODIFIED:20251203T210220Z
UID:10002111-1751801400-1751815800@qgotv.org
SUMMARY:No Host Sunday at Sterling - Open Sew for QGOTV Members
DESCRIPTION:Sorry\, but you do not have permission to view this content.
URL:https://qgotv.org/event/no-host-sunday-at-sterling-open-sew-for-qgotv-members/2025-07-06/
LOCATION:Sterling Heights Recreation Center\, 2508 St Charles Pl.\, The Villages\, FL\, 32162\, United States
CATEGORIES:Open Sews,Sundays at Sterling
END:VEVENT
BEGIN:VEVENT
DTSTART;TZID=America/New_York:20250708T090000
DTEND;TZID=America/New_York:20250708T140000
DTSTAMP:20260423T164441
CREATED:20250116T013052Z
LAST-MODIFIED:20250116T013052Z
UID:10002325-1751965200-1751983200@qgotv.org
SUMMARY:Blood Drive
DESCRIPTION:Sorry\, but you do not have permission to view this content.
URL:https://qgotv.org/event/blood-drive-6/
LOCATION:Sea Breeze\, 2384 Buena Vista Blvd\, The Villages\, FL\, 32162\, United States
CATEGORIES:Special Event
END:VEVENT
BEGIN:VEVENT
DTSTART;TZID=America/New_York:20250712T090000
DTEND;TZID=America/New_York:20250712T153000
DTSTAMP:20260423T164441
CREATED:20241128T145348Z
LAST-MODIFIED:20250217T133252Z
UID:10002180-1752310800-1752334200@qgotv.org
SUMMARY:M2M  Workshop-Underground RR Quilt Blocks@ Eisenhower
DESCRIPTION:Sorry\, but you do not have permission to view this content.
URL:https://qgotv.org/event/m2m-workshop-eisenhower-8/
LOCATION:Eisenhower\, 3560 Buena Vista Blvd\, The Villages\, FL\, 32163\, United States
CATEGORIES:M2M
END:VEVENT
BEGIN:VEVENT
DTSTART;TZID=America/New_York:20250713T110000
DTEND;TZID=America/New_York:20250713T163000
DTSTAMP:20260423T164441
CREATED:20250115T233922Z
LAST-MODIFIED:20250115T234140Z
UID:10002267-1752404400-1752424200@qgotv.org
SUMMARY:Dear Jane 2025 Group
DESCRIPTION:Sorry\, but you do not have permission to view this content.
URL:https://qgotv.org/event/dear-jane-2025-group-2/2025-07-13/
LOCATION:Laurel Manor\, 1985 Laurel Manor Dr.\, The Villages\, FL\, 32162\, United States
CATEGORIES:Open Sews
END:VEVENT
BEGIN:VEVENT
DTSTART;TZID=America/New_York:20250713T113000
DTEND;TZID=America/New_York:20250713T153000
DTSTAMP:20260423T164441
CREATED:20240731T200806Z
LAST-MODIFIED:20251203T210220Z
UID:10002112-1752406200-1752420600@qgotv.org
SUMMARY:No Host Sunday at Sterling - Open Sew for QGOTV Members
DESCRIPTION:Sorry\, but you do not have permission to view this content.
URL:https://qgotv.org/event/no-host-sunday-at-sterling-open-sew-for-qgotv-members/2025-07-13/
LOCATION:Sterling Heights Recreation Center\, 2508 St Charles Pl.\, The Villages\, FL\, 32162\, United States
CATEGORIES:Open Sews,Sundays at Sterling
END:VEVENT
BEGIN:VEVENT
DTSTART;TZID=America/New_York:20250720T113000
DTEND;TZID=America/New_York:20250720T153000
DTSTAMP:20260423T164441
CREATED:20240731T200806Z
LAST-MODIFIED:20251203T210220Z
UID:10002113-1753011000-1753025400@qgotv.org
SUMMARY:No Host Sunday at Sterling - Open Sew for QGOTV Members
DESCRIPTION:Sorry\, but you do not have permission to view this content.
URL:https://qgotv.org/event/no-host-sunday-at-sterling-open-sew-for-qgotv-members/2025-07-20/
LOCATION:Sterling Heights Recreation Center\, 2508 St Charles Pl.\, The Villages\, FL\, 32162\, United States
CATEGORIES:Open Sews,Sundays at Sterling
END:VEVENT
BEGIN:VEVENT
DTSTART;TZID=America/New_York:20250721T110000
DTEND;TZID=America/New_York:20250721T143000
DTSTAMP:20260423T164441
CREATED:20250503T235926Z
LAST-MODIFIED:20250503T235926Z
UID:10002474-1753095600-1753108200@qgotv.org
SUMMARY:Marketplace 2026 Steering Committee Meeting
DESCRIPTION:Sorry\, but you do not have permission to view this content.
URL:https://qgotv.org/event/marketplace-2026-steering-committee-meeting-2/2025-07-21/
LOCATION:Trilium Rec Center @ Brownwood Lofts\, 2660 Trillium Ridge\, The Villages\,\, FL\, 32163\, United States
CATEGORIES:Guild Committee Meetings,Special Event
ORGANIZER;CN="Yvonne Wecker":MAILTO:qgotvVP@gmail.com
END:VEVENT
BEGIN:VEVENT
DTSTART;TZID=America/New_York:20250722T110000
DTEND;TZID=America/New_York:20250722T123000
DTSTAMP:20260423T164441
CREATED:20240710T234026Z
LAST-MODIFIED:20240710T234026Z
UID:10001958-1753182000-1753187400@qgotv.org
SUMMARY:Program Committee Meeting
DESCRIPTION:Sorry\, but you do not have permission to view this content.
URL:https://qgotv.org/event/program-committee-meeting/2025-07-22/
LOCATION:Lake Miona Rec Center\, 1526 Buena Vista Boulevard\, The Villages\, FL\, 32162\, United States
CATEGORIES:Guild Committee Meetings
END:VEVENT
BEGIN:VEVENT
DTSTART;TZID=America/New_York:20250723T090000
DTEND;TZID=America/New_York:20250723T153000
DTSTAMP:20260423T164441
CREATED:20241128T145509Z
LAST-MODIFIED:20241128T145509Z
UID:10002205-1753261200-1753284600@qgotv.org
SUMMARY:M2M Christmas in July Table Runner Workshop @ Sea Breeze
DESCRIPTION:Sorry\, but you do not have permission to view this content.
URL:https://qgotv.org/event/m2m-workshop-at-sea-breeze-5/
LOCATION:Sea Breeze\, 2384 Buena Vista Blvd\, The Villages\, FL\, 32162\, United States
CATEGORIES:M2M
END:VEVENT
BEGIN:VEVENT
DTSTART;TZID=America/New_York:20250723T180000
DTEND;TZID=America/New_York:20250723T210000
DTSTAMP:20260423T164441
CREATED:20250416T144140Z
LAST-MODIFIED:20250428T124119Z
UID:10002451-1753293600-1753304400@qgotv.org
SUMMARY:M2M-Introduction to Studio 180:  Tucker Trimmer Tools & Techniques @Moyer
DESCRIPTION:Sorry\, but you do not have permission to view this content.
URL:https://qgotv.org/event/m2m-skill-builders-flying-geese-and-1-2-square-triangles-moyer/
LOCATION:Moyer Recreation Center\, 3000 Moyer Loop\, The Villages\, FL\, 32163\, United States
CATEGORIES:M2M
END:VEVENT
BEGIN:VEVENT
DTSTART;TZID=America/New_York:20250727T113000
DTEND;TZID=America/New_York:20250727T153000
DTSTAMP:20260423T164441
CREATED:20240731T200806Z
LAST-MODIFIED:20251203T210220Z
UID:10002114-1753615800-1753630200@qgotv.org
SUMMARY:No Host Sunday at Sterling - Open Sew for QGOTV Members
DESCRIPTION:Sorry\, but you do not have permission to view this content.
URL:https://qgotv.org/event/no-host-sunday-at-sterling-open-sew-for-qgotv-members/2025-07-27/
LOCATION:Sterling Heights Recreation Center\, 2508 St Charles Pl.\, The Villages\, FL\, 32162\, United States
CATEGORIES:Open Sews,Sundays at Sterling
END:VEVENT
BEGIN:VEVENT
DTSTART;TZID=America/New_York:20250801T090000
DTEND;TZID=America/New_York:20250801T105000
DTSTAMP:20260423T164441
CREATED:20241012T154232Z
LAST-MODIFIED:20250217T150245Z
UID:10002170-1754038800-1754045400@qgotv.org
SUMMARY:How's It Going? Meeting
DESCRIPTION:Sorry\, but you do not have permission to view this content.
URL:https://qgotv.org/event/hows-it-going-meeting-2/
LOCATION:Rohan Recreation Center\, 850 Kristine Way\, The Villages\, FL\, 32163\, United States
CATEGORIES:Quarterly Meetings
END:VEVENT
BEGIN:VEVENT
DTSTART;TZID=America/New_York:20250803T113000
DTEND;TZID=America/New_York:20250803T153000
DTSTAMP:20260423T164441
CREATED:20240731T200806Z
LAST-MODIFIED:20251203T210220Z
UID:10002115-1754220600-1754235000@qgotv.org
SUMMARY:No Host Sunday at Sterling - Open Sew for QGOTV Members
DESCRIPTION:Sorry\, but you do not have permission to view this content.
URL:https://qgotv.org/event/no-host-sunday-at-sterling-open-sew-for-qgotv-members/2025-08-03/
LOCATION:Sterling Heights Recreation Center\, 2508 St Charles Pl.\, The Villages\, FL\, 32162\, United States
CATEGORIES:Open Sews,Sundays at Sterling
END:VEVENT
BEGIN:VEVENT
DTSTART;TZID=America/New_York:20250805T173000
DTEND;TZID=America/New_York:20250805T180000
DTSTAMP:20260423T164441
CREATED:20250715T150851Z
LAST-MODIFIED:20250715T150852Z
UID:10002460-1754415000-1754416800@qgotv.org
SUMMARY:Marketplace 2026 Coordinators Meeting
DESCRIPTION:Sorry\, but you do not have permission to view this content.
URL:https://qgotv.org/event/marketplace-2026-coordinators-meeting-3/
LOCATION:Rohan Recreation Center\, 850 Kristine Way\, The Villages\, FL\, 32163\, United States
CATEGORIES:Guild Committee Meetings,Special Event
ORGANIZER;CN="Yvonne Wecker":MAILTO:qgotvVP@gmail.com
END:VEVENT
END:VCALENDAR