BEGIN:VCALENDAR
VERSION:2.0
PRODID:-//Quilting Guild of The Villages - ECPv6.15.20//NONSGML v1.0//EN
CALSCALE:GREGORIAN
METHOD:PUBLISH
X-WR-CALNAME:Quilting Guild of The Villages
X-ORIGINAL-URL:https://qgotv.org
X-WR-CALDESC:Events for Quilting Guild of The Villages
REFRESH-INTERVAL;VALUE=DURATION:PT1H
X-Robots-Tag:noindex
X-PUBLISHED-TTL:PT1H
BEGIN:VTIMEZONE
TZID:America/New_York
BEGIN:DAYLIGHT
TZOFFSETFROM:-0500
TZOFFSETTO:-0400
TZNAME:EDT
DTSTART:20210314T070000
END:DAYLIGHT
BEGIN:STANDARD
TZOFFSETFROM:-0400
TZOFFSETTO:-0500
TZNAME:EST
DTSTART:20211107T060000
END:STANDARD
BEGIN:DAYLIGHT
TZOFFSETFROM:-0500
TZOFFSETTO:-0400
TZNAME:EDT
DTSTART:20220313T070000
END:DAYLIGHT
BEGIN:STANDARD
TZOFFSETFROM:-0400
TZOFFSETTO:-0500
TZNAME:EST
DTSTART:20221106T060000
END:STANDARD
BEGIN:DAYLIGHT
TZOFFSETFROM:-0500
TZOFFSETTO:-0400
TZNAME:EDT
DTSTART:20230312T070000
END:DAYLIGHT
BEGIN:STANDARD
TZOFFSETFROM:-0400
TZOFFSETTO:-0500
TZNAME:EST
DTSTART:20231105T060000
END:STANDARD
END:VTIMEZONE
BEGIN:VEVENT
DTSTART;TZID=America/New_York:20221016T113000
DTEND;TZID=America/New_York:20221016T153000
DTSTAMP:20260420T023007
CREATED:20210526T231435Z
LAST-MODIFIED:20220921T131459Z
UID:10000478-1665919800-1665934200@qgotv.org
SUMMARY:Sunday at Sterling - Hosted by Big Cypress Quilters Chapter
DESCRIPTION:Join us for Sunday Sew. Enjoy the company of your fellow guild members while you work on your own project. Who knows? You might finish a UFO!
URL:https://qgotv.org/event/sunday-at-sterling-2-2022-10-16/
LOCATION:Sterling Heights Recreation Center\, 2508 St Charles Pl.\, The Villages\, FL\, 32162\, United States
CATEGORIES:Open Sews
ORGANIZER;CN="Yvonne Wecker":MAILTO:qgotvVP@gmail.com
END:VEVENT
BEGIN:VEVENT
DTSTART;TZID=America/New_York:20221011T090000
DTEND;TZID=America/New_York:20221011T145000
DTSTAMP:20260420T023007
CREATED:20220424T131022Z
LAST-MODIFIED:20220424T131022Z
UID:10000617-1665478800-1665499800@qgotv.org
SUMMARY:Blood Drive
DESCRIPTION:The One Blood bus will be in the parking lot.  Go to www.OneBlood.org to make your appointment.
URL:https://qgotv.org/event/blood-drive-4/
LOCATION:Sea Breeze\, 2384 Buena Vista Blvd\, The Villages\, FL\, 32162\, United States
CATEGORIES:Special Event
END:VEVENT
BEGIN:VEVENT
DTSTART;TZID=America/New_York:20221009T113000
DTEND;TZID=America/New_York:20221009T153000
DTSTAMP:20260420T023007
CREATED:20210526T231435Z
LAST-MODIFIED:20220921T130320Z
UID:10000477-1665315000-1665329400@qgotv.org
SUMMARY:Sunday at Sterling - Hosted by Big Cypress Quilters Chapter
DESCRIPTION:Join us for Sunday Sew. Enjoy the company of your fellow guild members while you work on your own project. Who knows? You might finish a UFO!
URL:https://qgotv.org/event/sunday-at-sterling-2-2022-10-09/
LOCATION:Sterling Heights Recreation Center\, 2508 St Charles Pl.\, The Villages\, FL\, 32162\, United States
CATEGORIES:Open Sews
END:VEVENT
BEGIN:VEVENT
DTSTART;TZID=America/New_York:20221008T090000
DTEND;TZID=America/New_York:20221008T153000
DTSTAMP:20260420T023007
CREATED:20220518T163125Z
LAST-MODIFIED:20220518T163125Z
UID:10000658-1665219600-1665243000@qgotv.org
SUMMARY:M2M - Workshop
DESCRIPTION:Admiral Halsey (craft) room
URL:https://qgotv.org/event/m2m-workshop-2/
LOCATION:Eisenhower\, 3560 Buena Vista Blvd\, The Villages\, FL\, 32163\, United States
CATEGORIES:Classes,M2M
END:VEVENT
BEGIN:VEVENT
DTSTART;TZID=America/New_York:20221005T090000
DTEND;TZID=America/New_York:20221005T153000
DTSTAMP:20260420T023007
CREATED:20220518T160040Z
LAST-MODIFIED:20220518T160040Z
UID:10000651-1664960400-1664983800@qgotv.org
SUMMARY:Visiting Artist - Workshop
DESCRIPTION:Lake Miona and Savannah Rooms
URL:https://qgotv.org/event/visiting-artist-workshop-3/
LOCATION:Rohan Recreation Center\, 850 Kristine Way\, The Villages\, FL\, 32163\, United States
CATEGORIES:Classes,Visiting Artist
END:VEVENT
BEGIN:VEVENT
DTSTART;TZID=America/New_York:20221004T190000
DTEND;TZID=America/New_York:20221004T205000
DTSTAMP:20260420T023007
CREATED:20220518T162207Z
LAST-MODIFIED:20220913T235443Z
UID:10000654-1664910000-1664916600@qgotv.org
SUMMARY:Evening Guild Meeting featuring Carolyn Friedlander and Lee Monroe
DESCRIPTION:Lincoln Theater \ndoors open approximately 6:30 pm
URL:https://qgotv.org/event/evening-guild-meeting-6/
LOCATION:Laurel Manor\, 1985 Laurel Manor Dr.\, The Villages\, FL\, 32162\, United States
CATEGORIES:Monthly Guild Meetings
END:VEVENT
BEGIN:VEVENT
DTSTART;TZID=America/New_York:20221004T173000
DTEND;TZID=America/New_York:20221004T183000
DTSTAMP:20260420T023007
CREATED:20220609T225321Z
LAST-MODIFIED:20220914T000653Z
UID:10000666-1664904600-1664908200@qgotv.org
SUMMARY:Showcase 2023 Coordinators Meeting
DESCRIPTION:Jefferson and Washington Rooms
URL:https://qgotv.org/event/showcase-2023-coordinators-meeting-3/
LOCATION:Laurel Manor\, 1985 Laurel Manor Dr.\, The Villages\, FL\, 32162\, United States
CATEGORIES:Guild Committee Meetings
END:VEVENT
BEGIN:VEVENT
DTSTART;TZID=America/New_York:20221002T113000
DTEND;TZID=America/New_York:20221002T153000
DTSTAMP:20260420T023007
CREATED:20210526T231435Z
LAST-MODIFIED:20220921T130421Z
UID:10000476-1664710200-1664724600@qgotv.org
SUMMARY:Sunday at Sterling - Hosted by Big Cypress Quilters Chapter
DESCRIPTION:Join us for Sunday Sew. Enjoy the company of your fellow guild members while you work on your own project. Who knows? You might finish a UFO!
URL:https://qgotv.org/event/sunday-at-sterling-2-2022-10-02/
LOCATION:Sterling Heights Recreation Center\, 2508 St Charles Pl.\, The Villages\, FL\, 32162\, United States
CATEGORIES:Open Sews
ORGANIZER;CN="Yvonne Wecker":MAILTO:qgotvVP@gmail.com
END:VEVENT
BEGIN:VEVENT
DTSTART;TZID=America/New_York:20220928T190000
DTEND;TZID=America/New_York:20220928T205000
DTSTAMP:20260420T023007
CREATED:20220328T171458Z
LAST-MODIFIED:20220922T091454Z
UID:10000611-1664391600-1664398200@qgotv.org
SUMMARY:Long Range Planning (LRP)
DESCRIPTION:Clementine Room
URL:https://qgotv.org/event/long-range-planning-lrp/2022-09-28/
LOCATION:Moyer Recreation Center\, 3000 Moyer Loop\, The Villages\, FL\, 32163\, United States
CATEGORIES:Guild Committee Meetings
END:VEVENT
BEGIN:VEVENT
DTSTART;TZID=America/New_York:20220927T110000
DTEND;TZID=America/New_York:20220927T123000
DTSTAMP:20260420T023007
CREATED:20220609T231929Z
LAST-MODIFIED:20220609T231929Z
UID:10000671-1664276400-1664281800@qgotv.org
SUMMARY:Program Committee Meeting
DESCRIPTION:Jefferson Room
URL:https://qgotv.org/event/program-committee-meeting-12/
LOCATION:Moyer Recreation Center\, 3000 Moyer Loop\, The Villages\, FL\, 32163\, United States
CATEGORIES:Guild Committee Meetings
END:VEVENT
BEGIN:VEVENT
DTSTART;TZID=America/New_York:20220925T113000
DTEND;TZID=America/New_York:20220925T153000
DTSTAMP:20260420T023007
CREATED:20210526T231435Z
LAST-MODIFIED:20220921T130457Z
UID:10000475-1664105400-1664119800@qgotv.org
SUMMARY:Sunday at Sterling - Hosted by Allamanda Chapter
DESCRIPTION:Join us for Sunday Sew. Enjoy the company of your fellow guild members while you work on your own project. Who knows? You might finish a UFO!
URL:https://qgotv.org/event/sunday-at-sterling-2-2022-09-25/
LOCATION:Sterling Heights Recreation Center\, 2508 St Charles Pl.\, The Villages\, FL\, 32162\, United States
CATEGORIES:Open Sews
END:VEVENT
BEGIN:VEVENT
DTSTART;TZID=America/New_York:20220919T110000
DTEND;TZID=America/New_York:20220919T150000
DTSTAMP:20260420T023007
CREATED:20220609T230350Z
LAST-MODIFIED:20220609T230350Z
UID:10000682-1663585200-1663599600@qgotv.org
SUMMARY:Showcase 2023 Steering Committee Meeting
DESCRIPTION:Bluebell Room
URL:https://qgotv.org/event/showcase-2023-steering-committee-meeting-9/
LOCATION:Trilium Rec Center @ Brownwood Lofts\, 2660 Trillium Ridge\, The Villages\,\, FL\, 32163\, United States
CATEGORIES:Guild Committee Meetings
END:VEVENT
BEGIN:VEVENT
DTSTART;TZID=America/New_York:20220918T113000
DTEND;TZID=America/New_York:20220918T153000
DTSTAMP:20260420T023007
CREATED:20210526T231435Z
LAST-MODIFIED:20220921T130608Z
UID:10000474-1663500600-1663515000@qgotv.org
SUMMARY:Sunday at Sterling - Hosted by Allamanda Chapter
DESCRIPTION:Join us for Sunday Sew. Enjoy the company of your fellow guild members while you work on your own project. Who knows? You might finish a UFO!
URL:https://qgotv.org/event/sunday-at-sterling-2-2022-09-18/
LOCATION:Sterling Heights Recreation Center\, 2508 St Charles Pl.\, The Villages\, FL\, 32162\, United States
CATEGORIES:Open Sews
ORGANIZER;CN="Yvonne Wecker":MAILTO:qgotvVP@gmail.com
END:VEVENT
BEGIN:VEVENT
DTSTART;TZID=America/New_York:20220911T113000
DTEND;TZID=America/New_York:20220911T153000
DTSTAMP:20260420T023007
CREATED:20210526T231435Z
LAST-MODIFIED:20220921T130613Z
UID:10000473-1662895800-1662910200@qgotv.org
SUMMARY:Sunday at Sterling - Hosted by Allamanda Chapter
DESCRIPTION:Join us for Sunday Sew. Enjoy the company of your fellow guild members while you work on your own project. Who knows? You might finish a UFO!
URL:https://qgotv.org/event/sunday-at-sterling-2-2022-09-11/
LOCATION:Sterling Heights Recreation Center\, 2508 St Charles Pl.\, The Villages\, FL\, 32162\, United States
CATEGORIES:Open Sews
END:VEVENT
BEGIN:VEVENT
DTSTART;TZID=America/New_York:20220910T090000
DTEND;TZID=America/New_York:20220910T153000
DTSTAMP:20260420T023007
CREATED:20220518T162928Z
LAST-MODIFIED:20220518T162928Z
UID:10000655-1662800400-1662823800@qgotv.org
SUMMARY:M2M - Workshop
DESCRIPTION:Admiral Halsey (craft) room
URL:https://qgotv.org/event/m2m-workshop/
LOCATION:Eisenhower\, 3560 Buena Vista Blvd\, The Villages\, FL\, 32163\, United States
CATEGORIES:Classes,M2M
END:VEVENT
BEGIN:VEVENT
DTSTART;TZID=America/New_York:20220907T090000
DTEND;TZID=America/New_York:20220907T153000
DTSTAMP:20260420T023007
CREATED:20220518T155826Z
LAST-MODIFIED:20220518T155826Z
UID:10000648-1662541200-1662564600@qgotv.org
SUMMARY:Visiting Artist - Workshop
DESCRIPTION:Lake Miona and Savannah Rooms
URL:https://qgotv.org/event/visiting-artist-workshop-2/
LOCATION:Rohan Recreation Center\, 850 Kristine Way\, The Villages\, FL\, 32163\, United States
CATEGORIES:Classes,Visiting Artist
END:VEVENT
BEGIN:VEVENT
DTSTART;TZID=America/New_York:20220906T190000
DTEND;TZID=America/New_York:20220906T205000
DTSTAMP:20260420T023007
CREATED:20220518T150838Z
LAST-MODIFIED:20220913T235545Z
UID:10000646-1662490800-1662497400@qgotv.org
SUMMARY:Evening Guild Meeting featuring Marge Tucker
DESCRIPTION:Lincoln Theater \ndoors open approximately 6:30 pm
URL:https://qgotv.org/event/evening-guild-meeting-3/
LOCATION:Laurel Manor\, 1985 Laurel Manor Dr.\, The Villages\, FL\, 32162\, United States
CATEGORIES:Monthly Guild Meetings
END:VEVENT
BEGIN:VEVENT
DTSTART;TZID=America/New_York:20220906T173000
DTEND;TZID=America/New_York:20220906T183000
DTSTAMP:20260420T023007
CREATED:20220609T225222Z
LAST-MODIFIED:20220609T225222Z
UID:10000664-1662485400-1662489000@qgotv.org
SUMMARY:Showcase 2023 Coordinators Meeting
DESCRIPTION:Jefferson and Washington Rooms
URL:https://qgotv.org/event/showcase-2023-coordinators-meeting-2/
LOCATION:Laurel Manor\, 1985 Laurel Manor Dr.\, The Villages\, FL\, 32162\, United States
CATEGORIES:Guild Committee Meetings
END:VEVENT
BEGIN:VEVENT
DTSTART;TZID=America/New_York:20220904T113000
DTEND;TZID=America/New_York:20220904T153000
DTSTAMP:20260420T023007
CREATED:20210526T231435Z
LAST-MODIFIED:20220921T130848Z
UID:10000472-1662291000-1662305400@qgotv.org
SUMMARY:Sunday at Sterling - Hosted by Allamanda Chapter
DESCRIPTION:Join us for Sunday Sew. Enjoy the company of your fellow guild members while you work on your own project. Who knows? You might finish a UFO!
URL:https://qgotv.org/event/sunday-at-sterling-2-2022-09-04/
LOCATION:Sterling Heights Recreation Center\, 2508 St Charles Pl.\, The Villages\, FL\, 32162\, United States
CATEGORIES:Open Sews
END:VEVENT
BEGIN:VEVENT
DTSTART;TZID=America/New_York:20220828T113000
DTEND;TZID=America/New_York:20220828T153000
DTSTAMP:20260420T023007
CREATED:20210526T231435Z
LAST-MODIFIED:20220921T125801Z
UID:10000471-1661686200-1661700600@qgotv.org
SUMMARY:Sunday at Sterling - Hosted by Whiporwills Chapter
DESCRIPTION:Join us for Sunday Sew. Enjoy the company of your fellow guild members while you work on your own project. Who knows? You might finish a UFO!
URL:https://qgotv.org/event/sunday-at-sterling-2-2022-08-28/
LOCATION:Sterling Heights Recreation Center\, 2508 St Charles Pl.\, The Villages\, FL\, 32162\, United States
CATEGORIES:Open Sews
END:VEVENT
BEGIN:VEVENT
DTSTART;TZID=America/New_York:20220823T110000
DTEND;TZID=America/New_York:20220823T123000
DTSTAMP:20260420T023007
CREATED:20220609T231839Z
LAST-MODIFIED:20220705T130545Z
UID:10000673-1661252400-1661257800@qgotv.org
SUMMARY:Program Committee Meeting via ZOOM
DESCRIPTION:via Zoom since Recreation Centers are closed for Primary elections
URL:https://qgotv.org/event/program-committee-meeting-via-zoom/
LOCATION:Laurel Manor\, 1985 Laurel Manor Dr.\, The Villages\, FL\, 32162\, United States
CATEGORIES:Guild Committee Meetings
END:VEVENT
BEGIN:VEVENT
DTSTART;TZID=America/New_York:20220821T113000
DTEND;TZID=America/New_York:20220821T153000
DTSTAMP:20260420T023007
CREATED:20210526T231435Z
LAST-MODIFIED:20220921T125820Z
UID:10000470-1661081400-1661095800@qgotv.org
SUMMARY:Sunday at Sterling - Cancelled
DESCRIPTION:Recreation Center is not available \nJoin us for Sunday Sew. Enjoy the company of your fellow guild members while you work on your own project. Who knows? You might finish a UFO!
URL:https://qgotv.org/event/sunday-at-sterling-2-2022-08-21/
LOCATION:Sterling Heights Recreation Center\, 2508 St Charles Pl.\, The Villages\, FL\, 32162\, United States
CATEGORIES:Open Sews
ORGANIZER;CN="Yvonne Wecker":MAILTO:qgotvVP@gmail.com
END:VEVENT
BEGIN:VEVENT
DTSTART;TZID=America/New_York:20220815T110000
DTEND;TZID=America/New_York:20220815T150000
DTSTAMP:20260420T023007
CREATED:20220304T222412Z
LAST-MODIFIED:20220304T222412Z
UID:10000607-1660561200-1660575600@qgotv.org
SUMMARY:Showcase 2023 Steering Committee Meeting
DESCRIPTION:Bluebell Room
URL:https://qgotv.org/event/showcase-2023-steering-committee-meeting-8/
LOCATION:Trilium Rec Center @ Brownwood Lofts\, 2660 Trillium Ridge\, The Villages\,\, FL\, 32163\, United States
CATEGORIES:Guild Committee Meetings
END:VEVENT
BEGIN:VEVENT
DTSTART;TZID=America/New_York:20220814T113000
DTEND;TZID=America/New_York:20220814T153000
DTSTAMP:20260420T023007
CREATED:20210526T231435Z
LAST-MODIFIED:20220921T125850Z
UID:10000469-1660476600-1660491000@qgotv.org
SUMMARY:Sunday at Sterling - Hosted by Whiporwills Chapter
DESCRIPTION:Join us for Sunday Sew. Enjoy the company of your fellow guild members while you work on your own project. Who knows? You might finish a UFO!
URL:https://qgotv.org/event/sunday-at-sterling-2-2022-08-14/
LOCATION:Sterling Heights Recreation Center\, 2508 St Charles Pl.\, The Villages\, FL\, 32162\, United States
CATEGORIES:Open Sews
END:VEVENT
BEGIN:VEVENT
DTSTART;TZID=America/New_York:20220813T090000
DTEND;TZID=America/New_York:20220813T153000
DTSTAMP:20260420T023007
CREATED:20220518T143557Z
LAST-MODIFIED:20220518T143557Z
UID:10000641-1660381200-1660404600@qgotv.org
SUMMARY:M2M - T Shirt Workshop
DESCRIPTION:rescheduled from May \nin Admiral Halsey (craft) room
URL:https://qgotv.org/event/m2m-t-shirt-workshop/
LOCATION:Eisenhower\, 3560 Buena Vista Blvd\, The Villages\, FL\, 32163\, United States
CATEGORIES:Classes,M2M
END:VEVENT
BEGIN:VEVENT
DTSTART;TZID=America/New_York:20220807T113000
DTEND;TZID=America/New_York:20220807T153000
DTSTAMP:20260420T023007
CREATED:20210526T231435Z
LAST-MODIFIED:20220921T130149Z
UID:10000468-1659871800-1659886200@qgotv.org
SUMMARY:Sunday at Sterling - Hosted by Whiporwills Chapter
DESCRIPTION:Join us for Sunday Sew. Enjoy the company of your fellow guild members while you work on your own project. Who knows? You might finish a UFO!
URL:https://qgotv.org/event/sunday-at-sterling-2-2022-08-07/
LOCATION:Sterling Heights Recreation Center\, 2508 St Charles Pl.\, The Villages\, FL\, 32162\, United States
CATEGORIES:Open Sews
ORGANIZER;CN="Yvonne Wecker":MAILTO:qgotvVP@gmail.com
END:VEVENT
BEGIN:VEVENT
DTSTART;TZID=America/New_York:20220803T093000
DTEND;TZID=America/New_York:20220803T153000
DTSTAMP:20260420T023007
CREATED:20220518T155658Z
LAST-MODIFIED:20220705T130212Z
UID:10000649-1659519000-1659540600@qgotv.org
SUMMARY:Visiting Artist - TBD
DESCRIPTION:Lake Miona and Savannah Rooms
URL:https://qgotv.org/event/tbd/
LOCATION:Rohan Recreation Center\, 850 Kristine Way\, The Villages\, FL\, 32163\, United States
CATEGORIES:Classes,Visiting Artist
END:VEVENT
BEGIN:VEVENT
DTSTART;TZID=America/New_York:20220802T190000
DTEND;TZID=America/New_York:20220802T212000
DTSTAMP:20260420T023007
CREATED:20220518T150538Z
LAST-MODIFIED:20220705T125847Z
UID:10000642-1659466800-1659475200@qgotv.org
SUMMARY:Evening Guild Meeting featuring Game Night
DESCRIPTION:Lincoln Theater \ndoor open approximately 6:30 pm
URL:https://qgotv.org/event/evening-guild-meeting-featuring-christa-watson/
LOCATION:Laurel Manor\, 1985 Laurel Manor Dr.\, The Villages\, FL\, 32162\, United States
CATEGORIES:Monthly Guild Meetings
END:VEVENT
BEGIN:VEVENT
DTSTART;TZID=America/New_York:20220802T173000
DTEND;TZID=America/New_York:20220802T183000
DTSTAMP:20260420T023007
CREATED:20220609T225012Z
LAST-MODIFIED:20220609T225012Z
UID:10000660-1659461400-1659465000@qgotv.org
SUMMARY:Showcase 2023 Coordinators Meetings
DESCRIPTION:Jefferson and Washington Rooms
URL:https://qgotv.org/event/showcase-2023-coordinators-meetings/
LOCATION:Laurel Manor\, 1985 Laurel Manor Dr.\, The Villages\, FL\, 32162\, United States
CATEGORIES:Guild Committee Meetings
END:VEVENT
BEGIN:VEVENT
DTSTART;TZID=America/New_York:20220731T113000
DTEND;TZID=America/New_York:20220731T153000
DTSTAMP:20260420T023007
CREATED:20210526T231435Z
LAST-MODIFIED:20220921T125932Z
UID:10000467-1659267000-1659281400@qgotv.org
SUMMARY:Sunday at Sterling - Water Lily Quilters Chapter Hosting
DESCRIPTION:Join us for Sunday Sew. Enjoy the company of your fellow guild members while you work on your own project. Who knows? You might finish a UFO!
URL:https://qgotv.org/event/sunday-at-sterling-2-2022-07-31/
LOCATION:Sterling Heights Recreation Center\, 2508 St Charles Pl.\, The Villages\, FL\, 32162\, United States
CATEGORIES:Open Sews
END:VEVENT
END:VCALENDAR