BEGIN:VCALENDAR
VERSION:2.0
PRODID:-//Quilting Guild of The Villages - ECPv6.15.20//NONSGML v1.0//EN
CALSCALE:GREGORIAN
METHOD:PUBLISH
X-WR-CALNAME:Quilting Guild of The Villages
X-ORIGINAL-URL:https://qgotv.org
X-WR-CALDESC:Events for Quilting Guild of The Villages
REFRESH-INTERVAL;VALUE=DURATION:PT1H
X-Robots-Tag:noindex
X-PUBLISHED-TTL:PT1H
BEGIN:VTIMEZONE
TZID:America/New_York
BEGIN:DAYLIGHT
TZOFFSETFROM:-0500
TZOFFSETTO:-0400
TZNAME:EDT
DTSTART:20220313T070000
END:DAYLIGHT
BEGIN:STANDARD
TZOFFSETFROM:-0400
TZOFFSETTO:-0500
TZNAME:EST
DTSTART:20221106T060000
END:STANDARD
BEGIN:DAYLIGHT
TZOFFSETFROM:-0500
TZOFFSETTO:-0400
TZNAME:EDT
DTSTART:20230312T070000
END:DAYLIGHT
BEGIN:STANDARD
TZOFFSETFROM:-0400
TZOFFSETTO:-0500
TZNAME:EST
DTSTART:20231105T060000
END:STANDARD
BEGIN:DAYLIGHT
TZOFFSETFROM:-0500
TZOFFSETTO:-0400
TZNAME:EDT
DTSTART:20240310T070000
END:DAYLIGHT
BEGIN:STANDARD
TZOFFSETFROM:-0400
TZOFFSETTO:-0500
TZNAME:EST
DTSTART:20241103T060000
END:STANDARD
END:VTIMEZONE
BEGIN:VEVENT
DTSTART;TZID=America/New_York:20230402T113000
DTEND;TZID=America/New_York:20230402T153000
DTSTAMP:20260419T081357
CREATED:20230329T212605Z
LAST-MODIFIED:20230329T212606Z
UID:10000892-1680435000-1680449400@qgotv.org
SUMMARY:Sunday at Sterling Hosted by Happy Hour Chapter
DESCRIPTION:Join us for Sunday Sew. Enjoy the company of your fellow guild members while you work on your own project. Who knows? You might finish a UFO! \nApril Demo is Piping – two options to enhance your binding.   April 2nd @ 1 pm.
URL:https://qgotv.org/event/sunday-at-sterling-hosted-by-happy-hour-chapter-2/
LOCATION:Sterling Heights Recreation Center\, 2508 St Charles Pl.\, The Villages\, FL\, 32162\, United States
CATEGORIES:Open Sews,Sundays at Sterling
ORGANIZER;CN="Yvonne Wecker":MAILTO:qgotvVP@gmail.com
END:VEVENT
BEGIN:VEVENT
DTSTART;TZID=America/New_York:20230404T190000
DTEND;TZID=America/New_York:20230404T205000
DTSTAMP:20260419T081357
CREATED:20230313T164156Z
LAST-MODIFIED:20230313T164156Z
UID:10000780-1680634800-1680641400@qgotv.org
SUMMARY:Evening Guild Meeting featuring Katie Lewis
DESCRIPTION:Lincoln Theater \n  \nDoors open at 6:30 pm
URL:https://qgotv.org/event/evening-guild-meeting-2-5/
LOCATION:Laurel Manor\, 1985 Laurel Manor Dr.\, The Villages\, FL\, 32162\, United States
CATEGORIES:Monthly Guild Meetings
END:VEVENT
BEGIN:VEVENT
DTSTART;TZID=America/New_York:20230405T090000
DTEND;TZID=America/New_York:20230405T153000
DTSTAMP:20260419T081357
CREATED:20230216T000612Z
LAST-MODIFIED:20230329T220552Z
UID:10001022-1680685200-1680708600@qgotv.org
SUMMARY:Visiting Artist Workshop with Katie Lewis
DESCRIPTION:In Lake Miona and Savannah Rooms
URL:https://qgotv.org/event/visiting-artist-workshop-with-katie-lewis/
LOCATION:Rohan Recreation Center\, 850 Kristine Way\, The Villages\, FL\, 32163\, United States
CATEGORIES:Classes,Visiting Artist
END:VEVENT
BEGIN:VEVENT
DTSTART;TZID=America/New_York:20230408T080000
DTEND;TZID=America/New_York:20230408T163000
DTSTAMP:20260419T081357
CREATED:20230313T164619Z
LAST-MODIFIED:20230313T164619Z
UID:10001023-1680940800-1680971400@qgotv.org
SUMMARY:M2M Workshop - Travel Case Project
DESCRIPTION:in the Admiral Halsey (Craft) Room \nJoin Jennifer Greulich  for a three hour workshop and leave with a completed travel case.   Purchase the class on the website under Programs.
URL:https://qgotv.org/event/m2m-workshop-travel-case-project/
LOCATION:Eisenhower\, 3560 Buena Vista Blvd\, The Villages\, FL\, 32163\, United States
CATEGORIES:M2M
END:VEVENT
BEGIN:VEVENT
DTSTART;TZID=America/New_York:20230409T110000
DTEND;TZID=America/New_York:20230409T163000
DTSTAMP:20260419T081357
CREATED:20221129T233159Z
LAST-MODIFIED:20230109T140709Z
UID:10000999-1681038000-1681057800@qgotv.org
SUMMARY:Dear Jane 2023 Group
DESCRIPTION:Craft Room
URL:https://qgotv.org/event/dear-jane-2023-group/2023-04-09/
LOCATION:Laurel Manor\, 1985 Laurel Manor Dr.\, The Villages\, FL\, 32162\, United States
CATEGORIES:Open Sews
END:VEVENT
BEGIN:VEVENT
DTSTART;TZID=America/New_York:20230409T113000
DTEND;TZID=America/New_York:20230409T153000
DTSTAMP:20260419T081357
CREATED:20221225T001225Z
LAST-MODIFIED:20221225T001225Z
UID:10000893-1681039800-1681054200@qgotv.org
SUMMARY:Sunday at Sterling Hosted by Happy Hour Chapter
DESCRIPTION:Join us for Sunday Sew. Enjoy the company of your fellow guild members while you work on your own project. Who knows? You might finish a UFO!
URL:https://qgotv.org/event/sunday-at-sterling-hosted-by-happy-hour-chapter/2023-04-09/
LOCATION:Sterling Heights Recreation Center\, 2508 St Charles Pl.\, The Villages\, FL\, 32162\, United States
CATEGORIES:Open Sews,Sundays at Sterling
ORGANIZER;CN="Yvonne Wecker":MAILTO:qgotvVP@gmail.com
END:VEVENT
BEGIN:VEVENT
DTSTART;TZID=America/New_York:20230416T113000
DTEND;TZID=America/New_York:20230416T153000
DTSTAMP:20260419T081357
CREATED:20221225T001225Z
LAST-MODIFIED:20221225T001225Z
UID:10000894-1681644600-1681659000@qgotv.org
SUMMARY:Sunday at Sterling Hosted by Happy Hour Chapter
DESCRIPTION:Join us for Sunday Sew. Enjoy the company of your fellow guild members while you work on your own project. Who knows? You might finish a UFO!
URL:https://qgotv.org/event/sunday-at-sterling-hosted-by-happy-hour-chapter/2023-04-16/
LOCATION:Sterling Heights Recreation Center\, 2508 St Charles Pl.\, The Villages\, FL\, 32162\, United States
CATEGORIES:Open Sews,Sundays at Sterling
ORGANIZER;CN="Yvonne Wecker":MAILTO:qgotvVP@gmail.com
END:VEVENT
BEGIN:VEVENT
DTSTART;TZID=America/New_York:20230421T090000
DTEND;TZID=America/New_York:20230421T110000
DTSTAMP:20260419T081357
CREATED:20230404T173945Z
LAST-MODIFIED:20230404T173945Z
UID:10001025-1682067600-1682074800@qgotv.org
SUMMARY:Membership Manager Meeting
DESCRIPTION:  \n9:00 – 11:00 Support Group Meeting: Open to all Officers\, Standing and Special Committee Chairs especially Membership Managers \nMonroe Room of Laurel Manor
URL:https://qgotv.org/event/membership-manager-meeting/
LOCATION:Laurel Manor\, 1985 Laurel Manor Dr.\, The Villages\, FL\, 32162\, United States
CATEGORIES:Guild Committee Meetings
END:VEVENT
BEGIN:VEVENT
DTSTART;TZID=America/New_York:20230423T113000
DTEND;TZID=America/New_York:20230423T153000
DTSTAMP:20260419T081357
CREATED:20221225T001225Z
LAST-MODIFIED:20221225T001225Z
UID:10000895-1682249400-1682263800@qgotv.org
SUMMARY:Sunday at Sterling Hosted by Happy Hour Chapter
DESCRIPTION:Join us for Sunday Sew. Enjoy the company of your fellow guild members while you work on your own project. Who knows? You might finish a UFO!
URL:https://qgotv.org/event/sunday-at-sterling-hosted-by-happy-hour-chapter/2023-04-23/
LOCATION:Sterling Heights Recreation Center\, 2508 St Charles Pl.\, The Villages\, FL\, 32162\, United States
CATEGORIES:Open Sews,Sundays at Sterling
ORGANIZER;CN="Yvonne Wecker":MAILTO:qgotvVP@gmail.com
END:VEVENT
BEGIN:VEVENT
DTSTART;TZID=America/New_York:20230425T110000
DTEND;TZID=America/New_York:20230425T123000
DTSTAMP:20260419T081357
CREATED:20220609T231747Z
LAST-MODIFIED:20230704T161135Z
UID:10000690-1682420400-1682425800@qgotv.org
SUMMARY:Program Committee Meeting
DESCRIPTION:Resolute Room
URL:https://qgotv.org/event/program-committee-meeting-10/2023-04-25/
LOCATION:Lake Miona Rec Center\, 1526 Buena Vista Boulevard\, The Villages\, FL\, 32162\, United States
CATEGORIES:Guild Committee Meetings
END:VEVENT
BEGIN:VEVENT
DTSTART;TZID=America/New_York:20230430T113000
DTEND;TZID=America/New_York:20230430T153000
DTSTAMP:20260419T081357
CREATED:20221225T001225Z
LAST-MODIFIED:20221225T001225Z
UID:10000896-1682854200-1682868600@qgotv.org
SUMMARY:Sunday at Sterling Hosted by Happy Hour Chapter
DESCRIPTION:Join us for Sunday Sew. Enjoy the company of your fellow guild members while you work on your own project. Who knows? You might finish a UFO!
URL:https://qgotv.org/event/sunday-at-sterling-hosted-by-happy-hour-chapter/2023-04-30/
LOCATION:Sterling Heights Recreation Center\, 2508 St Charles Pl.\, The Villages\, FL\, 32162\, United States
CATEGORIES:Open Sews,Sundays at Sterling
ORGANIZER;CN="Yvonne Wecker":MAILTO:qgotvVP@gmail.com
END:VEVENT
END:VCALENDAR