BEGIN:VCALENDAR
VERSION:2.0
PRODID:-//Quilting Guild of The Villages - ECPv6.15.20//NONSGML v1.0//EN
CALSCALE:GREGORIAN
METHOD:PUBLISH
X-WR-CALNAME:Quilting Guild of The Villages
X-ORIGINAL-URL:https://qgotv.org
X-WR-CALDESC:Events for Quilting Guild of The Villages
REFRESH-INTERVAL;VALUE=DURATION:PT1H
X-Robots-Tag:noindex
X-PUBLISHED-TTL:PT1H
BEGIN:VTIMEZONE
TZID:America/New_York
BEGIN:DAYLIGHT
TZOFFSETFROM:-0500
TZOFFSETTO:-0400
TZNAME:EDT
DTSTART:20220313T070000
END:DAYLIGHT
BEGIN:STANDARD
TZOFFSETFROM:-0400
TZOFFSETTO:-0500
TZNAME:EST
DTSTART:20221106T060000
END:STANDARD
BEGIN:DAYLIGHT
TZOFFSETFROM:-0500
TZOFFSETTO:-0400
TZNAME:EDT
DTSTART:20230312T070000
END:DAYLIGHT
BEGIN:STANDARD
TZOFFSETFROM:-0400
TZOFFSETTO:-0500
TZNAME:EST
DTSTART:20231105T060000
END:STANDARD
BEGIN:DAYLIGHT
TZOFFSETFROM:-0500
TZOFFSETTO:-0400
TZNAME:EDT
DTSTART:20240310T070000
END:DAYLIGHT
BEGIN:STANDARD
TZOFFSETFROM:-0400
TZOFFSETTO:-0500
TZNAME:EST
DTSTART:20241103T060000
END:STANDARD
END:VTIMEZONE
BEGIN:VEVENT
DTSTART;TZID=America/New_York:20230903T113000
DTEND;TZID=America/New_York:20230903T153000
DTSTAMP:20260419T082613
CREATED:20221225T001739Z
LAST-MODIFIED:20221225T001739Z
UID:10000936-1693740600-1693755000@qgotv.org
SUMMARY:Sunday at Sterling Hosted by Mamies Chapter
DESCRIPTION:Join us for Sunday Sew. Enjoy the company of your fellow guild members while you work on your own project. Who knows? You might finish a UFO!
URL:https://qgotv.org/event/sunday-at-sterling-hosted-by-mamies-chapter/2023-09-03/
LOCATION:Sterling Heights Recreation Center\, 2508 St Charles Pl.\, The Villages\, FL\, 32162\, United States
CATEGORIES:Open Sews,Sundays at Sterling
ORGANIZER;CN="Yvonne Wecker":MAILTO:qgotvVP@gmail.com
END:VEVENT
BEGIN:VEVENT
DTSTART;TZID=America/New_York:20230905T190000
DTEND;TZID=America/New_York:20230905T205000
DTSTAMP:20260419T082613
CREATED:20230704T163148Z
LAST-MODIFIED:20230704T163149Z
UID:10000784-1693940400-1693947000@qgotv.org
SUMMARY:Evening Guild Meeting featuring Tina Craig
DESCRIPTION:Lincoln Theater \n  \nDoors open at 6:30 pm
URL:https://qgotv.org/event/evening-guild-meeting-2-9/
LOCATION:Laurel Manor\, 1985 Laurel Manor Dr.\, The Villages\, FL\, 32162\, United States
CATEGORIES:Monthly Guild Meetings
END:VEVENT
BEGIN:VEVENT
DTSTART;TZID=America/New_York:20230906T090000
DTEND;TZID=America/New_York:20230906T153000
DTSTAMP:20260419T082613
CREATED:20230704T164105Z
LAST-MODIFIED:20230704T164105Z
UID:10001182-1693990800-1694014200@qgotv.org
SUMMARY:Visiting Artist Workshop with Tina Craig
DESCRIPTION:In Lake Miona and Savannah Rooms
URL:https://qgotv.org/event/visiting-artist-workshop-with-tina-craig/
LOCATION:Rohan Recreation Center\, 850 Kristine Way\, The Villages\, FL\, 32163\, United States
CATEGORIES:Classes,Visiting Artist
END:VEVENT
BEGIN:VEVENT
DTSTART;TZID=America/New_York:20230909T090000
DTEND;TZID=America/New_York:20230909T153000
DTSTAMP:20260419T082613
CREATED:20230704T172816Z
LAST-MODIFIED:20230704T172816Z
UID:10001030-1694250000-1694273400@qgotv.org
SUMMARY:M2M Workshop - Interleave Quilt
DESCRIPTION:in the Admiral Halsey (Craft) Room \nTaught by Yvonne Wecker of Whiporwills Chapter.   This is a quilt as you go (QAYG) process. \nMembers purchase class on website \n 
URL:https://qgotv.org/event/m2m-workshop-interleave-quilt/
LOCATION:Eisenhower\, 3560 Buena Vista Blvd\, The Villages\, FL\, 32163\, United States
CATEGORIES:M2M
END:VEVENT
BEGIN:VEVENT
DTSTART;TZID=America/New_York:20230910T110000
DTEND;TZID=America/New_York:20230910T163000
DTSTAMP:20260419T082613
CREATED:20221129T233159Z
LAST-MODIFIED:20230109T140709Z
UID:10001004-1694343600-1694363400@qgotv.org
SUMMARY:Dear Jane 2023 Group
DESCRIPTION:Craft Room
URL:https://qgotv.org/event/dear-jane-2023-group/2023-09-10/
LOCATION:Laurel Manor\, 1985 Laurel Manor Dr.\, The Villages\, FL\, 32162\, United States
CATEGORIES:Open Sews
END:VEVENT
BEGIN:VEVENT
DTSTART;TZID=America/New_York:20230910T113000
DTEND;TZID=America/New_York:20230910T153000
DTSTAMP:20260419T082613
CREATED:20221225T001739Z
LAST-MODIFIED:20221225T001739Z
UID:10000937-1694345400-1694359800@qgotv.org
SUMMARY:Sunday at Sterling Hosted by Mamies Chapter
DESCRIPTION:Join us for Sunday Sew. Enjoy the company of your fellow guild members while you work on your own project. Who knows? You might finish a UFO!
URL:https://qgotv.org/event/sunday-at-sterling-hosted-by-mamies-chapter/2023-09-10/
LOCATION:Sterling Heights Recreation Center\, 2508 St Charles Pl.\, The Villages\, FL\, 32162\, United States
CATEGORIES:Open Sews,Sundays at Sterling
ORGANIZER;CN="Yvonne Wecker":MAILTO:qgotvVP@gmail.com
END:VEVENT
BEGIN:VEVENT
DTSTART;TZID=America/New_York:20230917T113000
DTEND;TZID=America/New_York:20230917T153000
DTSTAMP:20260419T082613
CREATED:20221225T001739Z
LAST-MODIFIED:20221225T001739Z
UID:10000938-1694950200-1694964600@qgotv.org
SUMMARY:Sunday at Sterling Hosted by Mamies Chapter
DESCRIPTION:Join us for Sunday Sew. Enjoy the company of your fellow guild members while you work on your own project. Who knows? You might finish a UFO!
URL:https://qgotv.org/event/sunday-at-sterling-hosted-by-mamies-chapter/2023-09-17/
LOCATION:Sterling Heights Recreation Center\, 2508 St Charles Pl.\, The Villages\, FL\, 32162\, United States
CATEGORIES:Open Sews,Sundays at Sterling
ORGANIZER;CN="Yvonne Wecker":MAILTO:qgotvVP@gmail.com
END:VEVENT
BEGIN:VEVENT
DTSTART;TZID=America/New_York:20230920T090000
DTEND;TZID=America/New_York:20230920T153000
DTSTAMP:20260419T082613
CREATED:20230704T172014Z
LAST-MODIFIED:20230704T172039Z
UID:10001222-1695200400-1695223800@qgotv.org
SUMMARY:QGOTV Academy presents Intro to Half Square Triangles- HSTs
DESCRIPTION:In Clearwater Room \nTaught by Janice Adler of lake Miona Chapter\, members will learn different ways to make HSTs ; how to properly trim up the blocks and then play with various layouts available with HST blocks \nMembers purchase class on website
URL:https://qgotv.org/event/qgotv-academy-presents-intro-to-half-square-triangles-hsts/
LOCATION:Sea Breeze\, 2384 Buena Vista Blvd\, The Villages\, FL\, 32162\, United States
CATEGORIES:M2M
END:VEVENT
BEGIN:VEVENT
DTSTART;TZID=America/New_York:20230924T113000
DTEND;TZID=America/New_York:20230924T153000
DTSTAMP:20260419T082613
CREATED:20221225T001739Z
LAST-MODIFIED:20221225T001739Z
UID:10000939-1695555000-1695569400@qgotv.org
SUMMARY:Sunday at Sterling Hosted by Mamies Chapter
DESCRIPTION:Join us for Sunday Sew. Enjoy the company of your fellow guild members while you work on your own project. Who knows? You might finish a UFO!
URL:https://qgotv.org/event/sunday-at-sterling-hosted-by-mamies-chapter/2023-09-24/
LOCATION:Sterling Heights Recreation Center\, 2508 St Charles Pl.\, The Villages\, FL\, 32162\, United States
CATEGORIES:Open Sews,Sundays at Sterling
ORGANIZER;CN="Yvonne Wecker":MAILTO:qgotvVP@gmail.com
END:VEVENT
BEGIN:VEVENT
DTSTART;TZID=America/New_York:20230926T110000
DTEND;TZID=America/New_York:20230926T123000
DTSTAMP:20260419T082613
CREATED:20230817T181920Z
LAST-MODIFIED:20230817T181920Z
UID:10001291-1695726000-1695731400@qgotv.org
SUMMARY:Program Committee Meeting - Location Change
DESCRIPTION:in Madison Room in Laurel Manor
URL:https://qgotv.org/event/program-committee-meeting-location-change/
LOCATION:Laurel Manor\, 1985 Laurel Manor Dr.\, The Villages\, FL\, 32162\, United States
CATEGORIES:Guild Committee Meetings
END:VEVENT
END:VCALENDAR